{"text_format":"1","workbook":"xlsx","n_sheets":12,"sheets":["UniPlus Instructions","INPUT","BRLRWT","Min_Max_Table","Chart1","EvisWT","BreastWT","ThighWT","DrumWT","WingWT","Breed","Historical_Data"],"not_rendered":{"charts":8,"images":26,"macros":1,"external_links":0,"defined_names":7,"comments":0,"pivot_tables":0},"unopened":[{"sheet":"Chart1","index":4,"reason":"not_a_worksheet"}],"bounds":{"document_bytes":16777216,"sheet_cells":100000,"rows_first":2000,"rows_last":500,"rows_between":2000,"halvings":0,"cell_chars":16384,"cell_head_chars":4096},"cells_cut":0,"cells_raw":0,"read":"whole","date_system":"1900"}

{"sheet":"UniPlus Instructions","index":0,"n_rows":40,"n_cols":16,"rows_kept":40,"cut":false,"hidden":false,"merged":[]}
[]
[]
[]
[null,"UniPlus"]
[]
[]
[null,"Introduction"]
[]
[]
[]
[]
[]
[]
[]
[]
[]
[]
[]
[]
[]
[]
[]
[]
[]
[]
[]
[]
[]
[]
[]
[]
[]
[]
[]
[]
[]
[]
[]
[]
[null,null,null,null,null,null,null,null,null,null,null,null,null,null,null," "]

{"sheet":"INPUT","index":1,"n_rows":50020,"n_cols":15,"rows_kept":4500,"cut":true,"hidden":false,"merged":[[1,11,1,12],[2,11,3,12],[8,1,8,3],[8,6,8,8],[21,4,21,6],[18,10,18,11],[19,10,19,11],[8,10,8,12],[9,12,10,12]],"bounds":{"rows_first":2000,"rows_last":500,"rows_between":2000,"halvings":0}}
[null,null,null,null,null,null,null,null,null,null,null,null,null,null,0]
[]
[]
[]
[]
[]
["       1. Settings"]
[]
[null,"Weight Unit",null,null,null,null,"Data Composition",null,null,null,"Uniformity Range (%)"]
[null,2,null,null,null,null,null,1,null,null,null,null,10]
[]
[]
[]
[]
["       2. Data Information"]
[]
[2,"Option A - Input sample data below",null,null,null,null,null,null,null,"Option B - Input sample mean & C.V. %"]
[]
[null,"No.","Weight",null,null,null,null,null,null,"Mean",8]
[null,{"$f":"IF(C20<>\"\",1,\"\")","v":""},null,null,null,null,"C.V. %",null,null,null,12]
[null,{"$f":"IF(C21<>\"\",B20+1,\"\")","v":""}]
[null,{"$f":"IF(C22<>\"\",B21+1,\"\")","v":""},null,null,"Brief Summary"]
[null,"",null,null,"Average","Std. Dev.","C.V. %"]
[null,"",null,null,{"$f":"IF(COUNTA(C20:C1048576)>0,AVERAGE(C20:C1048576),\"\")","v":""},{"$f":"IF(COUNTA(C20:C1048576)>1,_xlfn.STDEV.S(C20:C1048576),\"\")","v":""},{"$f":"IF(COUNTA(C20:C1048576)>1,F24/E24*100,\"\")","v":""}]
[null,""]
[null,""]
[null,""]
[null,""]
[null,""]
[null,""]
[null,""]
[null,""]
[null,""]
[null,""]
[null,""]
[null,""]
[null,""]
[null,""]
[null,""]
[null,""]
[null,""]
[null,""]
[null,""]
[null,""]
[null,""]
[null,""]
[null,""]
[null,""]
[null,""]
[null,""]
[null,""]
[null,""]
[null,""]
[null,""]
[null,""]
[null,""]
[null,""]
[null,""]
[null,""]
[null,""]
[null,""]
[null,""]
[null,""]
[null,""]
[null,""]
[null,""]
[null,""]
[null,""]
[null,""]
[null,""]
[null,""]
[null,""]
[null,""]
[null,""]
[null,""]
[null,""]
[null,""]
[null,""]
[null,""]
[null,""]
[null,""]
[null,""]
[null,""]
[null,""]
[null,""]
[null,{"$f":"IF(C86<>\"\",B85+1,\"\")","v":""}]
[null,""]
[null,""]
[null,""]
[null,""]
[null,""]
[null,""]
[null,""]
[null,""]
[null,""]
[null,""]
[null,""]
[null,""]
[null,""]
[null,""]
[null,""]
[null,""]
[null,""]
[null,""]
[null,""]
[null,""]
[null,""]
[null,""]
[null,""]
[null,""]
[null,""]
[null,""]
[null,""]
[null,""]
[null,""]
[null,""]
[null,""]
[null,""]
[null,""]
[null,""]
[null,""]
[null,""]
[null,""]
[null,""]
[null,""]
[null,""]
[null,""]
[null,""]
[null,""]
[null,""]
[null,""]
[null,""]
[null,""]
[null,""]
[null,""]
[null,""]
[null,""]
[null,""]
[null,""]
[null,""]
[null,""]
[null,""]
[null,""]
[null,""]
[null,""]
[null,""]
[null,""]
[null,""]
[null,""]
[null,{"$f":"IF(C150<>\"\",B149+1,\"\")","v":""}]
[null,""]
[null,""]
[null,""]
[null,""]
[null,""]
[null,""]
[null,""]
[null,""]
[null,""]
[null,""]
[null,""]
[null,""]
[null,""]
[null,""]
[null,""]
[null,""]
[null,""]
[null,""]
[null,""]
[null,""]
[null,""]
[null,""]
[null,""]
[null,""]
[null,""]
[null,""]
[null,""]
[null,""]
[null,""]
[null,""]
[null,""]
[null,""]
[null,""]
[null,""]
[null,""]
[null,""]
[null,""]
[null,""]
[null,""]
[null,""]
[null,""]
[null,""]
[null,""]
[null,""]
[null,""]
[null,""]
[null,""]
[null,""]
[null,""]
[null,""]
[null,""]
[null,""]
[null,""]
[null,""]
[null,""]
[null,""]
[null,""]
[null,""]
[null,""]
[null,""]
[null,""]
[null,""]
[null,""]
[null,{"$f":"IF(C214<>\"\",B213+1,\"\")","v":""}]
[null,""]
[null,""]
[null,""]
[null,""]
[null,""]
[null,""]
[null,""]
[null,""]
[null,""]
[null,""]
[null,""]
[null,""]
[null,""]
[null,""]
[null,""]
[null,""]
[null,""]
[null,""]
[null,""]
[null,""]
[null,""]
[null,""]
[null,""]
[null,""]
[null,""]
[null,""]
[null,""]
[null,""]
[null,""]
[null,""]
[null,""]
[null,""]
[null,""]
[null,""]
[null,""]
[null,""]
[null,""]
[null,""]
[null,""]
[null,""]
[null,""]
[null,""]
[null,""]
[null,""]
[null,""]
[null,""]
[null,""]
[null,""]
[null,""]
[null,""]
[null,""]
[null,""]
[null,""]
[null,""]
[null,""]
[null,""]
[null,""]
[null,""]
[null,""]
[null,""]
[null,""]
[null,""]
[null,""]
[null,{"$f":"IF(C278<>\"\",B277+1,\"\")","v":""}]
[null,""]
[null,""]
[null,""]
[null,""]
[null,""]
[null,""]
[null,""]
[null,""]
[null,""]
[null,""]
[null,""]
[null,""]
[null,""]
[null,""]
[null,""]
[null,""]
[null,""]
[null,""]
[null,""]
[null,""]
[null,""]
[null,""]
[null,""]
[null,""]
[null,""]
[null,""]
[null,""]
[null,""]
[null,""]
[null,""]
[null,""]
[null,""]
[null,""]
[null,""]
[null,""]
[null,""]
[null,""]
[null,""]
[null,""]
[null,""]
[null,""]
[null,""]
[null,""]
[null,""]
[null,""]
[null,""]
[null,""]
[null,""]
[null,""]
[null,""]
[null,""]
[null,""]
[null,""]
[null,""]
[null,""]
[null,""]
[null,""]
[null,""]
[null,""]
[null,""]
[null,""]
[null,""]
[null,""]
[null,{"$f":"IF(C342<>\"\",B341+1,\"\")","v":""}]
[null,""]
[null,""]
[null,""]
[null,""]
[null,""]
[null,""]
[null,""]
[null,""]
[null,""]
[null,""]
[null,""]
[null,""]
[null,""]
[null,""]
[null,""]
[null,""]
[null,""]
[null,""]
[null,""]
[null,""]
[null,""]
[null,""]
[null,""]
[null,""]
[null,""]
[null,""]
[null,""]
[null,""]
[null,""]
[null,""]
[null,""]
[null,""]
[null,""]
[null,""]
[null,""]
[null,""]
[null,""]
[null,""]
[null,""]
[null,""]
[null,""]
[null,""]
[null,""]
[null,""]
[null,""]
[null,""]
[null,""]
[null,""]
[null,""]
[null,""]
[null,""]
[null,""]
[null,""]
[null,""]
[null,""]
[null,""]
[null,""]
[null,""]
[null,""]
[null,""]
[null,""]
[null,""]
[null,""]
[null,{"$f":"IF(C406<>\"\",B405+1,\"\")","v":""}]
[null,""]
[null,""]
[null,""]
[null,""]
[null,""]
[null,""]
[null,""]
[null,""]
[null,""]
[null,""]
[null,""]
[null,""]
[null,""]
[null,""]
[null,""]
[null,""]
[null,""]
[null,""]
[null,""]
[null,""]
[null,""]
[null,""]
[null,""]
[null,""]
[null,""]
[null,""]
[null,""]
[null,""]
[null,""]
[null,""]
[null,""]
[null,""]
[null,""]
[null,""]
[null,""]
[null,""]
[null,""]
[null,""]
[null,""]
[null,""]
[null,""]
[null,""]
[null,""]
[null,""]
[null,""]
[null,""]
[null,""]
[null,""]
[null,""]
[null,""]
[null,""]
[null,""]
[null,""]
[null,""]
[null,""]
[null,""]
[null,""]
[null,""]
[null,""]
[null,""]
[null,""]
[null,""]
[null,""]
[null,{"$f":"IF(C470<>\"\",B469+1,\"\")","v":""}]
[null,""]
[null,""]
[null,""]
[null,""]
[null,""]
[null,""]
[null,""]
[null,""]
[null,""]
[null,""]
[null,""]
[null,""]
[null,""]
[null,""]
[null,""]
[null,""]
[null,""]
[null,""]
[null,""]
[null,""]
[null,""]
[null,""]
[null,""]
[null,""]
[null,""]
[null,""]
[null,""]
[null,""]
[null,""]
[null,""]
[null,""]
[null,""]
[null,""]
[null,""]
[null,""]
[null,""]
[null,""]
[null,""]
[null,""]
[null,""]
[null,""]
[null,""]
[null,""]
[null,""]
[null,""]
[null,""]
[null,""]
[null,""]
[null,""]
[null,""]
[null,""]
[null,""]
[null,""]
[null,""]
[null,""]
[null,""]
[null,""]
[null,""]
[null,""]
[null,""]
[null,""]
[null,""]
[null,""]
[null,{"$f":"IF(C534<>\"\",B533+1,\"\")","v":""}]
[null,""]
[null,""]
[null,""]
[null,""]
[null,""]
[null,""]
[null,""]
[null,""]
[null,""]
[null,""]
[null,""]
[null,""]
[null,""]
[null,""]
[null,""]
[null,""]
[null,""]
[null,""]
[null,""]
[null,""]
[null,""]
[null,""]
[null,""]
[null,""]
[null,""]
[null,""]
[null,""]
[null,""]
[null,""]
[null,""]
[null,""]
[null,""]
[null,""]
[null,""]
[null,""]
[null,""]
[null,""]
[null,""]
[null,""]
[null,""]
[null,""]
[null,""]
[null,""]
[null,""]
[null,""]
[null,""]
[null,""]
[null,""]
[null,""]
[null,""]
[null,""]
[null,""]
[null,""]
[null,""]
[null,""]
[null,""]
[null,""]
[null,""]
[null,""]
[null,""]
[null,""]
[null,""]
[null,""]
[null,{"$f":"IF(C598<>\"\",B597+1,\"\")","v":""}]
[null,""]
[null,""]
[null,""]
[null,""]
[null,""]
[null,""]
[null,""]
[null,""]
[null,""]
[null,""]
[null,""]
[null,""]
[null,""]
[null,""]
[null,""]
[null,""]
[null,""]
[null,""]
[null,""]
[null,""]
[null,""]
[null,""]
[null,""]
[null,""]
[null,""]
[null,""]
[null,""]
[null,""]
[null,""]
[null,""]
[null,""]
[null,""]
[null,""]
[null,""]
[null,""]
[null,""]
[null,""]
[null,""]
[null,""]
[null,""]
[null,""]
[null,""]
[null,""]
[null,""]
[null,""]
[null,""]
[null,""]
[null,""]
[null,""]
[null,""]
[null,""]
[null,""]
[null,""]
[null,""]
[null,""]
[null,""]
[null,""]
[null,""]
[null,""]
[null,""]
[null,""]
[null,""]
[null,""]
[null,{"$f":"IF(C662<>\"\",B661+1,\"\")","v":""}]
[null,""]
[null,""]
[null,""]
[null,""]
[null,""]
[null,""]
[null,""]
[null,""]
[null,""]
[null,""]
[null,""]
[null,""]
[null,""]
[null,""]
[null,""]
[null,""]
[null,""]
[null,""]
[null,""]
[null,""]
[null,""]
[null,""]
[null,""]
[null,""]
[null,""]
[null,""]
[null,""]
[null,""]
[null,""]
[null,""]
[null,""]
[null,""]
[null,""]
[null,""]
[null,""]
[null,""]
[null,""]
[null,""]
[null,""]
[null,""]
[null,""]
[null,""]
[null,""]
[null,""]
[null,""]
[null,""]
[null,""]
[null,""]
[null,""]
[null,""]
[null,""]
[null,""]
[null,""]
[null,""]
[null,""]
[null,""]
[null,""]
[null,""]
[null,""]
[null,""]
[null,""]
[null,""]
[null,""]
[null,{"$f":"IF(C726<>\"\",B725+1,\"\")","v":""}]
[null,""]
[null,""]
[null,""]
[null,""]
[null,""]
[null,""]
[null,""]
[null,""]
[null,""]
[null,""]
[null,""]
[null,""]
[null,""]
[null,""]
[null,""]
[null,""]
[null,""]
[null,""]
[null,""]
[null,""]
[null,""]
[null,""]
[null,""]
[null,""]
[null,""]
[null,""]
[null,""]
[null,""]
[null,""]
[null,""]
[null,""]
[null,""]
[null,""]
[null,""]
[null,""]
[null,""]
[null,""]
[null,""]
[null,""]
[null,""]
[null,""]
[null,""]
[null,""]
[null,""]
[null,""]
[null,""]
[null,""]
[null,""]
[null,""]
[null,""]
[null,""]
[null,""]
[null,""]
[null,""]
[null,""]
[null,""]
[null,""]
[null,""]
[null,""]
[null,""]
[null,""]
[null,""]
[null,""]
[null,{"$f":"IF(C790<>\"\",B789+1,\"\")","v":""}]
[null,""]
[null,""]
[null,""]
[null,""]
[null,""]
[null,""]
[null,""]
[null,""]
[null,""]
[null,""]
[null,""]
[null,""]
[null,""]
[null,""]
[null,""]
[null,""]
[null,""]
[null,""]
[null,""]
[null,""]
[null,""]
[null,""]
[null,""]
[null,""]
[null,""]
[null,""]
[null,""]
[null,""]
[null,""]
[null,""]
[null,""]
[null,""]
[null,""]
[null,""]
[null,""]
[null,""]
[null,""]
[null,""]
[null,""]
[null,""]
[null,""]
[null,""]
[null,""]
[null,""]
[null,""]
[null,""]
[null,""]
[null,""]
[null,""]
[null,""]
[null,""]
[null,""]
[null,""]
[null,""]
[null,""]
[null,""]
[null,""]
[null,""]
[null,""]
[null,""]
[null,""]
[null,""]
[null,""]
[null,{"$f":"IF(C854<>\"\",B853+1,\"\")","v":""}]
[null,""]
[null,""]
[null,""]
[null,""]
[null,""]
[null,""]
[null,""]
[null,""]
[null,""]
[null,""]
[null,""]
[null,""]
[null,""]
[null,""]
[null,""]
[null,""]
[null,""]
[null,""]
[null,""]
[null,""]
[null,""]
[null,""]
[null,""]
[null,""]
[null,""]
[null,""]
[null,""]
[null,""]
[null,""]
[null,""]
[null,""]
[null,""]
[null,""]
[null,""]
[null,""]
[null,""]
[null,""]
[null,""]
[null,""]
[null,""]
[null,""]
[null,""]
[null,""]
[null,""]
[null,""]
[null,""]
[null,""]
[null,""]
[null,""]
[null,""]
[null,""]
[null,""]
[null,""]
[null,""]
[null,""]
[null,""]
[null,""]
[null,""]
[null,""]
[null,""]
[null,""]
[null,""]
[null,""]
[null,{"$f":"IF(C918<>\"\",B917+1,\"\")","v":""}]
[null,""]
[null,""]
[null,""]
[null,""]
[null,""]
[null,""]
[null,""]
[null,""]
[null,""]
[null,""]
[null,""]
[null,""]
[null,""]
[null,""]
[null,""]
[null,""]
[null,""]
[null,""]
[null,""]
[null,""]
[null,""]
[null,""]
[null,""]
[null,""]
[null,""]
[null,""]
[null,""]
[null,""]
[null,""]
[null,""]
[null,""]
[null,""]
[null,""]
[null,""]
[null,""]
[null,""]
[null,""]
[null,""]
[null,""]
[null,""]
[null,""]
[null,""]
[null,""]
[null,""]
[null,""]
[null,""]
[null,""]
[null,""]
[null,""]
[null,""]
[null,""]
[null,""]
[null,""]
[null,""]
[null,""]
[null,""]
[null,""]
[null,""]
[null,""]
[null,""]
[null,""]
[null,""]
[null,""]
[null,{"$f":"IF(C982<>\"\",B981+1,\"\")","v":""}]
[null,""]
[null,""]
[null,""]
[null,""]
[null,""]
[null,""]
[null,""]
[null,""]
[null,""]
[null,""]
[null,""]
[null,""]
[null,""]
[null,""]
[null,""]
[null,""]
[null,""]
[null,""]
[null,""]
[null,""]
[null,""]
[null,""]
[null,""]
[null,""]
[null,""]
[null,""]
[null,""]
[null,""]
[null,""]
[null,""]
[null,""]
[null,""]
[null,""]
[null,""]
[null,""]
[null,""]
[null,""]
[null,""]
[null,""]
[null,""]
[null,""]
[null,""]
[null,""]
[null,""]
[null,""]
[null,""]
[null,""]
[null,""]
[null,""]
[null,""]
[null,""]
[null,""]
[null,""]
[null,""]
[null,""]
[null,""]
[null,""]
[null,""]
[null,""]
[null,""]
[null,""]
[null,""]
[null,""]
[null,{"$f":"IF(C1046<>\"\",B1045+1,\"\")","v":""}]
[null,""]
[null,""]
[null,""]
[null,""]
[null,""]
[null,""]
[null,""]
[null,""]
[null,""]
[null,""]
[null,""]
[null,""]
[null,""]
[null,""]
[null,""]
[null,""]
[null,""]
[null,""]
[null,""]
[null,""]
[null,""]
[null,""]
[null,""]
[null,""]
[null,""]
[null,""]
[null,""]
[null,""]
[null,""]
[null,""]
[null,""]
[null,""]
[null,""]
[null,""]
[null,""]
[null,""]
[null,""]
[null,""]
[null,""]
[null,""]
[null,""]
[null,""]
[null,""]
[null,""]
[null,""]
[null,""]
[null,""]
[null,""]
[null,""]
[null,""]
[null,""]
[null,""]
[null,""]
[null,""]
[null,""]
[null,""]
[null,""]
[null,""]
[null,""]
[null,""]
[null,""]
[null,""]
[null,""]
[null,{"$f":"IF(C1110<>\"\",B1109+1,\"\")","v":""}]
[null,""]
[null,""]
[null,""]
[null,""]
[null,""]
[null,""]
[null,""]
[null,""]
[null,""]
[null,""]
[null,""]
[null,""]
[null,""]
[null,""]
[null,""]
[null,""]
[null,""]
[null,""]
[null,""]
[null,""]
[null,""]
[null,""]
[null,""]
[null,""]
[null,""]
[null,""]
[null,""]
[null,""]
[null,""]
[null,""]
[null,""]
[null,""]
[null,""]
[null,""]
[null,""]
[null,""]
[null,""]
[null,""]
[null,""]
[null,""]
[null,""]
[null,""]
[null,""]
[null,""]
[null,""]
[null,""]
[null,""]
[null,""]
[null,""]
[null,""]
[null,""]
[null,""]
[null,""]
[null,""]
[null,""]
[null,""]
[null,""]
[null,""]
[null,""]
[null,""]
[null,""]
[null,""]
[null,""]
[null,{"$f":"IF(C1174<>\"\",B1173+1,\"\")","v":""}]
[null,""]
[null,""]
[null,""]
[null,""]
[null,""]
[null,""]
[null,""]
[null,""]
[null,""]
[null,""]
[null,""]
[null,""]
[null,""]
[null,""]
[null,""]
[null,""]
[null,""]
[null,""]
[null,""]
[null,""]
[null,""]
[null,""]
[null,""]
[null,""]
[null,""]
[null,""]
[null,""]
[null,""]
[null,""]
[null,""]
[null,""]
[null,""]
[null,""]
[null,""]
[null,""]
[null,""]
[null,""]
[null,""]
[null,""]
[null,""]
[null,""]
[null,""]
[null,""]
[null,""]
[null,""]
[null,""]
[null,""]
[null,""]
[null,""]
[null,""]
[null,""]
[null,""]
[null,""]
[null,""]
[null,""]
[null,""]
[null,""]
[null,""]
[null,""]
[null,""]
[null,""]
[null,""]
[null,""]
[null,{"$f":"IF(C1238<>\"\",B1237+1,\"\")","v":""}]
[null,""]
[null,""]
[null,""]
[null,""]
[null,""]
[null,""]
[null,""]
[null,""]
[null,""]
[null,""]
[null,""]
[null,""]
[null,""]
[null,""]
[null,""]
[null,""]
[null,""]
[null,""]
[null,""]
[null,""]
[null,""]
[null,""]
[null,""]
[null,""]
[null,""]
[null,""]
[null,""]
[null,""]
[null,""]
[null,""]
[null,""]
[null,""]
[null,""]
[null,""]
[null,""]
[null,""]
[null,""]
[null,""]
[null,""]
[null,""]
[null,""]
[null,""]
[null,""]
[null,""]
[null,""]
[null,""]
[null,""]
[null,""]
[null,""]
[null,""]
[null,""]
[null,""]
[null,""]
[null,""]
[null,""]
[null,""]
[null,""]
[null,""]
[null,""]
[null,""]
[null,""]
[null,""]
[null,""]
[null,{"$f":"IF(C1302<>\"\",B1301+1,\"\")","v":""}]
[null,""]
[null,""]
[null,""]
[null,""]
[null,""]
[null,""]
[null,""]
[null,""]
[null,""]
[null,""]
[null,""]
[null,""]
[null,""]
[null,""]
[null,""]
[null,""]
[null,""]
[null,""]
[null,""]
[null,""]
[null,""]
[null,""]
[null,""]
[null,""]
[null,""]
[null,""]
[null,""]
[null,""]
[null,""]
[null,""]
[null,""]
[null,""]
[null,""]
[null,""]
[null,""]
[null,""]
[null,""]
[null,""]
[null,""]
[null,""]
[null,""]
[null,""]
[null,""]
[null,""]
[null,""]
[null,""]
[null,""]
[null,""]
[null,""]
[null,""]
[null,""]
[null,""]
[null,""]
[null,""]
[null,""]
[null,""]
[null,""]
[null,""]
[null,""]
[null,""]
[null,""]
[null,""]
[null,""]
[null,{"$f":"IF(C1366<>\"\",B1365+1,\"\")","v":""}]
[null,""]
[null,""]
[null,""]
[null,""]
[null,""]
[null,""]
[null,""]
[null,""]
[null,""]
[null,""]
[null,""]
[null,""]
[null,""]
[null,""]
[null,""]
[null,""]
[null,""]
[null,""]
[null,""]
[null,""]
[null,""]
[null,""]
[null,""]
[null,""]
[null,""]
[null,""]
[null,""]
[null,""]
[null,""]
[null,""]
[null,""]
[null,""]
[null,""]
[null,""]
[null,""]
[null,""]
[null,""]
[null,""]
[null,""]
[null,""]
[null,""]
[null,""]
[null,""]
[null,""]
[null,""]
[null,""]
[null,""]
[null,""]
[null,""]
[null,""]
[null,""]
[null,""]
[null,""]
[null,""]
[null,""]
[null,""]
[null,""]
[null,""]
[null,""]
[null,""]
[null,""]
[null,""]
[null,""]
[null,{"$f":"IF(C1430<>\"\",B1429+1,\"\")","v":""}]
[null,""]
[null,""]
[null,""]
[null,""]
[null,""]
[null,""]
[null,""]
[null,""]
[null,""]
[null,""]
[null,""]
[null,""]
[null,""]
[null,""]
[null,""]
[null,""]
[null,""]
[null,""]
[null,""]
[null,""]
[null,""]
[null,""]
[null,""]
[null,""]
[null,""]
[null,""]
[null,""]
[null,""]
[null,""]
[null,""]
[null,""]
[null,""]
[null,""]
[null,""]
[null,""]
[null,""]
[null,""]
[null,""]
[null,""]
[null,""]
[null,""]
[null,""]
[null,""]
[null,""]
[null,""]
[null,""]
[null,""]
[null,""]
[null,""]
[null,""]
[null,""]
[null,""]
[null,""]
[null,""]
[null,""]
[null,""]
[null,""]
[null,""]
[null,""]
[null,""]
[null,""]
[null,""]
[null,""]
[null,{"$f":"IF(C1494<>\"\",B1493+1,\"\")","v":""}]
[null,""]
[null,""]
[null,""]
[null,""]
[null,""]
[null,""]
[null,""]
[null,""]
[null,""]
[null,""]
[null,""]
[null,""]
[null,""]
[null,""]
[null,""]
[null,""]
[null,""]
[null,""]
[null,""]
[null,""]
[null,""]
[null,""]
[null,""]
[null,""]
[null,""]
[null,""]
[null,""]
[null,""]
[null,""]
[null,""]
[null,""]
[null,""]
[null,""]
[null,""]
[null,""]
[null,""]
[null,""]
[null,""]
[null,""]
[null,""]
[null,""]
[null,""]
[null,""]
[null,""]
[null,""]
[null,""]
[null,""]
[null,""]
[null,""]
[null,""]
[null,""]
[null,""]
[null,""]
[null,""]
[null,""]
[null,""]
[null,""]
[null,""]
[null,""]
[null,""]
[null,""]
[null,""]
[null,""]
[null,{"$f":"IF(C1558<>\"\",B1557+1,\"\")","v":""}]
[null,""]
[null,""]
[null,""]
[null,""]
[null,""]
[null,""]
[null,""]
[null,""]
[null,""]
[null,""]
[null,""]
[null,""]
[null,""]
[null,""]
[null,""]
[null,""]
[null,""]
[null,""]
[null,""]
[null,""]
[null,""]
[null,""]
[null,""]
[null,""]
[null,""]
[null,""]
[null,""]
[null,""]
[null,""]
[null,""]
[null,""]
[null,""]
[null,""]
[null,""]
[null,""]
[null,""]
[null,""]
[null,""]
[null,""]
[null,""]
[null,""]
[null,""]
[null,""]
[null,""]
[null,""]
[null,""]
[null,""]
[null,""]
[null,""]
[null,""]
[null,""]
[null,""]
[null,""]
[null,""]
[null,""]
[null,""]
[null,""]
[null,""]
[null,""]
[null,""]
[null,""]
[null,""]
[null,""]
[null,{"$f":"IF(C1622<>\"\",B1621+1,\"\")","v":""}]
[null,""]
[null,""]
[null,""]
[null,""]
[null,""]
[null,""]
[null,""]
[null,""]
[null,""]
[null,""]
[null,""]
[null,""]
[null,""]
[null,""]
[null,""]
[null,""]
[null,""]
[null,""]
[null,""]
[null,""]
[null,""]
[null,""]
[null,""]
[null,""]
[null,""]
[null,""]
[null,""]
[null,""]
[null,""]
[null,""]
[null,""]
[null,""]
[null,""]
[null,""]
[null,""]
[null,""]
[null,""]
[null,""]
[null,""]
[null,""]
[null,""]
[null,""]
[null,""]
[null,""]
[null,""]
[null,""]
[null,""]
[null,""]
[null,""]
[null,""]
[null,""]
[null,""]
[null,""]
[null,""]
[null,""]
[null,""]
[null,""]
[null,""]
[null,""]
[null,""]
[null,""]
[null,""]
[null,""]
[null,{"$f":"IF(C1686<>\"\",B1685+1,\"\")","v":""}]
[null,""]
[null,""]
[null,""]
[null,""]
[null,""]
[null,""]
[null,""]
[null,""]
[null,""]
[null,""]
[null,""]
[null,""]
[null,""]
[null,""]
[null,""]
[null,""]
[null,""]
[null,""]
[null,""]
[null,""]
[null,""]
[null,""]
[null,""]
[null,""]
[null,""]
[null,""]
[null,""]
[null,""]
[null,""]
[null,""]
[null,""]
[null,""]
[null,""]
[null,""]
[null,""]
[null,""]
[null,""]
[null,""]
[null,""]
[null,""]
[null,""]
[null,""]
[null,""]
[null,""]
[null,""]
[null,""]
[null,""]
[null,""]
[null,""]
[null,""]
[null,""]
[null,""]
[null,""]
[null,""]
[null,""]
[null,""]
[null,""]
[null,""]
[null,""]
[null,""]
[null,""]
[null,""]
[null,""]
[null,{"$f":"IF(C1750<>\"\",B1749+1,\"\")","v":""}]
[null,""]
[null,""]
[null,""]
[null,""]
[null,""]
[null,""]
[null,""]
[null,""]
[null,""]
[null,""]
[null,""]
[null,""]
[null,""]
[null,""]
[null,""]
[null,""]
[null,""]
[null,""]
[null,""]
[null,""]
[null,""]
[null,""]
[null,""]
[null,""]
[null,""]
[null,""]
[null,""]
[null,""]
[null,""]
[null,""]
[null,""]
[null,""]
[null,""]
[null,""]
[null,""]
[null,""]
[null,""]
[null,""]
[null,""]
[null,""]
[null,""]
[null,""]
[null,""]
[null,""]
[null,""]
[null,""]
[null,""]
[null,""]
[null,""]
[null,""]
[null,""]
[null,""]
[null,""]
[null,""]
[null,""]
[null,""]
[null,""]
[null,""]
[null,""]
[null,""]
[null,""]
[null,""]
[null,""]
[null,{"$f":"IF(C1814<>\"\",B1813+1,\"\")","v":""}]
[null,""]
[null,""]
[null,""]
[null,""]
[null,""]
[null,""]
[null,""]
[null,""]
[null,""]
[null,""]
[null,""]
[null,""]
[null,""]
[null,""]
[null,""]
[null,""]
[null,""]
[null,""]
[null,""]
[null,""]
[null,""]
[null,""]
[null,""]
[null,""]
[null,""]
[null,""]
[null,""]
[null,""]
[null,""]
[null,""]
[null,""]
[null,""]
[null,""]
[null,""]
[null,""]
[null,""]
[null,""]
[null,""]
[null,""]
[null,""]
[null,""]
[null,""]
[null,""]
[null,""]
[null,""]
[null,""]
[null,""]
[null,""]
[null,""]
[null,""]
[null,""]
[null,""]
[null,""]
[null,""]
[null,""]
[null,""]
[null,""]
[null,""]
[null,""]
[null,""]
[null,""]
[null,""]
[null,""]
[null,{"$f":"IF(C1878<>\"\",B1877+1,\"\")","v":""}]
[null,""]
[null,""]
[null,""]
[null,""]
[null,""]
[null,""]
[null,""]
[null,""]
[null,""]
[null,""]
[null,""]
[null,""]
[null,""]
[null,""]
[null,""]
[null,""]
[null,""]
[null,""]
[null,""]
[null,""]
[null,""]
[null,""]
[null,""]
[null,""]
[null,""]
[null,""]
[null,""]
[null,""]
[null,""]
[null,""]
[null,""]
[null,""]
[null,""]
[null,""]
[null,""]
[null,""]
[null,""]
[null,""]
[null,""]
[null,""]
[null,""]
[null,""]
[null,""]
[null,""]
[null,""]
[null,""]
[null,""]
[null,""]
[null,""]
[null,""]
[null,""]
[null,""]
[null,""]
[null,""]
[null,""]
[null,""]
[null,""]
[null,""]
[null,""]
[null,""]
[null,""]
[null,""]
[null,""]
[null,{"$f":"IF(C1942<>\"\",B1941+1,\"\")","v":""}]
[null,""]
[null,""]
[null,""]
[null,""]
[null,""]
[null,""]
[null,""]
[null,""]
[null,""]
[null,""]
[null,""]
[null,""]
[null,""]
[null,""]
[null,""]
[null,""]
[null,""]
[null,""]
[null,""]
[null,""]
[null,""]
[null,""]
[null,""]
[null,""]
[null,""]
[null,""]
[null,""]
[null,""]
[null,""]
[null,""]
[null,""]
[null,""]
[null,""]
[null,""]
[null,""]
[null,""]
[null,""]
[null,""]
[null,""]
[null,""]
[null,""]
[null,""]
[null,""]
[null,""]
[null,""]
[null,""]
[null,""]
[null,""]
[null,""]
[null,""]
[null,""]
[null,""]
[null,""]
[null,""]
[null,""]
[null,""]
[null,""]
[null,""]
[null,""]
[null,""]
[null,""]
[null,""]
[null,""]
[null,""]
[null,""]
[null,""]
[null,""]
[null,""]
[null,""]
[null,""]
[null,""]
[null,""]
[null,""]
[null,""]
[null,""]
[null,""]
[null,""]
[null,""]
[null,""]
[null,""]
[null,""]
[null,""]
[null,""]
[null,""]
[null,""]
[null,""]
[null,""]
[null,""]
[null,""]
[null,""]
[null,""]
[null,""]
[null,""]
[null,""]
[null,""]
[null,{"$f":"IF(C2902<>\"\",B2901+1,\"\")","v":""}]
[null,""]
[null,""]
[null,""]
[null,""]
[null,""]
[null,""]
[null,""]
[null,""]
[null,""]
[null,""]
[null,""]
[null,""]
[null,""]
[null,""]
[null,""]
[null,""]
[null,""]
[null,""]
[null,""]
[null,""]
[null,""]
[null,""]
[null,""]
[null,""]
[null,""]
[null,""]
[null,""]
[null,""]
[null,""]
[null,""]
[null,""]
[null,""]
[null,""]
[null,""]
[null,""]
[null,""]
[null,""]
[null,""]
[null,""]
[null,""]
[null,""]
[null,""]
[null,""]
[null,""]
[null,""]
[null,""]
[null,""]
[null,""]
[null,""]
[null,""]
[null,""]
[null,""]
[null,""]
[null,""]
[null,""]
[null,""]
[null,""]
[null,""]
[null,""]
[null,""]
[null,""]
[null,""]
[null,""]
[null,""]
[null,""]
[null,""]
[null,""]
[null,""]
[null,""]
[null,""]
[null,""]
[null,""]
[null,""]
[null,""]
[null,""]
[null,""]
[null,""]
[null,""]
[null,""]
[null,""]
[null,""]
[null,""]
[null,""]
[null,""]
[null,""]
[null,""]
[null,""]
[null,""]
[null,""]
[null,""]
[null,""]
[null,""]
[null,""]
[null,""]
[null,""]
[null,""]
[null,""]
[null,""]
[null,""]
[null,""]
[null,""]
[null,""]
[null,""]
[null,""]
[null,""]
[null,""]
[null,""]
[null,""]
[null,""]
[null,""]
[null,""]
[null,""]
[null,""]
[null,""]
[null,""]
[null,""]
[null,""]
[null,""]
[null,""]
[null,""]
[null,""]
[null,""]
[null,""]
[null,""]
[null,""]
[null,""]
[null,""]
[null,""]
[null,""]
[null,""]
[null,""]
[null,""]
[null,""]
[null,""]
[null,""]
[null,""]
[null,""]
[null,""]
[null,""]
[null,""]
[null,""]
[null,""]
[null,""]
[null,""]
[null,""]
[null,""]
[null,""]
[null,""]
[null,""]
[null,""]
[null,""]
[null,""]
[null,""]
[null,""]
[null,""]
[null,""]
[null,""]
[null,""]
[null,{"$f":"IF(C6678<>\"\",B6677+1,\"\")","v":""}]
[null,""]
[null,""]
[null,""]
[null,""]
[null,""]
[null,""]
[null,""]
[null,""]
[null,""]
[null,""]
[null,""]
[null,""]
[null,""]
[null,""]
[null,""]
[null,""]
[null,""]
[null,""]
[null,""]
[null,""]
[null,""]
[null,""]
[null,""]
[null,""]
[null,""]
[null,""]
[null,""]
[null,""]
[null,""]
[null,""]
[null,""]
[null,""]
[null,""]
[null,""]
[null,""]
[null,""]
[null,""]
[null,""]
[null,""]
[null,""]
[null,""]
[null,""]
[null,""]
[null,""]
[null,""]
[null,""]
[null,""]
[null,""]
[null,""]
[null,""]
[null,""]
[null,""]
[null,""]
[null,""]
[null,""]
[null,""]
[null,""]
[null,""]
[null,""]
[null,""]
[null,""]
[null,""]
[null,""]
[null,""]
[null,""]
[null,""]
[null,""]
[null,""]
[null,""]
[null,""]
[null,""]
[null,""]
[null,""]
[null,""]
[null,""]
[null,""]
[null,""]
[null,""]
[null,""]
[null,""]
[null,""]
[null,""]
[null,""]
[null,""]
[null,""]
[null,""]
[null,""]
[null,""]
[null,""]
[null,""]
[null,""]
[null,""]
[null,""]
[null,""]
[null,""]
[null,""]
[null,""]
[null,""]
[null,""]
[null,""]
[null,""]
[null,""]
[null,""]
[null,""]
[null,{"$f":"IF(C9174<>\"\",B9173+1,\"\")","v":""}]
[null,""]
[null,""]
[null,""]
[null,""]
[null,""]
[null,""]
[null,""]
[null,""]
[null,""]
[null,""]
[null,""]
[null,""]
[null,""]
[null,""]
[null,""]
[null,""]
[null,""]
[null,""]
[null,""]
[null,""]
[null,""]
[null,""]
[null,""]
[null,""]
[null,""]
[null,""]
[null,""]
[null,""]
[null,""]
[null,""]
[null,""]
[null,""]
[null,""]
[null,""]
[null,""]
[null,""]
[null,""]
[null,""]
[null,""]
[null,""]
[null,""]
[null,""]
[null,""]
[null,""]
[null,""]
[null,""]
[null,""]
[null,""]
[null,""]
[null,""]
[null,""]
[null,""]
[null,""]
[null,""]
[null,""]
[null,""]
[null,""]
[null,""]
[null,""]
[null,""]
[null,""]
[null,""]
[null,""]
[null,""]
[null,""]
[null,""]
[null,""]
[null,""]
[null,""]
[null,""]
[null,""]
[null,""]
[null,""]
[null,""]
[null,""]
[null,""]
[null,""]
[null,""]
[null,""]
[null,""]
[null,""]
[null,""]
[null,""]
[null,{"$f":"IF(C11158<>\"\",B11157+1,\"\")","v":""}]
[null,""]
[null,""]
[null,""]
[null,""]
[null,""]
[null,""]
[null,""]
[null,""]
[null,""]
[null,""]
[null,{"$f":"IF(C11414<>\"\",B11413+1,\"\")","v":""}]
[null,""]
[null,""]
[null,""]
[null,""]
[null,""]
[null,""]
[null,""]
[null,""]
[null,""]
[null,""]
[null,""]
[null,""]
[null,""]
[null,""]
[null,""]
[null,""]
[null,""]
[null,""]
[null,""]
[null,""]
[null,""]
[null,""]
[null,""]
[null,""]
[null,""]
[null,""]
[null,""]
[null,""]
[null,""]
[null,""]
[null,""]
[null,""]
[null,""]
[null,""]
[null,""]
[null,""]
[null,""]
[null,""]
[null,""]
[null,""]
[null,""]
[null,""]
[null,""]
[null,""]
[null,""]
[null,""]
[null,""]
[null,""]
[null,""]
[null,""]
[null,""]
[null,""]
[null,""]
[null,""]
[null,""]
[null,""]
[null,""]
[null,""]
[null,""]
[null,""]
[null,""]
[null,{"$f":"IF(C12886<>\"\",B12885+1,\"\")","v":""}]
[null,""]
[null,""]
[null,""]
[null,""]
[null,""]
[null,""]
[null,""]
[null,""]
[null,""]
[null,""]
[null,""]
[null,""]
[null,""]
[null,""]
[null,""]
[null,""]
[null,""]
[null,""]
[null,""]
[null,""]
[null,""]
[null,""]
[null,""]
[null,""]
[null,""]
[null,""]
[null,""]
[null,""]
[null,""]
[null,""]
[null,""]
[null,{"$f":"IF(C13654<>\"\",B13653+1,\"\")","v":""}]
[null,""]
[null,""]
[null,""]
[null,""]
[null,""]
[null,""]
[null,""]
[null,""]
[null,""]
[null,""]
[null,{"$f":"IF(C13910<>\"\",B13909+1,\"\")","v":""}]
[null,""]
[null,""]
[null,""]
[null,""]
[null,""]
[null,""]
[null,""]
[null,""]
[null,""]
[null,""]
[null,""]
[null,""]
[null,""]
[null,""]
[null,""]
[null,""]
[null,""]
[null,""]
[null,""]
[null,""]
[null,""]
[null,""]
[null,""]
[null,""]
[null,""]
[null,""]
[null,""]
[null,""]
[null,""]
[null,""]
[null,""]
[null,""]
[null,""]
[null,""]
[null,""]
[null,""]
[null,""]
[null,""]
[null,""]
[null,""]
[null,""]
[null,""]
[null,""]
[null,""]
[null,""]
[null,""]
[null,""]
[null,""]
[null,""]
[null,""]
[null,""]
[null,""]
[null,""]
[null,""]
[null,""]
[null,""]
[null,""]
[null,""]
[null,""]
[null,""]
[null,""]
[null,""]
[null,""]
[null,""]
[null,""]
[null,""]
[null,""]
[null,""]
[null,""]
[null,""]
[null,""]
[null,""]
[null,""]
[null,""]
[null,""]
[null,""]
[null,""]
[null,""]
[null,""]
[null,""]
[null,""]
[null,""]
[null,""]
[null,""]
[null,""]
[null,""]
[null,""]
[null,""]
[null,""]
[null,""]
[null,""]
[null,""]
[null,""]
[null,""]
[null,""]
[null,""]
[null,""]
[null,""]
[null,""]
[null,""]
[null,""]
[null,""]
[null,""]
[null,""]
[null,{"$f":"IF(C16406<>\"\",B16405+1,\"\")","v":""}]
[null,""]
[null,""]
[null,""]
[null,""]
[null,""]
[null,""]
[null,""]
[null,""]
[null,""]
[null,""]
[null,{"$f":"IF(C16662<>\"\",B16661+1,\"\")","v":""}]
[null,""]
[null,""]
[null,""]
[null,""]
[null,""]
[null,""]
[null,""]
[null,""]
[null,""]
[null,""]
[null,""]
[null,""]
[null,""]
[null,""]
[null,""]
[null,""]
[null,""]
[null,""]
[null,""]
[null,""]
[null,""]
[null,""]
[null,""]
[null,""]
[null,""]
[null,""]
[null,""]
[null,""]
[null,""]
[null,""]
[null,""]
[null,""]
[null,""]
[null,""]
[null,""]
[null,""]
[null,""]
[null,""]
[null,""]
[null,""]
[null,""]
[null,""]
[null,""]
[null,""]
[null,""]
[null,""]
[null,""]
[null,""]
[null,""]
[null,""]
[null,""]
[null,""]
[null,""]
[null,""]
[null,""]
[null,""]
[null,""]
[null,""]
[null,""]
[null,""]
[null,""]
[null,""]
[null,""]
[null,""]
[null,""]
[null,""]
[null,""]
[null,""]
[null,""]
[null,{"$f":"IF(C18326<>\"\",B18325+1,\"\")","v":""}]
[null,""]
[null,""]
[null,""]
[null,""]
[null,""]
[null,""]
[null,""]
[null,""]
[null,""]
[null,""]
[null,""]
[null,""]
[null,""]
[null,""]
[null,""]
[null,""]
[null,""]
[null,""]
[null,""]
[null,""]
[null,""]
[null,""]
[null,""]
[null,{"$f":"IF(C18902<>\"\",B18901+1,\"\")","v":""}]
[null,""]
[null,""]
[null,""]
[null,""]
[null,""]
[null,""]
[null,""]
[null,""]
[null,""]
[null,""]
[null,{"$f":"IF(C19158<>\"\",B19157+1,\"\")","v":""}]
[null,""]
[null,""]
[null,""]
[null,""]
[null,""]
[null,""]
[null,""]
[null,""]
[null,""]
[null,""]
[null,""]
[null,""]
[null,""]
[null,""]
[null,""]
[null,""]
[null,""]
[null,""]
[null,""]
[null,""]
[null,""]
[null,""]
[null,""]
[null,""]
[null,""]
[null,""]
[null,""]
[null,""]
[null,""]
[null,""]
[null,""]
[null,""]
[null,""]
[null,""]
[null,""]
[null,""]
[null,""]
[null,""]
[null,""]
[null,""]
[null,""]
[null,""]
[null,""]
[null,""]
[null,""]
[null,""]
[null,""]
[null,""]
[null,""]
[null,""]
[null,""]
[null,""]
[null,""]
[null,""]
[null,""]
[null,""]
[null,""]
[null,""]
[null,""]
[null,""]
[null,""]
[null,""]
[null,""]
[null,""]
[null,""]
[null,""]
[null,""]
[null,""]
[null,""]
[null,""]
[null,""]
[null,""]
[null,""]
[null,""]
[null,""]
[null,""]
[null,""]
[null,""]
[null,""]
[null,""]
[null,""]
[null,""]
[null,""]
[null,""]
[null,""]
[null,""]
[null,""]
[null,""]
[null,""]
[null,""]
[null,""]
[null,""]
[null,""]
[null,""]
[null,""]
[null,""]
[null,""]
[null,""]
[null,""]
[null,""]
[null,""]
[null,""]
[null,""]
[null,""]
[null,{"$f":"IF(C21654<>\"\",B21653+1,\"\")","v":""}]
[null,""]
[null,""]
[null,""]
[null,""]
[null,""]
[null,""]
[null,""]
[null,""]
[null,""]
[null,""]
[null,""]
[null,""]
[null,""]
[null,""]
[null,""]
[null,""]
[null,""]
[null,""]
[null,""]
[null,""]
[null,""]
[null,""]
[null,""]
[null,""]
[null,""]
[null,""]
[null,""]
[null,""]
[null,""]
[null,""]
[null,""]
[null,""]
[null,""]
[null,""]
[null,""]
[null,""]
[null,""]
[null,""]
[null,""]
[null,""]
[null,""]
[null,""]
[null,""]
[null,""]
[null,""]
[null,""]
[null,""]
[null,""]
[null,""]
[null,""]
[null,""]
[null,""]
[null,""]
[null,""]
[null,""]
[null,""]
[null,""]
[null,""]
[null,""]
[null,""]
[null,""]
[null,""]
[null,""]
[null,""]
[null,""]
[null,""]
[null,""]
[null,""]
[null,""]
[null,""]
[null,""]
[null,""]
[null,""]
[null,""]
[null,""]
[null,""]
[null,""]
[null,""]
[null,""]
[null,""]
[null,""]
[null,""]
[null,""]
[null,""]
[null,""]
[null,""]
[null,""]
[null,""]
[null,""]
[null,""]
[null,""]
[null,""]
[null,""]
[null,""]
[null,""]
[null,""]
[null,""]
[null,""]
[null,""]
[null,""]
[null,""]
[null,""]
[null,""]
[null,""]
[null,{"$f":"IF(C24150<>\"\",B24149+1,\"\")","v":""}]
[null,""]
[null,""]
[null,""]
[null,""]
[null,""]
[null,""]
[null,""]
[null,""]
[null,""]
[null,""]
[null,""]
[null,""]
[null,""]
[null,""]
[null,""]
[null,""]
[null,""]
[null,""]
[null,""]
[null,""]
[null,""]
[null,""]
[null,""]
[null,""]
[null,""]
[null,""]
[null,""]
[null,""]
[null,""]
[null,""]
[null,""]
[null,""]
[null,""]
[null,""]
[null,""]
[null,""]
[null,""]
[null,""]
[null,""]
[null,""]
[null,""]
[null,""]
[null,""]
[null,""]
[null,""]
[null,""]
[null,""]
[null,""]
[null,""]
[null,""]
[null,""]
[null,""]
[null,""]
[null,""]
[null,""]
[null,""]
[null,""]
[null,""]
[null,""]
[null,""]
[null,""]
[null,""]
[null,""]
[null,{"$f":"IF(C25686<>\"\",B25685+1,\"\")","v":""}]
[null,""]
[null,""]
[null,""]
[null,""]
[null,""]
[null,""]
[null,""]
[null,""]
[null,""]
[null,""]
[null,""]
[null,""]
[null,""]
[null,""]
[null,""]
[null,""]
[null,""]
[null,""]
[null,""]
[null,""]
[null,""]
[null,""]
[null,""]
[null,""]
[null,""]
[null,""]
[null,""]
[null,""]
[null,""]
[null,""]
[null,""]
[null,""]
[null,""]
[null,""]
[null,""]
[null,""]
[null,""]
[null,""]
[null,""]
[null,""]
[null,""]
[null,""]
[null,""]
[null,""]
[null,""]
[null,""]
[null,""]
[null,""]
[null,""]
[null,""]
[null,""]
[null,""]
[null,""]
[null,""]
[null,""]
[null,""]
[null,""]
[null,""]
[null,""]
[null,""]
[null,""]
[null,""]
[null,""]
[null,""]
[null,""]
[null,""]
[null,""]
[null,""]
[null,""]
[null,""]
[null,""]
[null,""]
[null,""]
[null,""]
[null,""]
[null,""]
[null,""]
[null,""]
[null,""]
[null,""]
[null,""]
[null,""]
[null,""]
[null,""]
[null,""]
[null,""]
[null,""]
[null,""]
[null,""]
[null,""]
[null,""]
[null,""]
[null,""]
[null,""]
[null,""]
[null,""]
[null,""]
[null,""]
[null,""]
[null,""]
[null,""]
[null,""]
[null,""]
[null,""]
[null,{"$f":"IF(C28182<>\"\",B28181+1,\"\")","v":""}]
[null,""]
[null,""]
[null,""]
[null,""]
[null,""]
[null,""]
[null,""]
[null,""]
[null,""]
[null,""]
[null,""]
[null,""]
[null,""]
[null,""]
[null,""]
[null,""]
[null,""]
[null,""]
[null,""]
[null,""]
[null,""]
[null,""]
[null,""]
[null,""]
[null,""]
[null,""]
[null,""]
[null,""]
[null,""]
[null,""]
[null,""]
[null,""]
[null,""]
[null,""]
[null,""]
[null,""]
[null,""]
[null,""]
[null,""]
[null,""]
[null,""]
[null,""]
[null,""]
[null,""]
[null,""]
[null,""]
[null,""]
[null,""]
[null,""]
[null,""]
[null,""]
[null,""]
[null,""]
[null,""]
[null,""]
[null,""]
[null,""]
[null,""]
[null,""]
[null,""]
[null,""]
[null,""]
[null,""]
[null,""]
[null,""]
[null,""]
[null,""]
[null,""]
[null,""]
[null,""]
[null,""]
[null,""]
[null,""]
[null,""]
[null,""]
[null,""]
[null,""]
[null,""]
[null,""]
[null,""]
[null,""]
[null,""]
[null,""]
[null,""]
[null,""]
[null,""]
[null,""]
[null,""]
[null,""]
[null,""]
[null,""]
[null,""]
[null,""]
[null,""]
[null,""]
[null,""]
[null,""]
[null,""]
[null,""]
[null,""]
[null,""]
[null,""]
[null,""]
[null,""]
[null,{"$f":"IF(C30678<>\"\",B30677+1,\"\")","v":""}]
[null,""]
[null,""]
[null,""]
[null,""]
[null,""]
[null,""]
[null,""]
[null,""]
[null,""]
[null,""]
[null,{"$f":"IF(C30934<>\"\",B30933+1,\"\")","v":""}]
[null,""]
[null,""]
[null,""]
[null,""]
[null,""]
[null,""]
[null,""]
[null,""]
[null,""]
[null,""]
[null,""]
[null,""]
[null,""]
[null,""]
[null,""]
[null,""]
[null,""]
[null,""]
[null,""]
[null,""]
[null,""]
[null,""]
[null,""]
[null,""]
[null,""]
[null,""]
[null,""]
[null,""]
[null,""]
[null,""]
[null,""]
[null,""]
[null,""]
[null,""]
[null,""]
[null,""]
[null,""]
[null,""]
[null,""]
[null,""]
[null,""]
[null,""]
[null,""]
[null,""]
[null,""]
[null,""]
[null,""]
[null,""]
[null,{"$f":"IF(C32086<>\"\",B32085+1,\"\")","v":""}]
[null,""]
[null,""]
[null,""]
[null,""]
[null,""]
[null,""]
[null,""]
[null,""]
[null,""]
[null,""]
[null,""]
[null,""]
[null,""]
[null,""]
[null,""]
[null,""]
[null,""]
[null,""]
[null,""]
[null,""]
[null,""]
[null,""]
[null,""]
[null,""]
[null,""]
[null,""]
[null,""]
[null,""]
[null,""]
[null,""]
[null,""]
[null,""]
[null,""]
[null,""]
[null,""]
[null,""]
[null,""]
[null,""]
[null,""]
[null,""]
[null,""]
[null,""]
[null,""]
[null,""]
[null,""]
[null,""]
[null,""]
[null,""]
[null,""]
[null,""]
[null,""]
[null,""]
[null,""]
[null,""]
[null,""]
[null,{"$f":"IF(C33430<>\"\",B33429+1,\"\")","v":""}]
[null,""]
[null,""]
[null,""]
[null,""]
[null,""]
[null,""]
[null,""]
[null,""]
[null,""]
[null,""]
[null,""]
[null,""]
[null,""]
[null,""]
[null,""]
[null,""]
[null,""]
[null,""]
[null,""]
[null,""]
[null,""]
[null,""]
[null,""]
[null,""]
[null,""]
[null,""]
[null,""]
[null,""]
[null,""]
[null,""]
[null,""]
[null,""]
[null,""]
[null,""]
[null,""]
[null,""]
[null,""]
[null,""]
[null,""]
[null,""]
[null,""]
[null,""]
[null,""]
[null,""]
[null,""]
[null,""]
[null,""]
[null,""]
[null,""]
[null,""]
[null,""]
[null,""]
[null,""]
[null,""]
[null,""]
[null,""]
[null,""]
[null,""]
[null,""]
[null,""]
[null,""]
[null,""]
[null,""]
[null,""]
[null,""]
[null,""]
[null,""]
[null,""]
[null,""]
[null,""]
[null,""]
[null,""]
[null,""]
[null,""]
[null,""]
[null,""]
[null,""]
[null,""]
[null,""]
[null,""]
[null,""]
[null,""]
[null,""]
[null,{"$f":"IF(C35414<>\"\",B35413+1,\"\")","v":""}]
[null,""]
[null,""]
[null,""]
[null,""]
[null,""]
[null,""]
[null,""]
[null,""]
[null,""]
[null,""]
[null,{"$f":"IF(C35670<>\"\",B35669+1,\"\")","v":""}]
[null,""]
[null,""]
[null,""]
[null,""]
[null,""]
[null,""]
[null,""]
[null,{"$f":"IF(C35862<>\"\",B35861+1,\"\")","v":""}]
[null,""]
[null,""]
[null,""]
[null,""]
[null,""]
[null,""]
[null,""]
[null,""]
[null,""]
[null,""]
[null,""]
[null,""]
[null,""]
[null,""]
[null,""]
[null,""]
[null,""]
[null,""]
[null,""]
[null,""]
[null,""]
[null,""]
[null,""]
[null,""]
[null,""]
[null,""]
[null,""]
[null,""]
[null,""]
[null,""]
[null,""]
[null,""]
[null,""]
[null,""]
[null,""]
[null,""]
[null,""]
[null,""]
[null,""]
[null,""]
[null,""]
[null,""]
[null,""]
[null,""]
[null,""]
[null,""]
[null,""]
[null,""]
[null,""]
[null,""]
[null,""]
[null,""]
[null,""]
[null,""]
[null,""]
[null,""]
[null,""]
[null,""]
[null,""]
[null,""]
[null,""]
[null,""]
[null,""]
[null,""]
[null,""]
[null,""]
[null,""]
[null,""]
[null,""]
[null,{"$f":"IF(C37526<>\"\",B37525+1,\"\")","v":""}]
[null,""]
[null,""]
[null,""]
[null,""]
[null,""]
[null,""]
[null,""]
[null,""]
[null,""]
[null,""]
[null,""]
[null,""]
[null,""]
[null,""]
[null,""]
[null,{"$f":"IF(C37910<>\"\",B37909+1,\"\")","v":""}]
[null,""]
[null,""]
[null,""]
[null,""]
[null,""]
[null,""]
[null,""]
[null,""]
[null,""]
[null,""]
[null,{"$f":"IF(C38166<>\"\",B38165+1,\"\")","v":""}]
[null,""]
[null,""]
[null,""]
[null,""]
[null,""]
[null,""]
[null,""]
[null,""]
[null,""]
[null,""]
[null,""]
[null,""]
[null,""]
[null,""]
[null,""]
[null,""]
[null,""]
[null,""]
[null,""]
[null,""]
[null,""]
[null,""]
[null,""]
[null,""]
[null,""]
[null,""]
[null,""]
[null,""]
[null,""]
[null,""]
[null,""]
[null,""]
[null,""]
[null,""]
[null,""]
[null,""]
[null,""]
[null,""]
[null,""]
[null,""]
[null,""]
[null,""]
[null,""]
[null,""]
[null,""]
[null,""]
[null,""]
[null,""]
[null,""]
[null,""]
[null,""]
[null,""]
[null,""]
[null,""]
[null,""]
[null,""]
[null,""]
[null,""]
[null,""]
[null,""]
[null,""]
[null,""]
[null,""]
[null,""]
[null,""]
[null,""]
[null,""]
[null,""]
[null,""]
[null,""]
[null,""]
[null,""]
[null,""]
[null,""]
[null,""]
[null,""]
[null,""]
[null,""]
[null,""]
[null,""]
[null,""]
[null,""]
[null,""]
[null,""]
[null,""]
[null,""]
[null,""]
[null,""]
[null,""]
[null,""]
[null,""]
[null,""]
[null,""]
[null,""]
[null,""]
[null,""]
[null,""]
[null,""]
[null,""]
[null,""]
[null,""]
[null,""]
[null,""]
[null,""]
[null,{"$f":"IF(C40662<>\"\",B40661+1,\"\")","v":""}]
[null,""]
[null,""]
[null,""]
[null,""]
[null,""]
[null,""]
[null,""]
[null,""]
[null,""]
[null,""]
[null,""]
[null,""]
[null,""]
[null,""]
[null,""]
[null,""]
[null,""]
[null,""]
[null,""]
[null,""]
[null,""]
[null,""]
[null,""]
[null,""]
[null,""]
[null,""]
[null,""]
[null,""]
[null,""]
[null,""]
[null,""]
[null,""]
[null,""]
[null,""]
[null,""]
[null,""]
[null,""]
[null,""]
[null,""]
[null,""]
[null,""]
[null,""]
[null,""]
[null,""]
[null,""]
[null,""]
[null,""]
[null,""]
[null,""]
[null,""]
[null,""]
[null,""]
[null,""]
[null,""]
[null,""]
[null,""]
[null,""]
[null,""]
[null,""]
[null,""]
[null,""]
[null,""]
[null,""]
[null,""]
[null,""]
[null,""]
[null,""]
[null,""]
[null,""]
[null,""]
[null,""]
[null,""]
[null,""]
[null,""]
[null,""]
[null,""]
[null,""]
[null,""]
[null,""]
[null,""]
[null,""]
[null,""]
[null,""]
[null,""]
[null,""]
[null,""]
[null,""]
[null,""]
[null,""]
[null,""]
[null,""]
[null,""]
[null,""]
[null,""]
[null,""]
[null,""]
[null,""]
[null,""]
[null,""]
[null,""]
[null,""]
[null,""]
[null,""]
[null,""]
[null,{"$f":"IF(C43158<>\"\",B43157+1,\"\")","v":""}]
[null,""]
[null,""]
[null,""]
[null,""]
[null,""]
[null,""]
[null,""]
[null,""]
[null,""]
[null,""]
[null,{"$f":"IF(C43414<>\"\",B43413+1,\"\")","v":""}]
[null,""]
[null,""]
[null,""]
[null,""]
[null,""]
[null,""]
[null,""]
[null,""]
[null,""]
[null,""]
[null,""]
[null,""]
[null,""]
[null,""]
[null,""]
[null,""]
[null,""]
[null,""]
[null,""]
[null,""]
[null,""]
[null,""]
[null,""]
[null,""]
[null,""]
[null,""]
[null,""]
[null,""]
[null,""]
[null,""]
[null,""]
[null,{"$f":"IF(C44182<>\"\",B44181+1,\"\")","v":""}]
[null,""]
[null,""]
[null,""]
[null,""]
[null,""]
[null,""]
[null,""]
[null,""]
[null,""]
[null,""]
[null,""]
[null,""]
[null,""]
[null,""]
[null,""]
[null,""]
[null,""]
[null,""]
[null,""]
[null,""]
[null,{"$f":"IF(C44694<>\"\",B44693+1,\"\")","v":""}]
[null,""]
[null,""]
[null,""]
[null,""]
[null,""]
[null,""]
[null,""]
[null,""]
[null,""]
[null,""]
[null,""]
[null,""]
[null,""]
[null,""]
[null,""]
[null,""]
[null,""]
[null,""]
[null,""]
[null,""]
[null,""]
[null,""]
[null,""]
[null,""]
[null,""]
[null,""]
[null,""]
[null,""]
[null,""]
[null,""]
[null,""]
[null,""]
[null,""]
[null,""]
[null,""]
[null,""]
[null,""]
[null,""]
[null,""]
[null,""]
[null,""]
[null,""]
[null,""]
[null,""]
[null,""]
[null,""]
[null,""]
[null,""]
[null,{"$f":"IF(C45846<>\"\",B45845+1,\"\")","v":""}]
[null,""]
[null,""]
[null,{"$f":"IF(C45910<>\"\",B45909+1,\"\")","v":""}]
[null,""]
[null,""]
[null,""]
[null,""]
[null,""]
[null,""]
[null,""]
[null,""]
[null,""]
[null,""]
[null,""]
[null,""]
[null,""]
[null,""]
[null,""]
[null,""]
[null,""]
[null,""]
[null,""]
[null,""]
[null,""]
[null,""]
[null,""]
[null,""]
[null,""]
[null,""]
[null,""]
[null,""]
[null,""]
[null,""]
[null,""]
[null,""]
[null,""]
[null,""]
[null,""]
[null,""]
[null,""]
[null,""]
[null,""]
[null,""]
[null,""]
[null,""]
[null,""]
[null,""]
[null,""]
[null,""]
[null,""]
[null,""]
[null,""]
[null,""]
[null,""]
[null,""]
[null,{"$f":"IF(C47190<>\"\",B47189+1,\"\")","v":""}]
[null,""]
[null,""]
[null,""]
[null,""]
[null,""]
[null,""]
[null,""]
[null,""]
[null,""]
[null,""]
[null,""]
[null,""]
[null,""]
[null,""]
[null,""]
[null,""]
[null,""]
[null,""]
[null,""]
[null,""]
[null,""]
[null,""]
[null,""]
[null,""]
[null,""]
[null,""]
[null,""]
[null,""]
[null,""]
[null,""]
[null,""]
[null,""]
[null,""]
[null,""]
[null,""]
[null,""]
[null,""]
[null,""]
[null,""]
[null,""]
[null,""]
[null,""]
[null,""]
[null,""]
[null,""]
[null,""]
[null,""]
[null,""]
[null,""]
[null,""]
[null,""]
[null,{"$f":"IF(C48406<>\"\",B48405+1,\"\")","v":""}]
[null,""]
[null,""]
[null,""]
[null,""]
[null,""]
[null,""]
[null,""]
[null,""]
[null,""]
[null,""]
[null,""]
[null,""]
[null,""]
[null,""]
[null,""]
[null,""]
[null,""]
[null,""]
[null,""]
[null,""]
[null,""]
[null,""]
[null,""]
[null,""]
[null,""]
[null,""]
[null,""]
[null,""]
[null,""]
[null,""]
[null,""]
[null,""]
[null,""]
[null,""]
[null,""]
[null,""]
[null,""]
[null,""]
[null,""]
[null,""]
[null,""]
[null,""]
[null,""]
[null,""]
[null,""]
[null,""]
[null,""]
[null,""]
[null,""]
[null,""]
[null,""]
[null,""]
[null,""]
[null,""]
[null,""]
[null,""]
[null,""]
[null,""]
[null,""]
[null,""]
[null,""]
[null,""]
[null,""]
[null,""]
[null,""]
[null,""]
[null,""]
[null,""]
[null,""]
[null,""]
[null,""]
[null,""]
[null,""]
[null,""]
[null,""]
[null,""]
[null,""]
[null,""]
[null,""]
[null,""]
[null,""]
[null,""]
[null,""]
[null,{"$f":"IF(C49558<>\"\",B49557+1,\"\")","v":""}]
[null,""]
[null,""]
[null,""]
[null,""]
[null,""]
[null,""]
[null,""]
[null,""]
[null,""]
[null,""]
[null,""]
[null,""]
[null,""]
[null,""]
[null,""]
[null,""]
[null,""]
[null,""]
[null,""]
[null,""]
[null,""]
[null,""]
[null,""]
[null,""]
[null,""]
[null,""]
[null,""]
[null,""]
[null,""]
[null,""]
[null,""]
[null,""]
[null,""]
[null,""]
[null,""]
[null,""]
[null,""]
[null,""]
[null,""]
[null,""]
[null,""]
[null,""]
[null,""]
[null,""]
[null,""]
[null,""]
[null,""]
[null,""]
[null,""]
[null,""]
[null,""]
[null,""]
[null,""]
[null,""]
[null,""]
[null,""]
[null,""]
[null,""]
[null,""]
[null,""]
[null,""]
[null,""]
[null,""]
[null,{"$f":"IF(C49622<>\"\",B49621+1,\"\")","v":""}]
[null,""]
[null,""]
[null,""]
[null,""]
[null,""]
[null,""]
[null,""]
[null,""]
[null,""]
[null,""]
[null,""]
[null,""]
[null,""]
[null,""]
[null,""]
[null,""]
[null,""]
[null,""]
[null,""]
[null,""]
[null,""]
[null,""]
[null,""]
[null,""]
[null,""]
[null,""]
[null,""]
[null,""]
[null,""]
[null,""]
[null,""]
[null,""]
[null,""]
[null,""]
[null,""]
[null,""]
[null,""]
[null,""]
[null,""]
[null,""]
[null,""]
[null,""]
[null,""]
[null,""]
[null,""]
[null,""]
[null,""]
[null,""]
[null,""]
[null,""]
[null,""]
[null,""]
[null,""]
[null,""]
[null,""]
[null,""]
[null,""]
[null,""]
[null,""]
[null,""]
[null,""]
[null,""]
[null,""]
[null,{"$f":"IF(C49686<>\"\",B49685+1,\"\")","v":""}]
[null,""]
[null,""]
[null,""]
[null,""]
[null,""]
[null,""]
[null,""]
[null,""]
[null,""]
[null,""]
[null,""]
[null,""]
[null,""]
[null,""]
[null,""]
[null,""]
[null,""]
[null,""]
[null,""]
[null,""]
[null,""]
[null,""]
[null,""]
[null,""]
[null,""]
[null,""]
[null,""]
[null,""]
[null,""]
[null,""]
[null,""]
[null,""]
[null,""]
[null,""]
[null,""]
[null,""]
[null,""]
[null,""]
[null,""]
[null,""]
[null,""]
[null,""]
[null,""]
[null,""]
[null,""]
[null,""]
[null,""]
[null,""]
[null,""]
[null,""]
[null,""]
[null,""]
[null,""]
[null,""]
[null,""]
[null,""]
[null,""]
[null,""]
[null,""]
[null,""]
[null,""]
[null,""]
[null,""]
[null,{"$f":"IF(C49750<>\"\",B49749+1,\"\")","v":""}]
[null,""]
[null,""]
[null,""]
[null,""]
[null,""]
[null,""]
[null,""]
[null,""]
[null,""]
[null,""]
[null,""]
[null,""]
[null,""]
[null,""]
[null,""]
[null,""]
[null,""]
[null,""]
[null,""]
[null,""]
[null,""]
[null,""]
[null,""]
[null,""]
[null,""]
[null,""]
[null,""]
[null,""]
[null,""]
[null,""]
[null,""]
[null,""]
[null,""]
[null,""]
[null,""]
[null,""]
[null,""]
[null,""]
[null,""]
[null,""]
[null,""]
[null,""]
[null,""]
[null,""]
[null,""]
[null,""]
[null,""]
[null,""]
[null,""]
[null,""]
[null,""]
[null,""]
[null,""]
[null,""]
[null,""]
[null,""]
[null,""]
[null,""]
[null,""]
[null,""]
[null,""]
[null,""]
[null,""]
[null,{"$f":"IF(C49814<>\"\",B49813+1,\"\")","v":""}]
[null,""]
[null,""]
[null,""]
[null,""]
[null,""]
[null,""]
[null,""]
[null,""]
[null,""]
[null,""]
[null,""]
[null,""]
[null,""]
[null,""]
[null,""]
[null,""]
[null,""]
[null,""]
[null,""]
[null,""]
[null,""]
[null,""]
[null,""]
[null,""]
[null,""]
[null,""]
[null,""]
[null,""]
[null,""]
[null,""]
[null,""]
[null,""]
[null,""]
[null,""]
[null,""]
[null,""]
[null,""]
[null,""]
[null,""]
[null,""]
[null,""]
[null,""]
[null,""]
[null,""]
[null,""]
[null,""]
[null,""]
[null,""]
[null,""]
[null,""]
[null,""]
[null,""]
[null,""]
[null,""]
[null,""]
[null,""]
[null,""]
[null,""]
[null,""]
[null,""]
[null,""]
[null,""]
[null,""]
[null,{"$f":"IF(C49878<>\"\",B49877+1,\"\")","v":""}]
[null,""]
[null,""]
[null,""]
[null,""]
[null,""]
[null,""]
[null,""]
[null,""]
[null,""]
[null,""]
[null,""]
[null,""]
[null,""]
[null,""]
[null,""]
[null,""]
[null,""]
[null,""]
[null,""]
[null,""]
[null,""]
[null,""]
[null,""]
[null,""]
[null,""]
[null,""]
[null,""]
[null,""]
[null,""]
[null,""]
[null,""]
[null,""]
[null,""]
[null,""]
[null,""]
[null,""]
[null,""]
[null,""]
[null,""]
[null,""]
[null,""]
[null,""]
[null,""]
[null,""]
[null,""]
[null,""]
[null,""]
[null,""]
[null,""]
[null,""]
[null,""]
[null,""]
[null,""]
[null,""]
[null,""]
[null,""]
[null,""]
[null,""]
[null,""]
[null,""]
[null,""]
[null,""]
[null,""]
[null,{"$f":"IF(C49942<>\"\",B49941+1,\"\")","v":""}]
[null,""]
[null,""]
[null,""]
[null,""]
[null,""]
[null,""]
[null,""]
[null,""]
[null,""]
[null,""]
[null,""]
[null,""]
[null,""]
[null,""]
[null,""]
[null,""]
[null,""]
[null,""]
[null,""]
[null,""]
[null,""]
[null,""]
[null,""]
[null,""]
[null,""]
[null,""]
[null,""]
[null,""]
[null,""]
[null,""]
[null,""]
[null,""]
[null,""]
[null,""]
[null,""]
[null,""]
[null,""]
[null,""]
[null,""]
[null,""]
[null,""]
[null,""]
[null,""]
[null,""]
[null,""]
[null,""]
[null,""]
[null,""]
[null,""]
[null,""]
[null,""]
[null,""]
[null,""]
[null,""]
[null,""]
[null,""]
[null,""]
[null,""]
[null,""]
[null,""]
[null,""]
[null,""]
[null,""]
[null,{"$f":"IF(C50006<>\"\",B50005+1,\"\")","v":""}]
[null,""]
[null,""]
[null,""]
[null,""]
[null,""]
[null,""]
[null,""]
[null,""]
[null,""]
[null,""]
[null,""]
[null,""]
[null,""]
[null,""]

{"sheet":"BRLRWT","index":2,"n_rows":75,"n_cols":16,"rows_kept":75,"cut":false,"hidden":false,"merged":[[74,1,74,4],[74,9,74,12],[38,11,38,12],[37,9,37,12],[35,9,36,15],[40,1,40,2],[73,3,73,4],[40,9,40,10],[73,11,73,12],[38,5,39,5],[38,6,39,6],[38,7,39,7],[38,13,39,13],[38,14,39,14],[38,15,39,15],[37,13,37,15],[23,1,24,1],[9,1,9,4],[12,1,12,4],[13,1,13,4],[17,1,18,2],[8,1,8,4],[10,1,10,4],[17,3,18,3],[17,4,18,4],[17,5,18,5],[11,1,11,4],[28,2,28,3],[38,3,38,4],[38,9,38,10],[38,1,38,2],[30,2,30,3],[29,2,29,3],[28,5,28,6],[19,5,20,5],[21,5,22,5],[23,5,24,5],[37,5,37,7],[35,1,36,7],[37,1,37,4],[31,2,31,3],[29,5,29,6],[30,5,30,6],[31,5,31,6],[26,1,26,7],[27,7,28,7],[27,1,28,1],[27,2,27,6],[19,1,20,1],[21,1,22,1]]}
[]
[]
[]
[]
[]
[]
["       1. Advanced Settings"]
[]
[null,"Flock size (in 1,000's)",null,null,null,null,null,100]
[null,"# Male / # Total (if Mixed) in %",null,null,null,null,50,50,"  ← Ranges from 0  to 100"]
[null,"(Mean Weight of Male) / (Mean Weight of S/Run)",null,null,null,null,108.65846280834144,1.0865846280834144,"  ← Normal value shown in box.  Adjust if required using slider."]
[null,"(Mean Weight of Female) / (Mean Weight of S/Run)",null,null,null,null,91.34153719165856,0.91341537191658562,"  ← Normal value shown in box.  Adjust if required using slider."]
[null,"(C.V. of Male) / (C.V. of S/Run)",null,null,null,null,68.979341811547002,0.68979341811547012,"  ← Normal value shown in box.  Adjust if required using slider."]
[null,"(C.V. of Female) / (C.V. of S/Run)",null,null,null,null,68.979341811547002,0.68979341811547001,"  ← Normal value shown in box.  Adjust if required using slider."]
[]
["       2-1. Results - Data Summary (Detail), Uniformity, and Flock Percentage Chart"]
[]
[null,"Data Summary\n(Detail)",null,"Mean","Std. Dev.","C.V. %"]
[]
[null,"S/Run","lbs",8,0.96,12]
[null,null,"kgs",3.6287761952281592,0.43545314342737906]
[null,"Male","lbs",8.6926770246673151,0.71953816769028989,8.2775210173856415]
[null,null,"kgs",3.9429724324899369,0.32638037180907642]
[null,"Female","lbs",7.3073229753326849,0.60486519509141268,8.2775210173856397]
[null,null,"kgs",3.3145799579663815,0.27436505265871935]
[]
[null,"Uniformity (Range in percent and lbs)"]
[null,"Range\nMinimum","Size within the Uniformity Range",null,null,null,null,"Range\nMaximum"]
[null,null,"Flock Size",null,"Composition","Percentage"]
[null,30,{"$f":"IF(C31<>\"\",IF(C32<>\"\",C32+C31,\"\"),\"\")","v":55195},null,"S/Run",{"$f":"IF(F31<>\"\",IF(F32<>\"\",F31+F32,\"\"),\"\")","v":0.55194295920912284},null,10]
[null,{"$f":"(40-B30)*(-1)/100","v":-0.1},{"$f":"IF(D20<>\"\",IF(INPUT!B10=2,ROUNDDOWN(_xlfn.NORM.DIST($H$32,D22,E22,TRUE)*$H$9*1000*$H$10/100,0)-ROUNDDOWN(_xlfn.NORM.DIST($B$32,D22,E22,TRUE)*$H$9*1000*$H$10/100,0),ROUNDDOWN(_xlfn.NORM.DIST($H$32,D23,E23,TRUE)*$H$9*1000*$H$10/100,0)-ROUNDDOWN(_xlfn.NORM.DIST($B$32,D23,E23,TRUE)*$H$9*1000*$H$10/100,0)),IF(D22<>\"\",IF(INPUT!B10=2,ROUNDDOWN(_xlfn.NORM.DIST($H$32,D22,E22,TRUE)*$H$9*1000,0)-ROUNDDOWN(_xlfn.NORM.DIST($B$32,D22,E22,TRUE)*$H$9*1000,0),ROUNDDOWN(_xlfn.NORM.DIST($H$32,D23,E23,TRUE)*$H$9*1000,0)-ROUNDDOWN(_xlfn.NORM.DIST($B$32,D23,E23,TRUE)*$H$9*1000,0)),\"\"))","v":27014},null,"Male",{"$f":"IF(D20<>\"\",IF(INPUT!B10=2,_xlfn.NORM.DIST($H$32,D22,E22,TRUE)*$H$10/100-_xlfn.NORM.DIST($B$32,D22,E22,TRUE)*$H$10/100,_xlfn.NORM.DIST($H$32,D23,E23,TRUE)*$H$10/100-_xlfn.NORM.DIST($B$32,D23,E23,TRUE)*$H$10/100),IF(D22<>\"\",IF(INPUT!B10=2,_xlfn.NORM.DIST($H$32,D22,E22,TRUE)-_xlfn.NORM.DIST($B$32,D22,E22,TRUE),_xlfn.NORM.DIST($H$32,D23,E23,TRUE)-_xlfn.NORM.DIST($B$32,D23,E23,TRUE)),\"\"))","v":0.27013385661021866},null,{"$f":"H30/100","v":0.1}]
[null,{"$f":"IF(INPUT!B10=2, IF(D20<>\"\",D20+D20*B31, IF(D22<>\"\", D22+D22*B31, D24+D24*B31)), IF(D21<>\"\",D21+D21*B31, IF(D23<>\"\", D23+D23*B31, D25+D25*B31)))","v":7.2},{"$f":"IF(D20<>\"\",IF(INPUT!B10=2,ROUNDDOWN(_xlfn.NORM.DIST($H$32,D24,E24,TRUE)*$H$9*1000*(1-$H$10/100),0)-ROUNDDOWN(_xlfn.NORM.DIST($B$32,D24,E24,TRUE)*$H$9*1000*(1-$H$10/100),0),ROUNDDOWN(_xlfn.NORM.DIST($H$32,D25,E25,TRUE)*$H$9*1000*(1-$H$10/100),0)-ROUNDDOWN(_xlfn.NORM.DIST($B$32,D25,E25,TRUE)*$H$9*1000*(1-$H$10/100),0)),IF(D24<>\"\",IF(INPUT!B10=2,ROUNDDOWN(_xlfn.NORM.DIST($H$32,D24,E24,TRUE)*$H$9*1000,0)-ROUNDDOWN(_xlfn.NORM.DIST($B$32,D24,E24,TRUE)*$H$9*1000,0),ROUNDDOWN(_xlfn.NORM.DIST($H$32,D25,E25,TRUE)*$H$9*1000,0)-ROUNDDOWN(_xlfn.NORM.DIST($B$32,D25,E25,TRUE)*$H$9*1000,0)),\"\"))","v":28181},null,"Female",{"$f":"IF(D20<>\"\",IF(INPUT!B10=2,_xlfn.NORM.DIST($H$32,D24,E24,TRUE)*(1-$H$10/100)-_xlfn.NORM.DIST($B$32,D24,E24,TRUE)*(1-$H$10/100),_xlfn.NORM.DIST($H$32,D25,E25,TRUE)*(1-$H$10/100)-_xlfn.NORM.DIST($B$32,D25,E25,TRUE)*(1-$H$10/100)),IF(D24<>\"\",IF(INPUT!B10=2,_xlfn.NORM.DIST($H$32,D24,E24,TRUE)-_xlfn.NORM.DIST($B$32,D24,E24,TRUE),_xlfn.NORM.DIST($H$32,D25,E25,TRUE)-_xlfn.NORM.DIST($B$32,D25,E25,TRUE)),\"\"))","v":0.28180910259890418},null,{"$f":"IF(INPUT!B10=2, IF(D20<>\"\",D20+D20*H31, IF(D22<>\"\", D22+D22*H31, D24+D24*H31)), IF(D21<>\"\",D21+D21*H31, IF(D23<>\"\", D23+D23*H31, D25+D25*H31)))","v":8.8000000000000007}]
[]
["       2-2. Results - Data Table"]
[]
[null,"Percentage distribution according to weight and sex",null,null,null,null,null,null,null,"Numbers distribution according to weight and sex"]
[]
[null,"Weight",null,null,null,"Sex",null,null,null,"Weight",null,null,null,"Sex"]
[null,"Min (>)",null,"Max (≤)",null,"Male","Female","S/Run",null,"Min",null,"Max",null,"Male","Female","S/Run"]
[null,"Kgs","Lbs","Kgs","Lbs",null,null,null,null,"Kgs","Lbs","Kgs","Lbs"]
[null,{"$f":"\"-inf.\"","v":"-inf."},null,{"$f":"E41/2.2046","v":1.8869636215186427},{"$f":"IF($D$20<>\"\",MAX(0,$D$20-4*$E$20),IF($D$22<>\"\",MAX(0, $D$22-4*$E$22),MAX(0,$D$24-4*$E$24)))","v":4.16},{"$f":"IF($D$22=\"\",\"\",IF($D$24=\"\",_xlfn.NORM.DIST(E41,$D$22,$E$22,TRUE),_xlfn.NORM.DIST(E41,$D$22,$E$22,TRUE)*$H$10/100))","v":7.4687750197371119E-11},{"$f":"IF($D$24=\"\",\"\",IF($D$22=\"\",_xlfn.NORM.DIST(E41,$D$24,$E$24,TRUE),_xlfn.NORM.DIST(E41,$D$24,$E$24,TRUE)*(1-$H$10/100)))","v":4.8932953973008168E-8},{"$f":"IF(F41=\"\",\"\",IF(G41=\"\",\"\",F41+G41))","v":4.9007641723205537E-8},null,{"$f":"B41","v":"-inf."},null,{"$f":"D41","v":1.8869636215186427},{"$f":"E41","v":4.16},{"$f":"IF(F41<>\"\",ROUND(F41*$H$9*1000,0),\"\")","v":0},{"$f":"IF(G41<>\"\",ROUND(G41*$H$9*1000,0),\"\")","v":0},{"$f":"IF(N41<>\"\",IF(O41<>\"\",N41+O41,\"\"),\"\")","v":0}]
[null,{"$f":"D41","v":1.8869636215186427},{"$f":"E41","v":4.16},{"$f":"E42/2.2046","v":1.9958269073754877},{"$f":"IF($D$20<>\"\",C42+($D$20+4*$E$20-$E$41)/32,IF($D$22<>\"\",C42+($D$22+4*$E$22-$E$41)/32,C42+($D$24+4*$E$24-$E$41)/32))","v":4.4000000000000004},{"$f":"IF($D$22=\"\",\"\",IF($D$24=\"\",_xlfn.NORM.DIST(E42,$D$22,$E$22,TRUE)-_xlfn.NORM.DIST(C42,$D$22,$E$22,TRUE),_xlfn.NORM.DIST(E42,$D$22,$E$22,TRUE)*$H$10/100-_xlfn.NORM.DIST(C42,$D$22,$E$22,TRUE)*$H$10/100))","v":5.3361684401992205E-10},{"$f":"IF($D$24=\"\",\"\",IF($D$22=\"\",_xlfn.NORM.DIST(E42,$D$24,$E$24,TRUE)-_xlfn.NORM.DIST(C42,$D$24,$E$24,TRUE),_xlfn.NORM.DIST(E42,$D$24,$E$24,TRUE)*(1-$H$10/100)-_xlfn.NORM.DIST(C42,$D$24,$E$24,TRUE)*(1-$H$10/100)))","v":3.3493384765289848E-7},{"$f":"IF(F42=\"\",\"\",IF(G42=\"\",\"\",F42+G42))","v":3.3546746449691837E-7},null,1.8869636215186427,{"$f":"C42","v":4.16},1.9958269073754877,4.4000000000000004,{"$f":"IF(F42<>\"\",ROUND(F42*$H$9*1000,0),\"\")","v":0},{"$f":"IF(G42<>\"\",ROUND(G42*$H$9*1000,0),\"\")","v":0},{"$f":"IF(N42<>\"\",IF(O42<>\"\",N42+O42,\"\"),\"\")","v":0}]
[null,{"$f":"D42","v":1.9958269073754877},{"$f":"E42","v":4.4000000000000004},{"$f":"E43/2.2046","v":2.1046901932323325},4.6400000000000006,{"$f":"IF($D$22=\"\",\"\",IF($D$24=\"\",_xlfn.NORM.DIST(E43,$D$22,$E$22,TRUE)-_xlfn.NORM.DIST(C43,$D$22,$E$22,TRUE),_xlfn.NORM.DIST(E43,$D$22,$E$22,TRUE)*$H$10/100-_xlfn.NORM.DIST(C43,$D$22,$E$22,TRUE)*$H$10/100))","v":3.8364500000298496E-9},{"$f":"IF($D$24=\"\",\"\",IF($D$22=\"\",_xlfn.NORM.DIST(E43,$D$24,$E$24,TRUE)-_xlfn.NORM.DIST(C43,$D$24,$E$24,TRUE),_xlfn.NORM.DIST(E43,$D$24,$E$24,TRUE)*(1-$H$10/100)-_xlfn.NORM.DIST(C43,$D$24,$E$24,TRUE)*(1-$H$10/100)))","v":2.2030148153516237E-6},{"$f":"IF(F43=\"\",\"\",IF(G43=\"\",\"\",F43+G43))","v":2.2068512653516535E-6},null,1.9958269073754877,{"$f":"C43","v":4.4000000000000004},2.1046901932323325,4.6400000000000006,{"$f":"IF(F43<>\"\",ROUND(F43*$H$9*1000,0),\"\")","v":0},{"$f":"IF(G43<>\"\",ROUND(G43*$H$9*1000,0),\"\")","v":0},0]
[null,2.1046901932323325,4.6400000000000006,2.2135534790891773,4.8800000000000008,2.4699424063309447E-8,1.240120725078787E-5,1.242590667485118E-5,null,2.1046901932323325,4.6400000000000006,2.2135534790891773,4.8800000000000008,0,1,1]
[null,2.2135534790891773,4.8800000000000008,2.3224167649460221,5.120000000000001,1.4239950345641457E-7,5.9747256017686213E-5,5.9889655521142625E-5,null,2.2135534790891773,4.8800000000000008,2.3224167649460221,5.120000000000001,0,6,6]
[null,2.3224167649460221,5.120000000000001,2.4312800508028674,5.3600000000000012,7.3519299372946876E-7,2.4637557581485984E-4,2.4711076880858931E-4,null,2.3224167649460221,5.120000000000001,2.4312800508028674,5.3600000000000012,0,25,25]
[null,2.4312800508028674,5.3600000000000012,2.5401433366597121,5.6000000000000014,3.3991638750136194E-6,8.6960104953238255E-4,8.7300021340739622E-4,null,2.4312800508028674,5.3600000000000012,2.5401433366597121,5.6000000000000014,0,87,87]
[null,2.5401433366597121,5.6000000000000014,2.6490066225165569,5.8400000000000016,1.4074307833700573E-5,2.6272465155221265E-3,2.641320823355827E-3,null,2.5401433366597121,5.6000000000000014,2.6490066225165569,5.8400000000000016,1,263,264]
[null,2.6490066225165569,5.8400000000000016,2.7578699083734017,6.0800000000000018,5.2188188386988344E-5,6.7944464680293661E-3,6.8466346564163543E-3,null,2.6490066225165569,5.8400000000000016,2.7578699083734017,6.0800000000000018,5,679,684]
[null,2.7578699083734017,6.0800000000000018,2.8667331942302465,6.3200000000000021,1.7330589033449207E-4,1.5041538805730136E-2,1.5214844696064628E-2,null,2.7578699083734017,6.0800000000000018,2.8667331942302465,6.3200000000000021,17,1504,1521]
[null,2.8667331942302465,6.3200000000000021,2.9755964800870913,6.5600000000000023,5.1541337026369985E-4,2.8505326515123778E-2,2.9020739885387479E-2,null,2.8667331942302465,6.3200000000000021,2.9755964800870913,6.5600000000000023,52,2851,2903]
[null,2.9755964800870913,6.5600000000000023,3.0844597659439366,6.8000000000000025,1.3727903727275153E-3,4.6244921133689179E-2,4.7617711506416693E-2,null,2.9755964800870913,6.5600000000000023,3.0844597659439366,6.8000000000000025,137,4624,4761]
[null,3.0844597659439366,6.8000000000000025,3.1933230518007814,7.0400000000000027,3.2746393165048568E-3,6.4226317393890411E-2,6.7500956710395271E-2,null,3.0844597659439366,6.8000000000000025,3.1933230518007814,7.0400000000000027,327,6423,6750]
[null,3.1933230518007814,7.0400000000000027,3.3021863376576261,7.2800000000000029,6.9958017271190467E-3,7.6362042692170257E-2,8.3357844419289298E-2,null,3.1933230518007814,7.0400000000000027,3.3021863376576261,7.2800000000000029,700,7636,8336]
[null,3.3021863376576261,7.2800000000000029,3.4110496235144709,7.5200000000000031,1.3385354943146995E-2,7.7724873114723841E-2,9.1110228057870835E-2,null,3.3021863376576261,7.2800000000000029,3.4110496235144709,7.5200000000000031,1339,7772,9111]
[null,3.4110496235144709,7.5200000000000031,3.5199129093713157,7.7600000000000033,2.2937379013811026E-2,6.7726826074078761E-2,9.066420508788979E-2,null,3.4110496235144709,7.5200000000000031,3.5199129093713157,7.7600000000000033,2294,6773,9067]
[null,3.5199129093713157,7.7600000000000033,3.6287761952281605,8.0000000000000036,3.5203172692928261E-2,5.0521671112124023E-2,8.5724843805052284E-2,null,3.5199129093713157,7.7600000000000033,3.6287761952281605,8.0000000000000036,3520,5052,8572]
[null,3.6287761952281605,8.0000000000000036,3.7376394810850058,8.2400000000000038,4.8388932025629425E-2,3.2263158120883095E-2,8.065209014651252E-2,null,3.6287761952281605,8.0000000000000036,3.7376394810850058,8.2400000000000038,4839,3226,8065]
[null,3.7376394810850058,8.2400000000000038,3.8465027669418506,8.480000000000004,5.9571433800577944E-2,1.7637702796463983E-2,7.7209136597041927E-2,null,3.7376394810850058,8.2400000000000038,3.8465027669418506,8.480000000000004,5957,1764,7721]
[null,3.8465027669418506,8.480000000000004,3.9553660527986954,8.7200000000000042,6.5683892945338995E-2,8.2541980302793805E-3,7.3938090975618376E-2,null,3.8465027669418506,8.480000000000004,3.9553660527986954,8.7200000000000042,6568,825,7393]
[null,3.9553660527986954,8.7200000000000042,4.0642293386555401,8.9600000000000044,6.4864790090015001E-2,3.3067035621636154E-3,6.8171493652178616E-2,null,3.9553660527986954,8.7200000000000042,4.0642293386555401,8.9600000000000044,6486,331,6817]
[null,4.0642293386555401,8.9600000000000044,4.1730926245123854,9.2000000000000046,5.737046737176632E-2,1.1339427150827142E-3,5.8504410086849035E-2,null,4.0642293386555401,8.9600000000000044,4.1730926245123854,9.2000000000000046,5737,113,5850]
[null,4.1730926245123854,9.2000000000000046,4.2819559103692297,9.4400000000000048,4.5446075687287979E-2,3.3285009789912889E-4,4.5778925785187108E-2,null,4.1730926245123854,9.2000000000000046,4.2819559103692297,9.4400000000000048,4545,33,4578]
[null,4.2819559103692297,9.4400000000000048,4.390819196226075,9.680000000000005,3.2242734105141113E-2,8.3628184401440819E-5,3.2326362289542554E-2,null,4.2819559103692297,9.4400000000000048,4.390819196226075,9.680000000000005,3224,8,3232]
[null,4.390819196226075,9.680000000000005,4.4996824820829193,9.9200000000000053,2.0487695939058748E-2,1.7984001308923858E-5,2.0505679940367671E-2,null,4.390819196226075,9.680000000000005,4.4996824820829193,9.9200000000000053,2049,2,2051]
[null,4.4996824820829193,9.9200000000000053,4.6085457679397646,10.160000000000005,1.1659446765490133E-2,3.3100281287556932E-6,1.1662756793618889E-2,null,4.4996824820829193,9.9200000000000053,4.6085457679397646,10.160000000000005,1166,0,1166]
[null,4.6085457679397646,10.160000000000005,4.7174090537966098,10.400000000000006,5.9426971729038547E-3,5.2139838968567886E-7,5.9432185712935404E-3,null,4.6085457679397646,10.160000000000005,4.7174090537966098,10.400000000000006,594,0,594]
[null,4.7174090537966098,10.400000000000006,4.8262723396534541,10.640000000000006,2.7127317879550028E-3,7.0287865361340351E-8,2.7128020758203641E-3,null,4.7174090537966098,10.400000000000006,4.8262723396534541,10.640000000000006,271,0,271]
[null,4.8262723396534541,10.640000000000006,4.9351356255102994,10.880000000000006,1.109031801365068E-3,8.1085456127283351E-9,1.1090399099106807E-3,null,4.8262723396534541,10.640000000000006,4.9351356255102994,10.880000000000006,111,0,111]
[null,4.9351356255102994,10.880000000000006,5.0439989113671437,11.120000000000006,4.060606033083336E-4,8.0045370332015864E-10,4.0606140376203692E-4,null,4.9351356255102994,10.880000000000006,5.0439989113671437,11.120000000000006,41,0,41]
[null,5.0439989113671437,11.120000000000006,5.152862197223989,11.360000000000007,1.3315050317380672E-4,6.7614247534208971E-11,1.3315057078805426E-4,null,5.0439989113671437,11.120000000000006,5.152862197223989,11.360000000000007,13,0,13]
[null,5.152862197223989,11.360000000000007,5.2617254830808342,11.600000000000007,3.9101628316440262E-5,4.8868686874925515E-12,3.910163320330895E-5,null,5.152862197223989,11.360000000000007,5.2617254830808342,11.600000000000007,4,0,4]
[null,5.2617254830808342,11.600000000000007,5.3705887689376786,11.840000000000007,1.0283513814157708E-5,3.0214719615173635E-13,1.0283514116304904E-5,null,5.2617254830808342,11.600000000000007,5.3705887689376786,11.840000000000007,1,0,1]
[null,{"$f":"D73","v":5.3705887689376786},{"$f":"E73","v":11.840000000000007},"inf.",null,{"$f":"IF($D$22=\"\",\"\",IF($D$24=\"\",1-_xlfn.NORM.DIST(C74,$D$22,$E$22,TRUE),$H$10/100-_xlfn.NORM.DIST(C74,$D$22,$E$22,TRUE)*$H$10/100))","v":3.0485352502385155E-6},{"$f":"IF($D$24=\"\",\"\",IF($D$22=\"\",1-_xlfn.NORM.DIST(C74,$D$24,$E$24,TRUE),(1-$H$10/100)-_xlfn.NORM.DIST(C74,$D$24,$E$24,TRUE)*(1-$H$10/100)))","v":1.6764367671839864E-14},{"$f":"IF(F74=\"\",\"\",IF(G74=\"\",\"\",F74+G74))","v":3.0485352670028831E-6},null,5.3705887689376786,11.840000000000007,{"$f":"D74","v":"inf."},null,0,0,0]
[null,"Total",null,null,null,{"$f":"IF(F74<>\"\",SUM(F41:F74),\"\")","v":0.5},{"$f":"IF(G74<>\"\",SUM(G41:G74),\"\")","v":0.5},{"$f":"IF(H74<>\"\",SUM(H41:H74),\"\")","v":0.99999999999999989},null,"Total",null,null,null,{"$f":"IF(F75<>\"\",ROUND(F75*$H$9*1000,0),\"\")","v":50000},{"$f":"IF(G75<>\"\",ROUND(G75*$H$9*1000,0),\"\")","v":50000},{"$f":"IF(H75<>\"\",ROUNDDOWN(H75*$H$9*1000,0),\"\")","v":100000}]

{"sheet":"Min_Max_Table","index":3,"n_rows":50,"n_cols":10,"rows_kept":50,"cut":false,"hidden":false,"merged":[[7,7,7,9],[7,2,7,3],[7,4,7,6],[3,5,3,6],[4,5,4,6],[5,5,5,6]]}
[]
[]
[null,null,null,null,null,null,null,"SR","Male","Female"]
[null,null,null,null,null,"Mean (lbs)",null,8,8.6926770246673151,7.3073229753326849]
[null,null,null,null,null,"C.V. %",null,12,8.2775210173856415,8.2775210173856397]
[null,null,null,null,null,"Std. Dev.",null,0.96,0.71953816769028989,0.60486519509141268]
[]
[null,null,"Weight",null,"Percentage",null,null,"Numbers"]
[null,null,"Min (>)","Max (≤)","Male","Female","S/Run","Male","Female","S/Run"]
[null,null,{"$f":"\"-inf.\"","v":"-inf."},4,{"$f":"IF(AND(C10<>\"\",D10<>\"\"),IF($H$4<>\"\",_xlfn.NORM.DIST(D10,$I$4,$I$6,TRUE)*BRLRWT!$H$10/100,IF($I$4<>\"\",_xlfn.NORM.DIST(D10,$I$4,$I$6,TRUE),\"\")),\"\")","v":1.7368278104164772E-11},{"$f":"IF(AND(C10<>\"\",D10<>\"\"),IF($H$4<>\"\",_xlfn.NORM.DIST(D10,$J$4,$J$6,TRUE)*(1-BRLRWT!$H$10/100),IF($J$4<>\"\",_xlfn.NORM.DIST(D10,$J$4,$J$6,TRUE),\"\")),\"\")","v":1.1387029035539667E-8},{"$f":"IF(AND(C10<>\"\",D10<>\"\"),IF($H$4<>\"\",E10+F10,\"\"),\"\")","v":1.1404397313643831E-8},{"$f":"IF(E10<>\"\",ROUND(E10*BRLRWT!$H$9*1000,0),\"\")","v":0},{"$f":"IF(F10<>\"\",ROUND(F10*BRLRWT!$H$9*1000,0),\"\")","v":0},{"$f":"IF(G10<>\"\",H10+I10,\"\")","v":0}]
[null,null,0.9,5,{"$f":"IF(AND(C11<>\"\",D11<>\"\"),IF($H$4<>\"\",_xlfn.NORM.DIST(D11,$I$4,$I$6,TRUE)*BRLRWT!$H$10/100-_xlfn.NORM.DIST(C11,$I$4,$I$6,TRUE)*BRLRWT!$H$10/100,IF($I$4<>\"\",_xlfn.NORM.DIST(D11,$I$4,$I$6,TRUE)-_xlfn.NORM.DIST(C11,$I$4,$I$6,TRUE),\"\")),\"\")","v":7.166609123315069E-8},{"$f":"IF(AND(C11<>\"\",D11<>\"\"),IF($H$4<>\"\",_xlfn.NORM.DIST(D11,$J$4,$J$6,TRUE)*(1-BRLRWT!$H$10/100)-_xlfn.NORM.DIST(C11,$J$4,$J$6,TRUE)*(1-BRLRWT!$H$10/100),IF($J$4<>\"\",_xlfn.NORM.DIST(D11,$J$4,$J$6,TRUE)-_xlfn.NORM.DIST(C11,$J$4,$J$6,TRUE),\"\")),\"\")","v":3.4099964280905721E-5},3.4171630372138869E-5,{"$f":"IF(E11<>\"\",ROUND(E11*BRLRWT!$H$9*1000,0),\"\")","v":0},{"$f":"IF(F11<>\"\",ROUND(F11*BRLRWT!$H$9*1000,0),\"\")","v":3},{"$f":"IF(G11<>\"\",H11+I11,\"\")","v":3}]
[null,null,6,12,{"$f":"IF(AND(C12<>\"\",D12<>\"\"),IF($H$4<>\"\",_xlfn.NORM.DIST(D12,$I$4,$I$6,TRUE)*BRLRWT!$H$10/100-_xlfn.NORM.DIST(C12,$I$4,$I$6,TRUE)*BRLRWT!$H$10/100,IF($I$4<>\"\",_xlfn.NORM.DIST(D12,$I$4,$I$6,TRUE)-_xlfn.NORM.DIST(C12,$I$4,$I$6,TRUE),\"\")),\"\")","v":0.49995332694896744},{"$f":"IF(AND(C12<>\"\",D12<>\"\"),IF($H$4<>\"\",_xlfn.NORM.DIST(D12,$J$4,$J$6,TRUE)*(1-BRLRWT!$H$10/100)-_xlfn.NORM.DIST(C12,$J$4,$J$6,TRUE)*(1-BRLRWT!$H$10/100),IF($J$4<>\"\",_xlfn.NORM.DIST(D12,$J$4,$J$6,TRUE)-_xlfn.NORM.DIST(C12,$J$4,$J$6,TRUE),\"\")),\"\")","v":0.49233284465482136},0.99228617160378874,{"$f":"IF(E12<>\"\",ROUND(E12*BRLRWT!$H$9*1000,0),\"\")","v":49995},{"$f":"IF(F12<>\"\",ROUND(F12*BRLRWT!$H$9*1000,0),\"\")","v":49233},{"$f":"IF(G12<>\"\",H12+I12,\"\")","v":99228}]
[null,null,0.63,0.77,{"$f":"IF(AND(C13<>\"\",D13<>\"\"),IF($H$4<>\"\",_xlfn.NORM.DIST(D13,$I$4,$I$6,TRUE)*BRLRWT!$H$10/100-_xlfn.NORM.DIST(C13,$I$4,$I$6,TRUE)*BRLRWT!$H$10/100,IF($I$4<>\"\",_xlfn.NORM.DIST(D13,$I$4,$I$6,TRUE)-_xlfn.NORM.DIST(C13,$I$4,$I$6,TRUE),\"\")),\"\")","v":7.5167304958017551E-29},{"$f":"IF(AND(C13<>\"\",D13<>\"\"),IF($H$4<>\"\",_xlfn.NORM.DIST(D13,$J$4,$J$6,TRUE)*(1-BRLRWT!$H$10/100)-_xlfn.NORM.DIST(C13,$J$4,$J$6,TRUE)*(1-BRLRWT!$H$10/100),IF($J$4<>\"\",_xlfn.NORM.DIST(D13,$J$4,$J$6,TRUE)-_xlfn.NORM.DIST(C13,$J$4,$J$6,TRUE),\"\")),\"\")","v":7.2783822657903076E-28},8.0300553153704827E-28,{"$f":"IF(E13<>\"\",ROUND(E13*BRLRWT!$H$9*1000,0),\"\")","v":0},{"$f":"IF(F13<>\"\",ROUND(F13*BRLRWT!$H$9*1000,0),\"\")","v":0},0]
[null,null,null,null,{"$f":"IF(AND(C14<>\"\",D14<>\"\"),IF($H$4<>\"\",_xlfn.NORM.DIST(D14,$I$4,$I$6,TRUE)*BRLRWT!$H$10/100-_xlfn.NORM.DIST(C14,$I$4,$I$6,TRUE)*BRLRWT!$H$10/100,IF($I$4<>\"\",_xlfn.NORM.DIST(D14,$I$4,$I$6,TRUE)-_xlfn.NORM.DIST(C14,$I$4,$I$6,TRUE),\"\")),\"\")","v":""},{"$f":"IF(AND(C14<>\"\",D14<>\"\"),IF($H$4<>\"\",_xlfn.NORM.DIST(D14,$J$4,$J$6,TRUE)*(1-BRLRWT!$H$10/100)-_xlfn.NORM.DIST(C14,$J$4,$J$6,TRUE)*(1-BRLRWT!$H$10/100),IF($J$4<>\"\",_xlfn.NORM.DIST(D14,$J$4,$J$6,TRUE)-_xlfn.NORM.DIST(C14,$J$4,$J$6,TRUE),\"\")),\"\")","v":""},"",{"$f":"IF(E14<>\"\",ROUND(E14*BRLRWT!$H$9*1000,0),\"\")","v":""},{"$f":"IF(F14<>\"\",ROUND(F14*BRLRWT!$H$9*1000,0),\"\")","v":""},""]
[null,null,null,null,{"$f":"IF(AND(C15<>\"\",D15<>\"\"),IF($H$4<>\"\",_xlfn.NORM.DIST(D15,$I$4,$I$6,TRUE)*BRLRWT!$H$10/100-_xlfn.NORM.DIST(C15,$I$4,$I$6,TRUE)*BRLRWT!$H$10/100,IF($I$4<>\"\",_xlfn.NORM.DIST(D15,$I$4,$I$6,TRUE)-_xlfn.NORM.DIST(C15,$I$4,$I$6,TRUE),\"\")),\"\")","v":""},{"$f":"IF(AND(C15<>\"\",D15<>\"\"),IF($H$4<>\"\",_xlfn.NORM.DIST(D15,$J$4,$J$6,TRUE)*(1-BRLRWT!$H$10/100)-_xlfn.NORM.DIST(C15,$J$4,$J$6,TRUE)*(1-BRLRWT!$H$10/100),IF($J$4<>\"\",_xlfn.NORM.DIST(D15,$J$4,$J$6,TRUE)-_xlfn.NORM.DIST(C15,$J$4,$J$6,TRUE),\"\")),\"\")","v":""},"",{"$f":"IF(E15<>\"\",ROUND(E15*BRLRWT!$H$9*1000,0),\"\")","v":""},{"$f":"IF(F15<>\"\",ROUND(F15*BRLRWT!$H$9*1000,0),\"\")","v":""},""]
[null,null,null,null,{"$f":"IF(AND(C16<>\"\",D16<>\"\"),IF($H$4<>\"\",_xlfn.NORM.DIST(D16,$I$4,$I$6,TRUE)*BRLRWT!$H$10/100-_xlfn.NORM.DIST(C16,$I$4,$I$6,TRUE)*BRLRWT!$H$10/100,IF($I$4<>\"\",_xlfn.NORM.DIST(D16,$I$4,$I$6,TRUE)-_xlfn.NORM.DIST(C16,$I$4,$I$6,TRUE),\"\")),\"\")","v":""},{"$f":"IF(AND(C16<>\"\",D16<>\"\"),IF($H$4<>\"\",_xlfn.NORM.DIST(D16,$J$4,$J$6,TRUE)*(1-BRLRWT!$H$10/100)-_xlfn.NORM.DIST(C16,$J$4,$J$6,TRUE)*(1-BRLRWT!$H$10/100),IF($J$4<>\"\",_xlfn.NORM.DIST(D16,$J$4,$J$6,TRUE)-_xlfn.NORM.DIST(C16,$J$4,$J$6,TRUE),\"\")),\"\")","v":""},"",{"$f":"IF(E16<>\"\",ROUND(E16*BRLRWT!$H$9*1000,0),\"\")","v":""},{"$f":"IF(F16<>\"\",ROUND(F16*BRLRWT!$H$9*1000,0),\"\")","v":""},""]
[null,null,null,null,{"$f":"IF(AND(C17<>\"\",D17<>\"\"),IF($H$4<>\"\",_xlfn.NORM.DIST(D17,$I$4,$I$6,TRUE)*BRLRWT!$H$10/100-_xlfn.NORM.DIST(C17,$I$4,$I$6,TRUE)*BRLRWT!$H$10/100,IF($I$4<>\"\",_xlfn.NORM.DIST(D17,$I$4,$I$6,TRUE)-_xlfn.NORM.DIST(C17,$I$4,$I$6,TRUE),\"\")),\"\")","v":""},{"$f":"IF(AND(C17<>\"\",D17<>\"\"),IF($H$4<>\"\",_xlfn.NORM.DIST(D17,$J$4,$J$6,TRUE)*(1-BRLRWT!$H$10/100)-_xlfn.NORM.DIST(C17,$J$4,$J$6,TRUE)*(1-BRLRWT!$H$10/100),IF($J$4<>\"\",_xlfn.NORM.DIST(D17,$J$4,$J$6,TRUE)-_xlfn.NORM.DIST(C17,$J$4,$J$6,TRUE),\"\")),\"\")","v":""},"",{"$f":"IF(E17<>\"\",ROUND(E17*BRLRWT!$H$9*1000,0),\"\")","v":""},{"$f":"IF(F17<>\"\",ROUND(F17*BRLRWT!$H$9*1000,0),\"\")","v":""},""]
[null,null,null,null,{"$f":"IF(AND(C18<>\"\",D18<>\"\"),IF($H$4<>\"\",_xlfn.NORM.DIST(D18,$I$4,$I$6,TRUE)*BRLRWT!$H$10/100-_xlfn.NORM.DIST(C18,$I$4,$I$6,TRUE)*BRLRWT!$H$10/100,IF($I$4<>\"\",_xlfn.NORM.DIST(D18,$I$4,$I$6,TRUE)-_xlfn.NORM.DIST(C18,$I$4,$I$6,TRUE),\"\")),\"\")","v":""},{"$f":"IF(AND(C18<>\"\",D18<>\"\"),IF($H$4<>\"\",_xlfn.NORM.DIST(D18,$J$4,$J$6,TRUE)*(1-BRLRWT!$H$10/100)-_xlfn.NORM.DIST(C18,$J$4,$J$6,TRUE)*(1-BRLRWT!$H$10/100),IF($J$4<>\"\",_xlfn.NORM.DIST(D18,$J$4,$J$6,TRUE)-_xlfn.NORM.DIST(C18,$J$4,$J$6,TRUE),\"\")),\"\")","v":""},"",{"$f":"IF(E18<>\"\",ROUND(E18*BRLRWT!$H$9*1000,0),\"\")","v":""},{"$f":"IF(F18<>\"\",ROUND(F18*BRLRWT!$H$9*1000,0),\"\")","v":""},""]
[null,null,null,null,{"$f":"IF(AND(C19<>\"\",D19<>\"\"),IF($H$4<>\"\",_xlfn.NORM.DIST(D19,$I$4,$I$6,TRUE)*BRLRWT!$H$10/100-_xlfn.NORM.DIST(C19,$I$4,$I$6,TRUE)*BRLRWT!$H$10/100,IF($I$4<>\"\",_xlfn.NORM.DIST(D19,$I$4,$I$6,TRUE)-_xlfn.NORM.DIST(C19,$I$4,$I$6,TRUE),\"\")),\"\")","v":""},{"$f":"IF(AND(C19<>\"\",D19<>\"\"),IF($H$4<>\"\",_xlfn.NORM.DIST(D19,$J$4,$J$6,TRUE)*(1-BRLRWT!$H$10/100)-_xlfn.NORM.DIST(C19,$J$4,$J$6,TRUE)*(1-BRLRWT!$H$10/100),IF($J$4<>\"\",_xlfn.NORM.DIST(D19,$J$4,$J$6,TRUE)-_xlfn.NORM.DIST(C19,$J$4,$J$6,TRUE),\"\")),\"\")","v":""},"",{"$f":"IF(E19<>\"\",ROUND(E19*BRLRWT!$H$9*1000,0),\"\")","v":""},{"$f":"IF(F19<>\"\",ROUND(F19*BRLRWT!$H$9*1000,0),\"\")","v":""},""]
[null,null,null,null,{"$f":"IF(AND(C20<>\"\",D20<>\"\"),IF($H$4<>\"\",_xlfn.NORM.DIST(D20,$I$4,$I$6,TRUE)*BRLRWT!$H$10/100-_xlfn.NORM.DIST(C20,$I$4,$I$6,TRUE)*BRLRWT!$H$10/100,IF($I$4<>\"\",_xlfn.NORM.DIST(D20,$I$4,$I$6,TRUE)-_xlfn.NORM.DIST(C20,$I$4,$I$6,TRUE),\"\")),\"\")","v":""},{"$f":"IF(AND(C20<>\"\",D20<>\"\"),IF($H$4<>\"\",_xlfn.NORM.DIST(D20,$J$4,$J$6,TRUE)*(1-BRLRWT!$H$10/100)-_xlfn.NORM.DIST(C20,$J$4,$J$6,TRUE)*(1-BRLRWT!$H$10/100),IF($J$4<>\"\",_xlfn.NORM.DIST(D20,$J$4,$J$6,TRUE)-_xlfn.NORM.DIST(C20,$J$4,$J$6,TRUE),\"\")),\"\")","v":""},"",{"$f":"IF(E20<>\"\",ROUND(E20*BRLRWT!$H$9*1000,0),\"\")","v":""},{"$f":"IF(F20<>\"\",ROUND(F20*BRLRWT!$H$9*1000,0),\"\")","v":""},""]
[null,null,null,null,{"$f":"IF(AND(C21<>\"\",D21<>\"\"),IF($H$4<>\"\",_xlfn.NORM.DIST(D21,$I$4,$I$6,TRUE)*BRLRWT!$H$10/100-_xlfn.NORM.DIST(C21,$I$4,$I$6,TRUE)*BRLRWT!$H$10/100,IF($I$4<>\"\",_xlfn.NORM.DIST(D21,$I$4,$I$6,TRUE)-_xlfn.NORM.DIST(C21,$I$4,$I$6,TRUE),\"\")),\"\")","v":""},{"$f":"IF(AND(C21<>\"\",D21<>\"\"),IF($H$4<>\"\",_xlfn.NORM.DIST(D21,$J$4,$J$6,TRUE)*(1-BRLRWT!$H$10/100)-_xlfn.NORM.DIST(C21,$J$4,$J$6,TRUE)*(1-BRLRWT!$H$10/100),IF($J$4<>\"\",_xlfn.NORM.DIST(D21,$J$4,$J$6,TRUE)-_xlfn.NORM.DIST(C21,$J$4,$J$6,TRUE),\"\")),\"\")","v":""},"",{"$f":"IF(E21<>\"\",ROUND(E21*BRLRWT!$H$9*1000,0),\"\")","v":""},{"$f":"IF(F21<>\"\",ROUND(F21*BRLRWT!$H$9*1000,0),\"\")","v":""},""]
[null,null,null,null,{"$f":"IF(AND(C22<>\"\",D22<>\"\"),IF($H$4<>\"\",_xlfn.NORM.DIST(D22,$I$4,$I$6,TRUE)*BRLRWT!$H$10/100-_xlfn.NORM.DIST(C22,$I$4,$I$6,TRUE)*BRLRWT!$H$10/100,IF($I$4<>\"\",_xlfn.NORM.DIST(D22,$I$4,$I$6,TRUE)-_xlfn.NORM.DIST(C22,$I$4,$I$6,TRUE),\"\")),\"\")","v":""},{"$f":"IF(AND(C22<>\"\",D22<>\"\"),IF($H$4<>\"\",_xlfn.NORM.DIST(D22,$J$4,$J$6,TRUE)*(1-BRLRWT!$H$10/100)-_xlfn.NORM.DIST(C22,$J$4,$J$6,TRUE)*(1-BRLRWT!$H$10/100),IF($J$4<>\"\",_xlfn.NORM.DIST(D22,$J$4,$J$6,TRUE)-_xlfn.NORM.DIST(C22,$J$4,$J$6,TRUE),\"\")),\"\")","v":""},"",{"$f":"IF(E22<>\"\",ROUND(E22*BRLRWT!$H$9*1000,0),\"\")","v":""},{"$f":"IF(F22<>\"\",ROUND(F22*BRLRWT!$H$9*1000,0),\"\")","v":""},""]
[null,null,null,null,{"$f":"IF(AND(C23<>\"\",D23<>\"\"),IF($H$4<>\"\",_xlfn.NORM.DIST(D23,$I$4,$I$6,TRUE)*BRLRWT!$H$10/100-_xlfn.NORM.DIST(C23,$I$4,$I$6,TRUE)*BRLRWT!$H$10/100,IF($I$4<>\"\",_xlfn.NORM.DIST(D23,$I$4,$I$6,TRUE)-_xlfn.NORM.DIST(C23,$I$4,$I$6,TRUE),\"\")),\"\")","v":""},{"$f":"IF(AND(C23<>\"\",D23<>\"\"),IF($H$4<>\"\",_xlfn.NORM.DIST(D23,$J$4,$J$6,TRUE)*(1-BRLRWT!$H$10/100)-_xlfn.NORM.DIST(C23,$J$4,$J$6,TRUE)*(1-BRLRWT!$H$10/100),IF($J$4<>\"\",_xlfn.NORM.DIST(D23,$J$4,$J$6,TRUE)-_xlfn.NORM.DIST(C23,$J$4,$J$6,TRUE),\"\")),\"\")","v":""},"",{"$f":"IF(E23<>\"\",ROUND(E23*BRLRWT!$H$9*1000,0),\"\")","v":""},{"$f":"IF(F23<>\"\",ROUND(F23*BRLRWT!$H$9*1000,0),\"\")","v":""},""]
[null,null,null,null,{"$f":"IF(AND(C24<>\"\",D24<>\"\"),IF($H$4<>\"\",_xlfn.NORM.DIST(D24,$I$4,$I$6,TRUE)*BRLRWT!$H$10/100-_xlfn.NORM.DIST(C24,$I$4,$I$6,TRUE)*BRLRWT!$H$10/100,IF($I$4<>\"\",_xlfn.NORM.DIST(D24,$I$4,$I$6,TRUE)-_xlfn.NORM.DIST(C24,$I$4,$I$6,TRUE),\"\")),\"\")","v":""},{"$f":"IF(AND(C24<>\"\",D24<>\"\"),IF($H$4<>\"\",_xlfn.NORM.DIST(D24,$J$4,$J$6,TRUE)*(1-BRLRWT!$H$10/100)-_xlfn.NORM.DIST(C24,$J$4,$J$6,TRUE)*(1-BRLRWT!$H$10/100),IF($J$4<>\"\",_xlfn.NORM.DIST(D24,$J$4,$J$6,TRUE)-_xlfn.NORM.DIST(C24,$J$4,$J$6,TRUE),\"\")),\"\")","v":""},"",{"$f":"IF(E24<>\"\",ROUND(E24*BRLRWT!$H$9*1000,0),\"\")","v":""},{"$f":"IF(F24<>\"\",ROUND(F24*BRLRWT!$H$9*1000,0),\"\")","v":""},""]
[null,null,null,null,{"$f":"IF(AND(C25<>\"\",D25<>\"\"),IF($H$4<>\"\",_xlfn.NORM.DIST(D25,$I$4,$I$6,TRUE)*BRLRWT!$H$10/100-_xlfn.NORM.DIST(C25,$I$4,$I$6,TRUE)*BRLRWT!$H$10/100,IF($I$4<>\"\",_xlfn.NORM.DIST(D25,$I$4,$I$6,TRUE)-_xlfn.NORM.DIST(C25,$I$4,$I$6,TRUE),\"\")),\"\")","v":""},{"$f":"IF(AND(C25<>\"\",D25<>\"\"),IF($H$4<>\"\",_xlfn.NORM.DIST(D25,$J$4,$J$6,TRUE)*(1-BRLRWT!$H$10/100)-_xlfn.NORM.DIST(C25,$J$4,$J$6,TRUE)*(1-BRLRWT!$H$10/100),IF($J$4<>\"\",_xlfn.NORM.DIST(D25,$J$4,$J$6,TRUE)-_xlfn.NORM.DIST(C25,$J$4,$J$6,TRUE),\"\")),\"\")","v":""},"",{"$f":"IF(E25<>\"\",ROUND(E25*BRLRWT!$H$9*1000,0),\"\")","v":""},{"$f":"IF(F25<>\"\",ROUND(F25*BRLRWT!$H$9*1000,0),\"\")","v":""},""]
[null,null,null,null,{"$f":"IF(AND(C26<>\"\",D26<>\"\"),IF($H$4<>\"\",_xlfn.NORM.DIST(D26,$I$4,$I$6,TRUE)*BRLRWT!$H$10/100-_xlfn.NORM.DIST(C26,$I$4,$I$6,TRUE)*BRLRWT!$H$10/100,IF($I$4<>\"\",_xlfn.NORM.DIST(D26,$I$4,$I$6,TRUE)-_xlfn.NORM.DIST(C26,$I$4,$I$6,TRUE),\"\")),\"\")","v":""},{"$f":"IF(AND(C26<>\"\",D26<>\"\"),IF($H$4<>\"\",_xlfn.NORM.DIST(D26,$J$4,$J$6,TRUE)*(1-BRLRWT!$H$10/100)-_xlfn.NORM.DIST(C26,$J$4,$J$6,TRUE)*(1-BRLRWT!$H$10/100),IF($J$4<>\"\",_xlfn.NORM.DIST(D26,$J$4,$J$6,TRUE)-_xlfn.NORM.DIST(C26,$J$4,$J$6,TRUE),\"\")),\"\")","v":""},"",{"$f":"IF(E26<>\"\",ROUND(E26*BRLRWT!$H$9*1000,0),\"\")","v":""},{"$f":"IF(F26<>\"\",ROUND(F26*BRLRWT!$H$9*1000,0),\"\")","v":""},""]
[null,null,null,null,{"$f":"IF(AND(C27<>\"\",D27<>\"\"),IF($H$4<>\"\",_xlfn.NORM.DIST(D27,$I$4,$I$6,TRUE)*BRLRWT!$H$10/100-_xlfn.NORM.DIST(C27,$I$4,$I$6,TRUE)*BRLRWT!$H$10/100,IF($I$4<>\"\",_xlfn.NORM.DIST(D27,$I$4,$I$6,TRUE)-_xlfn.NORM.DIST(C27,$I$4,$I$6,TRUE),\"\")),\"\")","v":""},{"$f":"IF(AND(C27<>\"\",D27<>\"\"),IF($H$4<>\"\",_xlfn.NORM.DIST(D27,$J$4,$J$6,TRUE)*(1-BRLRWT!$H$10/100)-_xlfn.NORM.DIST(C27,$J$4,$J$6,TRUE)*(1-BRLRWT!$H$10/100),IF($J$4<>\"\",_xlfn.NORM.DIST(D27,$J$4,$J$6,TRUE)-_xlfn.NORM.DIST(C27,$J$4,$J$6,TRUE),\"\")),\"\")","v":""},"",{"$f":"IF(E27<>\"\",ROUND(E27*BRLRWT!$H$9*1000,0),\"\")","v":""},{"$f":"IF(F27<>\"\",ROUND(F27*BRLRWT!$H$9*1000,0),\"\")","v":""},""]
[null,null,null,null,{"$f":"IF(AND(C28<>\"\",D28<>\"\"),IF($H$4<>\"\",_xlfn.NORM.DIST(D28,$I$4,$I$6,TRUE)*BRLRWT!$H$10/100-_xlfn.NORM.DIST(C28,$I$4,$I$6,TRUE)*BRLRWT!$H$10/100,IF($I$4<>\"\",_xlfn.NORM.DIST(D28,$I$4,$I$6,TRUE)-_xlfn.NORM.DIST(C28,$I$4,$I$6,TRUE),\"\")),\"\")","v":""},{"$f":"IF(AND(C28<>\"\",D28<>\"\"),IF($H$4<>\"\",_xlfn.NORM.DIST(D28,$J$4,$J$6,TRUE)*(1-BRLRWT!$H$10/100)-_xlfn.NORM.DIST(C28,$J$4,$J$6,TRUE)*(1-BRLRWT!$H$10/100),IF($J$4<>\"\",_xlfn.NORM.DIST(D28,$J$4,$J$6,TRUE)-_xlfn.NORM.DIST(C28,$J$4,$J$6,TRUE),\"\")),\"\")","v":""},"",{"$f":"IF(E28<>\"\",ROUND(E28*BRLRWT!$H$9*1000,0),\"\")","v":""},{"$f":"IF(F28<>\"\",ROUND(F28*BRLRWT!$H$9*1000,0),\"\")","v":""},""]
[null,null,null,null,{"$f":"IF(AND(C29<>\"\",D29<>\"\"),IF($H$4<>\"\",_xlfn.NORM.DIST(D29,$I$4,$I$6,TRUE)*BRLRWT!$H$10/100-_xlfn.NORM.DIST(C29,$I$4,$I$6,TRUE)*BRLRWT!$H$10/100,IF($I$4<>\"\",_xlfn.NORM.DIST(D29,$I$4,$I$6,TRUE)-_xlfn.NORM.DIST(C29,$I$4,$I$6,TRUE),\"\")),\"\")","v":""},{"$f":"IF(AND(C29<>\"\",D29<>\"\"),IF($H$4<>\"\",_xlfn.NORM.DIST(D29,$J$4,$J$6,TRUE)*(1-BRLRWT!$H$10/100)-_xlfn.NORM.DIST(C29,$J$4,$J$6,TRUE)*(1-BRLRWT!$H$10/100),IF($J$4<>\"\",_xlfn.NORM.DIST(D29,$J$4,$J$6,TRUE)-_xlfn.NORM.DIST(C29,$J$4,$J$6,TRUE),\"\")),\"\")","v":""},"",{"$f":"IF(E29<>\"\",ROUND(E29*BRLRWT!$H$9*1000,0),\"\")","v":""},{"$f":"IF(F29<>\"\",ROUND(F29*BRLRWT!$H$9*1000,0),\"\")","v":""},""]
[null,null,null,null,{"$f":"IF(AND(C30<>\"\",D30<>\"\"),IF($H$4<>\"\",_xlfn.NORM.DIST(D30,$I$4,$I$6,TRUE)*BRLRWT!$H$10/100-_xlfn.NORM.DIST(C30,$I$4,$I$6,TRUE)*BRLRWT!$H$10/100,IF($I$4<>\"\",_xlfn.NORM.DIST(D30,$I$4,$I$6,TRUE)-_xlfn.NORM.DIST(C30,$I$4,$I$6,TRUE),\"\")),\"\")","v":""},{"$f":"IF(AND(C30<>\"\",D30<>\"\"),IF($H$4<>\"\",_xlfn.NORM.DIST(D30,$J$4,$J$6,TRUE)*(1-BRLRWT!$H$10/100)-_xlfn.NORM.DIST(C30,$J$4,$J$6,TRUE)*(1-BRLRWT!$H$10/100),IF($J$4<>\"\",_xlfn.NORM.DIST(D30,$J$4,$J$6,TRUE)-_xlfn.NORM.DIST(C30,$J$4,$J$6,TRUE),\"\")),\"\")","v":""},"",{"$f":"IF(E30<>\"\",ROUND(E30*BRLRWT!$H$9*1000,0),\"\")","v":""},{"$f":"IF(F30<>\"\",ROUND(F30*BRLRWT!$H$9*1000,0),\"\")","v":""},""]
[null,null,null,null,{"$f":"IF(AND(C31<>\"\",D31<>\"\"),IF($H$4<>\"\",_xlfn.NORM.DIST(D31,$I$4,$I$6,TRUE)*BRLRWT!$H$10/100-_xlfn.NORM.DIST(C31,$I$4,$I$6,TRUE)*BRLRWT!$H$10/100,IF($I$4<>\"\",_xlfn.NORM.DIST(D31,$I$4,$I$6,TRUE)-_xlfn.NORM.DIST(C31,$I$4,$I$6,TRUE),\"\")),\"\")","v":""},{"$f":"IF(AND(C31<>\"\",D31<>\"\"),IF($H$4<>\"\",_xlfn.NORM.DIST(D31,$J$4,$J$6,TRUE)*(1-BRLRWT!$H$10/100)-_xlfn.NORM.DIST(C31,$J$4,$J$6,TRUE)*(1-BRLRWT!$H$10/100),IF($J$4<>\"\",_xlfn.NORM.DIST(D31,$J$4,$J$6,TRUE)-_xlfn.NORM.DIST(C31,$J$4,$J$6,TRUE),\"\")),\"\")","v":""},"",{"$f":"IF(E31<>\"\",ROUND(E31*BRLRWT!$H$9*1000,0),\"\")","v":""},{"$f":"IF(F31<>\"\",ROUND(F31*BRLRWT!$H$9*1000,0),\"\")","v":""},""]
[null,null,null,null,{"$f":"IF(AND(C32<>\"\",D32<>\"\"),IF($H$4<>\"\",_xlfn.NORM.DIST(D32,$I$4,$I$6,TRUE)*BRLRWT!$H$10/100-_xlfn.NORM.DIST(C32,$I$4,$I$6,TRUE)*BRLRWT!$H$10/100,IF($I$4<>\"\",_xlfn.NORM.DIST(D32,$I$4,$I$6,TRUE)-_xlfn.NORM.DIST(C32,$I$4,$I$6,TRUE),\"\")),\"\")","v":""},{"$f":"IF(AND(C32<>\"\",D32<>\"\"),IF($H$4<>\"\",_xlfn.NORM.DIST(D32,$J$4,$J$6,TRUE)*(1-BRLRWT!$H$10/100)-_xlfn.NORM.DIST(C32,$J$4,$J$6,TRUE)*(1-BRLRWT!$H$10/100),IF($J$4<>\"\",_xlfn.NORM.DIST(D32,$J$4,$J$6,TRUE)-_xlfn.NORM.DIST(C32,$J$4,$J$6,TRUE),\"\")),\"\")","v":""},"",{"$f":"IF(E32<>\"\",ROUND(E32*BRLRWT!$H$9*1000,0),\"\")","v":""},{"$f":"IF(F32<>\"\",ROUND(F32*BRLRWT!$H$9*1000,0),\"\")","v":""},""]
[null,null,null,null,{"$f":"IF(AND(C33<>\"\",D33<>\"\"),IF($H$4<>\"\",_xlfn.NORM.DIST(D33,$I$4,$I$6,TRUE)*BRLRWT!$H$10/100-_xlfn.NORM.DIST(C33,$I$4,$I$6,TRUE)*BRLRWT!$H$10/100,IF($I$4<>\"\",_xlfn.NORM.DIST(D33,$I$4,$I$6,TRUE)-_xlfn.NORM.DIST(C33,$I$4,$I$6,TRUE),\"\")),\"\")","v":""},{"$f":"IF(AND(C33<>\"\",D33<>\"\"),IF($H$4<>\"\",_xlfn.NORM.DIST(D33,$J$4,$J$6,TRUE)*(1-BRLRWT!$H$10/100)-_xlfn.NORM.DIST(C33,$J$4,$J$6,TRUE)*(1-BRLRWT!$H$10/100),IF($J$4<>\"\",_xlfn.NORM.DIST(D33,$J$4,$J$6,TRUE)-_xlfn.NORM.DIST(C33,$J$4,$J$6,TRUE),\"\")),\"\")","v":""},"",{"$f":"IF(E33<>\"\",ROUND(E33*BRLRWT!$H$9*1000,0),\"\")","v":""},{"$f":"IF(F33<>\"\",ROUND(F33*BRLRWT!$H$9*1000,0),\"\")","v":""},""]
[null,null,null,null,{"$f":"IF(AND(C34<>\"\",D34<>\"\"),IF($H$4<>\"\",_xlfn.NORM.DIST(D34,$I$4,$I$6,TRUE)*BRLRWT!$H$10/100-_xlfn.NORM.DIST(C34,$I$4,$I$6,TRUE)*BRLRWT!$H$10/100,IF($I$4<>\"\",_xlfn.NORM.DIST(D34,$I$4,$I$6,TRUE)-_xlfn.NORM.DIST(C34,$I$4,$I$6,TRUE),\"\")),\"\")","v":""},{"$f":"IF(AND(C34<>\"\",D34<>\"\"),IF($H$4<>\"\",_xlfn.NORM.DIST(D34,$J$4,$J$6,TRUE)*(1-BRLRWT!$H$10/100)-_xlfn.NORM.DIST(C34,$J$4,$J$6,TRUE)*(1-BRLRWT!$H$10/100),IF($J$4<>\"\",_xlfn.NORM.DIST(D34,$J$4,$J$6,TRUE)-_xlfn.NORM.DIST(C34,$J$4,$J$6,TRUE),\"\")),\"\")","v":""},"",{"$f":"IF(E34<>\"\",ROUND(E34*BRLRWT!$H$9*1000,0),\"\")","v":""},{"$f":"IF(F34<>\"\",ROUND(F34*BRLRWT!$H$9*1000,0),\"\")","v":""},""]
[null,null,null,null,{"$f":"IF(AND(C35<>\"\",D35<>\"\"),IF($H$4<>\"\",_xlfn.NORM.DIST(D35,$I$4,$I$6,TRUE)*BRLRWT!$H$10/100-_xlfn.NORM.DIST(C35,$I$4,$I$6,TRUE)*BRLRWT!$H$10/100,IF($I$4<>\"\",_xlfn.NORM.DIST(D35,$I$4,$I$6,TRUE)-_xlfn.NORM.DIST(C35,$I$4,$I$6,TRUE),\"\")),\"\")","v":""},{"$f":"IF(AND(C35<>\"\",D35<>\"\"),IF($H$4<>\"\",_xlfn.NORM.DIST(D35,$J$4,$J$6,TRUE)*(1-BRLRWT!$H$10/100)-_xlfn.NORM.DIST(C35,$J$4,$J$6,TRUE)*(1-BRLRWT!$H$10/100),IF($J$4<>\"\",_xlfn.NORM.DIST(D35,$J$4,$J$6,TRUE)-_xlfn.NORM.DIST(C35,$J$4,$J$6,TRUE),\"\")),\"\")","v":""},"",{"$f":"IF(E35<>\"\",ROUND(E35*BRLRWT!$H$9*1000,0),\"\")","v":""},{"$f":"IF(F35<>\"\",ROUND(F35*BRLRWT!$H$9*1000,0),\"\")","v":""},""]
[null,null,null,null,{"$f":"IF(AND(C36<>\"\",D36<>\"\"),IF($H$4<>\"\",_xlfn.NORM.DIST(D36,$I$4,$I$6,TRUE)*BRLRWT!$H$10/100-_xlfn.NORM.DIST(C36,$I$4,$I$6,TRUE)*BRLRWT!$H$10/100,IF($I$4<>\"\",_xlfn.NORM.DIST(D36,$I$4,$I$6,TRUE)-_xlfn.NORM.DIST(C36,$I$4,$I$6,TRUE),\"\")),\"\")","v":""},{"$f":"IF(AND(C36<>\"\",D36<>\"\"),IF($H$4<>\"\",_xlfn.NORM.DIST(D36,$J$4,$J$6,TRUE)*(1-BRLRWT!$H$10/100)-_xlfn.NORM.DIST(C36,$J$4,$J$6,TRUE)*(1-BRLRWT!$H$10/100),IF($J$4<>\"\",_xlfn.NORM.DIST(D36,$J$4,$J$6,TRUE)-_xlfn.NORM.DIST(C36,$J$4,$J$6,TRUE),\"\")),\"\")","v":""},"",{"$f":"IF(E36<>\"\",ROUND(E36*BRLRWT!$H$9*1000,0),\"\")","v":""},{"$f":"IF(F36<>\"\",ROUND(F36*BRLRWT!$H$9*1000,0),\"\")","v":""},""]
[null,null,null,null,{"$f":"IF(AND(C37<>\"\",D37<>\"\"),IF($H$4<>\"\",_xlfn.NORM.DIST(D37,$I$4,$I$6,TRUE)*BRLRWT!$H$10/100-_xlfn.NORM.DIST(C37,$I$4,$I$6,TRUE)*BRLRWT!$H$10/100,IF($I$4<>\"\",_xlfn.NORM.DIST(D37,$I$4,$I$6,TRUE)-_xlfn.NORM.DIST(C37,$I$4,$I$6,TRUE),\"\")),\"\")","v":""},{"$f":"IF(AND(C37<>\"\",D37<>\"\"),IF($H$4<>\"\",_xlfn.NORM.DIST(D37,$J$4,$J$6,TRUE)*(1-BRLRWT!$H$10/100)-_xlfn.NORM.DIST(C37,$J$4,$J$6,TRUE)*(1-BRLRWT!$H$10/100),IF($J$4<>\"\",_xlfn.NORM.DIST(D37,$J$4,$J$6,TRUE)-_xlfn.NORM.DIST(C37,$J$4,$J$6,TRUE),\"\")),\"\")","v":""},"",{"$f":"IF(E37<>\"\",ROUND(E37*BRLRWT!$H$9*1000,0),\"\")","v":""},{"$f":"IF(F37<>\"\",ROUND(F37*BRLRWT!$H$9*1000,0),\"\")","v":""},""]
[null,null,null,null,{"$f":"IF(AND(C38<>\"\",D38<>\"\"),IF($H$4<>\"\",_xlfn.NORM.DIST(D38,$I$4,$I$6,TRUE)*BRLRWT!$H$10/100-_xlfn.NORM.DIST(C38,$I$4,$I$6,TRUE)*BRLRWT!$H$10/100,IF($I$4<>\"\",_xlfn.NORM.DIST(D38,$I$4,$I$6,TRUE)-_xlfn.NORM.DIST(C38,$I$4,$I$6,TRUE),\"\")),\"\")","v":""},{"$f":"IF(AND(C38<>\"\",D38<>\"\"),IF($H$4<>\"\",_xlfn.NORM.DIST(D38,$J$4,$J$6,TRUE)*(1-BRLRWT!$H$10/100)-_xlfn.NORM.DIST(C38,$J$4,$J$6,TRUE)*(1-BRLRWT!$H$10/100),IF($J$4<>\"\",_xlfn.NORM.DIST(D38,$J$4,$J$6,TRUE)-_xlfn.NORM.DIST(C38,$J$4,$J$6,TRUE),\"\")),\"\")","v":""},"",{"$f":"IF(E38<>\"\",ROUND(E38*BRLRWT!$H$9*1000,0),\"\")","v":""},{"$f":"IF(F38<>\"\",ROUND(F38*BRLRWT!$H$9*1000,0),\"\")","v":""},""]
[null,null,null,null,{"$f":"IF(AND(C39<>\"\",D39<>\"\"),IF($H$4<>\"\",_xlfn.NORM.DIST(D39,$I$4,$I$6,TRUE)*BRLRWT!$H$10/100-_xlfn.NORM.DIST(C39,$I$4,$I$6,TRUE)*BRLRWT!$H$10/100,IF($I$4<>\"\",_xlfn.NORM.DIST(D39,$I$4,$I$6,TRUE)-_xlfn.NORM.DIST(C39,$I$4,$I$6,TRUE),\"\")),\"\")","v":""},{"$f":"IF(AND(C39<>\"\",D39<>\"\"),IF($H$4<>\"\",_xlfn.NORM.DIST(D39,$J$4,$J$6,TRUE)*(1-BRLRWT!$H$10/100)-_xlfn.NORM.DIST(C39,$J$4,$J$6,TRUE)*(1-BRLRWT!$H$10/100),IF($J$4<>\"\",_xlfn.NORM.DIST(D39,$J$4,$J$6,TRUE)-_xlfn.NORM.DIST(C39,$J$4,$J$6,TRUE),\"\")),\"\")","v":""},"",{"$f":"IF(E39<>\"\",ROUND(E39*BRLRWT!$H$9*1000,0),\"\")","v":""},{"$f":"IF(F39<>\"\",ROUND(F39*BRLRWT!$H$9*1000,0),\"\")","v":""},""]
[null,null,null,null,{"$f":"IF(AND(C40<>\"\",D40<>\"\"),IF($H$4<>\"\",_xlfn.NORM.DIST(D40,$I$4,$I$6,TRUE)*BRLRWT!$H$10/100-_xlfn.NORM.DIST(C40,$I$4,$I$6,TRUE)*BRLRWT!$H$10/100,IF($I$4<>\"\",_xlfn.NORM.DIST(D40,$I$4,$I$6,TRUE)-_xlfn.NORM.DIST(C40,$I$4,$I$6,TRUE),\"\")),\"\")","v":""},{"$f":"IF(AND(C40<>\"\",D40<>\"\"),IF($H$4<>\"\",_xlfn.NORM.DIST(D40,$J$4,$J$6,TRUE)*(1-BRLRWT!$H$10/100)-_xlfn.NORM.DIST(C40,$J$4,$J$6,TRUE)*(1-BRLRWT!$H$10/100),IF($J$4<>\"\",_xlfn.NORM.DIST(D40,$J$4,$J$6,TRUE)-_xlfn.NORM.DIST(C40,$J$4,$J$6,TRUE),\"\")),\"\")","v":""},"",{"$f":"IF(E40<>\"\",ROUND(E40*BRLRWT!$H$9*1000,0),\"\")","v":""},{"$f":"IF(F40<>\"\",ROUND(F40*BRLRWT!$H$9*1000,0),\"\")","v":""},""]
[null,null,null,null,{"$f":"IF(AND(C41<>\"\",D41<>\"\"),IF($H$4<>\"\",_xlfn.NORM.DIST(D41,$I$4,$I$6,TRUE)*BRLRWT!$H$10/100-_xlfn.NORM.DIST(C41,$I$4,$I$6,TRUE)*BRLRWT!$H$10/100,IF($I$4<>\"\",_xlfn.NORM.DIST(D41,$I$4,$I$6,TRUE)-_xlfn.NORM.DIST(C41,$I$4,$I$6,TRUE),\"\")),\"\")","v":""},{"$f":"IF(AND(C41<>\"\",D41<>\"\"),IF($H$4<>\"\",_xlfn.NORM.DIST(D41,$J$4,$J$6,TRUE)*(1-BRLRWT!$H$10/100)-_xlfn.NORM.DIST(C41,$J$4,$J$6,TRUE)*(1-BRLRWT!$H$10/100),IF($J$4<>\"\",_xlfn.NORM.DIST(D41,$J$4,$J$6,TRUE)-_xlfn.NORM.DIST(C41,$J$4,$J$6,TRUE),\"\")),\"\")","v":""},"",{"$f":"IF(E41<>\"\",ROUND(E41*BRLRWT!$H$9*1000,0),\"\")","v":""},{"$f":"IF(F41<>\"\",ROUND(F41*BRLRWT!$H$9*1000,0),\"\")","v":""},""]
[null,null,null,null,{"$f":"IF(AND(C42<>\"\",D42<>\"\"),IF($H$4<>\"\",_xlfn.NORM.DIST(D42,$I$4,$I$6,TRUE)*BRLRWT!$H$10/100-_xlfn.NORM.DIST(C42,$I$4,$I$6,TRUE)*BRLRWT!$H$10/100,IF($I$4<>\"\",_xlfn.NORM.DIST(D42,$I$4,$I$6,TRUE)-_xlfn.NORM.DIST(C42,$I$4,$I$6,TRUE),\"\")),\"\")","v":""},{"$f":"IF(AND(C42<>\"\",D42<>\"\"),IF($H$4<>\"\",_xlfn.NORM.DIST(D42,$J$4,$J$6,TRUE)*(1-BRLRWT!$H$10/100)-_xlfn.NORM.DIST(C42,$J$4,$J$6,TRUE)*(1-BRLRWT!$H$10/100),IF($J$4<>\"\",_xlfn.NORM.DIST(D42,$J$4,$J$6,TRUE)-_xlfn.NORM.DIST(C42,$J$4,$J$6,TRUE),\"\")),\"\")","v":""},"",{"$f":"IF(E42<>\"\",ROUND(E42*BRLRWT!$H$9*1000,0),\"\")","v":""},{"$f":"IF(F42<>\"\",ROUND(F42*BRLRWT!$H$9*1000,0),\"\")","v":""},""]
[null,null,null,null,{"$f":"IF(AND(C43<>\"\",D43<>\"\"),IF($H$4<>\"\",_xlfn.NORM.DIST(D43,$I$4,$I$6,TRUE)*BRLRWT!$H$10/100-_xlfn.NORM.DIST(C43,$I$4,$I$6,TRUE)*BRLRWT!$H$10/100,IF($I$4<>\"\",_xlfn.NORM.DIST(D43,$I$4,$I$6,TRUE)-_xlfn.NORM.DIST(C43,$I$4,$I$6,TRUE),\"\")),\"\")","v":""},{"$f":"IF(AND(C43<>\"\",D43<>\"\"),IF($H$4<>\"\",_xlfn.NORM.DIST(D43,$J$4,$J$6,TRUE)*(1-BRLRWT!$H$10/100)-_xlfn.NORM.DIST(C43,$J$4,$J$6,TRUE)*(1-BRLRWT!$H$10/100),IF($J$4<>\"\",_xlfn.NORM.DIST(D43,$J$4,$J$6,TRUE)-_xlfn.NORM.DIST(C43,$J$4,$J$6,TRUE),\"\")),\"\")","v":""},"",{"$f":"IF(E43<>\"\",ROUND(E43*BRLRWT!$H$9*1000,0),\"\")","v":""},{"$f":"IF(F43<>\"\",ROUND(F43*BRLRWT!$H$9*1000,0),\"\")","v":""},""]
[null,null,null,null,{"$f":"IF(AND(C44<>\"\",D44<>\"\"),IF($H$4<>\"\",_xlfn.NORM.DIST(D44,$I$4,$I$6,TRUE)*BRLRWT!$H$10/100-_xlfn.NORM.DIST(C44,$I$4,$I$6,TRUE)*BRLRWT!$H$10/100,IF($I$4<>\"\",_xlfn.NORM.DIST(D44,$I$4,$I$6,TRUE)-_xlfn.NORM.DIST(C44,$I$4,$I$6,TRUE),\"\")),\"\")","v":""},{"$f":"IF(AND(C44<>\"\",D44<>\"\"),IF($H$4<>\"\",_xlfn.NORM.DIST(D44,$J$4,$J$6,TRUE)*(1-BRLRWT!$H$10/100)-_xlfn.NORM.DIST(C44,$J$4,$J$6,TRUE)*(1-BRLRWT!$H$10/100),IF($J$4<>\"\",_xlfn.NORM.DIST(D44,$J$4,$J$6,TRUE)-_xlfn.NORM.DIST(C44,$J$4,$J$6,TRUE),\"\")),\"\")","v":""},"",{"$f":"IF(E44<>\"\",ROUND(E44*BRLRWT!$H$9*1000,0),\"\")","v":""},{"$f":"IF(F44<>\"\",ROUND(F44*BRLRWT!$H$9*1000,0),\"\")","v":""},""]
[null,null,null,null,{"$f":"IF(AND(C45<>\"\",D45<>\"\"),IF($H$4<>\"\",_xlfn.NORM.DIST(D45,$I$4,$I$6,TRUE)*BRLRWT!$H$10/100-_xlfn.NORM.DIST(C45,$I$4,$I$6,TRUE)*BRLRWT!$H$10/100,IF($I$4<>\"\",_xlfn.NORM.DIST(D45,$I$4,$I$6,TRUE)-_xlfn.NORM.DIST(C45,$I$4,$I$6,TRUE),\"\")),\"\")","v":""},{"$f":"IF(AND(C45<>\"\",D45<>\"\"),IF($H$4<>\"\",_xlfn.NORM.DIST(D45,$J$4,$J$6,TRUE)*(1-BRLRWT!$H$10/100)-_xlfn.NORM.DIST(C45,$J$4,$J$6,TRUE)*(1-BRLRWT!$H$10/100),IF($J$4<>\"\",_xlfn.NORM.DIST(D45,$J$4,$J$6,TRUE)-_xlfn.NORM.DIST(C45,$J$4,$J$6,TRUE),\"\")),\"\")","v":""},"",{"$f":"IF(E45<>\"\",ROUND(E45*BRLRWT!$H$9*1000,0),\"\")","v":""},{"$f":"IF(F45<>\"\",ROUND(F45*BRLRWT!$H$9*1000,0),\"\")","v":""},""]
[null,null,null,null,{"$f":"IF(AND(C46<>\"\",D46<>\"\"),IF($H$4<>\"\",_xlfn.NORM.DIST(D46,$I$4,$I$6,TRUE)*BRLRWT!$H$10/100-_xlfn.NORM.DIST(C46,$I$4,$I$6,TRUE)*BRLRWT!$H$10/100,IF($I$4<>\"\",_xlfn.NORM.DIST(D46,$I$4,$I$6,TRUE)-_xlfn.NORM.DIST(C46,$I$4,$I$6,TRUE),\"\")),\"\")","v":""},{"$f":"IF(AND(C46<>\"\",D46<>\"\"),IF($H$4<>\"\",_xlfn.NORM.DIST(D46,$J$4,$J$6,TRUE)*(1-BRLRWT!$H$10/100)-_xlfn.NORM.DIST(C46,$J$4,$J$6,TRUE)*(1-BRLRWT!$H$10/100),IF($J$4<>\"\",_xlfn.NORM.DIST(D46,$J$4,$J$6,TRUE)-_xlfn.NORM.DIST(C46,$J$4,$J$6,TRUE),\"\")),\"\")","v":""},"",{"$f":"IF(E46<>\"\",ROUND(E46*BRLRWT!$H$9*1000,0),\"\")","v":""},{"$f":"IF(F46<>\"\",ROUND(F46*BRLRWT!$H$9*1000,0),\"\")","v":""},""]
[null,null,null,null,{"$f":"IF(AND(C47<>\"\",D47<>\"\"),IF($H$4<>\"\",_xlfn.NORM.DIST(D47,$I$4,$I$6,TRUE)*BRLRWT!$H$10/100-_xlfn.NORM.DIST(C47,$I$4,$I$6,TRUE)*BRLRWT!$H$10/100,IF($I$4<>\"\",_xlfn.NORM.DIST(D47,$I$4,$I$6,TRUE)-_xlfn.NORM.DIST(C47,$I$4,$I$6,TRUE),\"\")),\"\")","v":""},{"$f":"IF(AND(C47<>\"\",D47<>\"\"),IF($H$4<>\"\",_xlfn.NORM.DIST(D47,$J$4,$J$6,TRUE)*(1-BRLRWT!$H$10/100)-_xlfn.NORM.DIST(C47,$J$4,$J$6,TRUE)*(1-BRLRWT!$H$10/100),IF($J$4<>\"\",_xlfn.NORM.DIST(D47,$J$4,$J$6,TRUE)-_xlfn.NORM.DIST(C47,$J$4,$J$6,TRUE),\"\")),\"\")","v":""},"",{"$f":"IF(E47<>\"\",ROUND(E47*BRLRWT!$H$9*1000,0),\"\")","v":""},{"$f":"IF(F47<>\"\",ROUND(F47*BRLRWT!$H$9*1000,0),\"\")","v":""},""]
[null,null,null,null,{"$f":"IF(AND(C48<>\"\",D48<>\"\"),IF($H$4<>\"\",_xlfn.NORM.DIST(D48,$I$4,$I$6,TRUE)*BRLRWT!$H$10/100-_xlfn.NORM.DIST(C48,$I$4,$I$6,TRUE)*BRLRWT!$H$10/100,IF($I$4<>\"\",_xlfn.NORM.DIST(D48,$I$4,$I$6,TRUE)-_xlfn.NORM.DIST(C48,$I$4,$I$6,TRUE),\"\")),\"\")","v":""},{"$f":"IF(AND(C48<>\"\",D48<>\"\"),IF($H$4<>\"\",_xlfn.NORM.DIST(D48,$J$4,$J$6,TRUE)*(1-BRLRWT!$H$10/100)-_xlfn.NORM.DIST(C48,$J$4,$J$6,TRUE)*(1-BRLRWT!$H$10/100),IF($J$4<>\"\",_xlfn.NORM.DIST(D48,$J$4,$J$6,TRUE)-_xlfn.NORM.DIST(C48,$J$4,$J$6,TRUE),\"\")),\"\")","v":""},"",{"$f":"IF(E48<>\"\",ROUND(E48*BRLRWT!$H$9*1000,0),\"\")","v":""},{"$f":"IF(F48<>\"\",ROUND(F48*BRLRWT!$H$9*1000,0),\"\")","v":""},""]
[null,null,null,null,{"$f":"IF(AND(C49<>\"\",D49<>\"\"),IF($H$4<>\"\",_xlfn.NORM.DIST(D49,$I$4,$I$6,TRUE)*BRLRWT!$H$10/100-_xlfn.NORM.DIST(C49,$I$4,$I$6,TRUE)*BRLRWT!$H$10/100,IF($I$4<>\"\",_xlfn.NORM.DIST(D49,$I$4,$I$6,TRUE)-_xlfn.NORM.DIST(C49,$I$4,$I$6,TRUE),\"\")),\"\")","v":""},{"$f":"IF(AND(C49<>\"\",D49<>\"\"),IF($H$4<>\"\",_xlfn.NORM.DIST(D49,$J$4,$J$6,TRUE)*(1-BRLRWT!$H$10/100)-_xlfn.NORM.DIST(C49,$J$4,$J$6,TRUE)*(1-BRLRWT!$H$10/100),IF($J$4<>\"\",_xlfn.NORM.DIST(D49,$J$4,$J$6,TRUE)-_xlfn.NORM.DIST(C49,$J$4,$J$6,TRUE),\"\")),\"\")","v":""},"",{"$f":"IF(E49<>\"\",ROUND(E49*BRLRWT!$H$9*1000,0),\"\")","v":""},{"$f":"IF(F49<>\"\",ROUND(F49*BRLRWT!$H$9*1000,0),\"\")","v":""},""]
[null,null,null,null,{"$f":"IF(AND(C50<>\"\",D50<>\"\"),IF($H$4<>\"\",_xlfn.NORM.DIST(D50,$I$4,$I$6,TRUE)*BRLRWT!$H$10/100-_xlfn.NORM.DIST(C50,$I$4,$I$6,TRUE)*BRLRWT!$H$10/100,IF($I$4<>\"\",_xlfn.NORM.DIST(D50,$I$4,$I$6,TRUE)-_xlfn.NORM.DIST(C50,$I$4,$I$6,TRUE),\"\")),\"\")","v":""},{"$f":"IF(AND(C50<>\"\",D50<>\"\"),IF($H$4<>\"\",_xlfn.NORM.DIST(D50,$J$4,$J$6,TRUE)*(1-BRLRWT!$H$10/100)-_xlfn.NORM.DIST(C50,$J$4,$J$6,TRUE)*(1-BRLRWT!$H$10/100),IF($J$4<>\"\",_xlfn.NORM.DIST(D50,$J$4,$J$6,TRUE)-_xlfn.NORM.DIST(C50,$J$4,$J$6,TRUE),\"\")),\"\")","v":""},"",{"$f":"IF(E50<>\"\",ROUND(E50*BRLRWT!$H$9*1000,0),\"\")","v":""},{"$f":"IF(F50<>\"\",ROUND(F50*BRLRWT!$H$9*1000,0),\"\")","v":""},""]

{"sheet":"EvisWT","index":5,"n_rows":46,"n_cols":14,"rows_kept":46,"cut":false,"hidden":false,"merged":[[9,1,9,2],[9,3,9,5],[9,6,9,8],[45,1,45,2]]}
[]
[]
[]
[]
[]
[]
[]
["       3-1. Results - Eviscerated Weight Distribution",null,null,null,null,null,null,null,null,null,"Breed"]
[]
[null,"Weight (lbs)",null,"Percentage",null,null,"Numbers"]
[null,"Min. (>)","Max. (≤)","Male","Female","S/Run","Male","Female","S/Run"]
[null,{"$f":"\"-inf.\"","v":"-inf."},{"$f":"$M$13","v":2.9443646799999996},{"$f":"IF($L$30<>\"\",IF(INPUT!$H$10=1,_xlfn.NORM.DIST(C12,$L$30,$M$30,TRUE)*BRLRWT!$H$10/100,_xlfn.NORM.DIST(C12,$L$30,$M$30,TRUE)),\"\")","v":7.4687750197370292E-11},{"$f":"IF($L$31<>\"\",IF(INPUT!$H$10=1,_xlfn.NORM.DIST(C12,$L$31,$M$31,TRUE)*(1-BRLRWT!$H$10/100),_xlfn.NORM.DIST(C12,$L$31,$M$31,TRUE)),\"\")","v":4.0599351733602379E-8},{"$f":"IF(D12<>\"\",IF(E12<>\"\",D12+E12,\"\"),\"\")","v":4.0674039483799749E-8},{"$f":"IF(D12<>\"\",D12*BRLRWT!$H$9*1000,\"\")","v":7.4687750197370293E-6},{"$f":"IF(E12<>\"\",E12*BRLRWT!$H$9*1000,\"\")","v":4.0599351733602383E-3},{"$f":"IF(G12<>\"\",IF(H12<>\"\",G12+H12,\"\"),\"\")","v":4.0674039483799751E-3}]
[null,{"$f":"C12","v":2.9443646799999996},{"$f":"C12+$M$14","v":3.1330129549999999},{"$f":"IF($L$30<>\"\",IF(INPUT!$H$10=1,(_xlfn.NORM.DIST(C13,$L$30,$M$30,TRUE)-_xlfn.NORM.DIST(B13,$L$30,$M$30,TRUE))*BRLRWT!$H$10/100,(_xlfn.NORM.DIST(C13,$L$30,$M$30,TRUE)-_xlfn.NORM.DIST(B13,$L$30,$M$30,TRUE))),\"\")","v":5.5391565247555775E-10},{"$f":"IF($L$31<>\"\",IF(INPUT!$H$10=1,(_xlfn.NORM.DIST(C13,$L$31,$M$31,TRUE)-_xlfn.NORM.DIST(B13,$L$31,$M$31,TRUE))*(1-BRLRWT!$H$10/100),(_xlfn.NORM.DIST(C13,$L$31,$M$31,TRUE)-_xlfn.NORM.DIST(B13,$L$31,$M$31,TRUE))),\"\")","v":2.8390724661263359E-7},{"$f":"IF(D13<>\"\",IF(E13<>\"\",D13+E13,\"\"),\"\")","v":2.8446116226510916E-7},{"$f":"IF(D13<>\"\",D13*BRLRWT!$H$9*1000,\"\")","v":5.5391565247555778E-5},{"$f":"IF(E13<>\"\",E13*BRLRWT!$H$9*1000,\"\")","v":2.8390724661263359E-2},{"$f":"IF(G13<>\"\",IF(H13<>\"\",G13+H13,\"\"),\"\")","v":2.8446116226510915E-2},null,null,"min",2.9443646799999996]
[null,{"$f":"C13","v":3.1330129549999999},{"$f":"C13+$M$14","v":3.3216612300000001},{"$f":"IF($L$30<>\"\",IF(INPUT!$H$10=1,(_xlfn.NORM.DIST(C14,$L$30,$M$30,TRUE)-_xlfn.NORM.DIST(B14,$L$30,$M$30,TRUE))*BRLRWT!$H$10/100,(_xlfn.NORM.DIST(C14,$L$30,$M$30,TRUE)-_xlfn.NORM.DIST(B14,$L$30,$M$30,TRUE))),\"\")","v":4.1010926532540727E-9},{"$f":"IF($L$31<>\"\",IF(INPUT!$H$10=1,(_xlfn.NORM.DIST(C14,$L$31,$M$31,TRUE)-_xlfn.NORM.DIST(B14,$L$31,$M$31,TRUE))*(1-BRLRWT!$H$10/100),(_xlfn.NORM.DIST(C14,$L$31,$M$31,TRUE)-_xlfn.NORM.DIST(B14,$L$31,$M$31,TRUE))),\"\")","v":1.9016609110233505E-6},{"$f":"IF(D14<>\"\",IF(E14<>\"\",D14+E14,\"\"),\"\")","v":1.9057620036766046E-6},{"$f":"IF(D14<>\"\",D14*BRLRWT!$H$9*1000,\"\")","v":4.1010926532540729E-4},{"$f":"IF(E14<>\"\",E14*BRLRWT!$H$9*1000,\"\")","v":0.19016609110233507},{"$f":"IF(G14<>\"\",IF(H14<>\"\",G14+H14,\"\"),\"\")","v":0.19057620036766049},null,null,"step size",0.1886482750000002]
[null,{"$f":"C14","v":3.3216612300000001},{"$f":"C14+$M$14","v":3.5103095050000004},{"$f":"IF($L$30<>\"\",IF(INPUT!$H$10=1,(_xlfn.NORM.DIST(C15,$L$30,$M$30,TRUE)-_xlfn.NORM.DIST(B15,$L$30,$M$30,TRUE))*BRLRWT!$H$10/100,(_xlfn.NORM.DIST(C15,$L$30,$M$30,TRUE)-_xlfn.NORM.DIST(B15,$L$30,$M$30,TRUE))),\"\")","v":2.7093787256232392E-8},{"$f":"IF($L$31<>\"\",IF(INPUT!$H$10=1,(_xlfn.NORM.DIST(C15,$L$31,$M$31,TRUE)-_xlfn.NORM.DIST(B15,$L$31,$M$31,TRUE))*(1-BRLRWT!$H$10/100),(_xlfn.NORM.DIST(C15,$L$31,$M$31,TRUE)-_xlfn.NORM.DIST(B15,$L$31,$M$31,TRUE))),\"\")","v":1.0892084701750591E-5},1.0919178489006823E-5,{"$f":"IF(D15<>\"\",D15*BRLRWT!$H$9*1000,\"\")","v":2.7093787256232391E-3},{"$f":"IF(E15<>\"\",E15*BRLRWT!$H$9*1000,\"\")","v":1.0892084701750593},1.0919178489006824]
[null,3.5103095050000004,3.6989577800000006,{"$f":"IF($L$30<>\"\",IF(INPUT!$H$10=1,(_xlfn.NORM.DIST(C16,$L$30,$M$30,TRUE)-_xlfn.NORM.DIST(B16,$L$30,$M$30,TRUE))*BRLRWT!$H$10/100,(_xlfn.NORM.DIST(C16,$L$30,$M$30,TRUE)-_xlfn.NORM.DIST(B16,$L$30,$M$30,TRUE))),\"\")","v":1.5972095510682547E-7},{"$f":"IF($L$31<>\"\",IF(INPUT!$H$10=1,(_xlfn.NORM.DIST(C16,$L$31,$M$31,TRUE)-_xlfn.NORM.DIST(B16,$L$31,$M$31,TRUE))*(1-BRLRWT!$H$10/100),(_xlfn.NORM.DIST(C16,$L$31,$M$31,TRUE)-_xlfn.NORM.DIST(B16,$L$31,$M$31,TRUE))),\"\")","v":5.3349453582361598E-5},5.3509174537468421E-5,{"$f":"IF(D16<>\"\",D16*BRLRWT!$H$9*1000,\"\")","v":1.5972095510682547E-2},{"$f":"IF(E16<>\"\",E16*BRLRWT!$H$9*1000,\"\")","v":5.3349453582361601},5.3509174537468427]
[null,3.6989577800000006,3.8876060550000009,{"$f":"IF($L$30<>\"\",IF(INPUT!$H$10=1,(_xlfn.NORM.DIST(C17,$L$30,$M$30,TRUE)-_xlfn.NORM.DIST(B17,$L$30,$M$30,TRUE))*BRLRWT!$H$10/100,(_xlfn.NORM.DIST(C17,$L$30,$M$30,TRUE)-_xlfn.NORM.DIST(B17,$L$30,$M$30,TRUE))),\"\")","v":8.4020205614443083E-7},{"$f":"IF($L$31<>\"\",IF(INPUT!$H$10=1,(_xlfn.NORM.DIST(C17,$L$31,$M$31,TRUE)-_xlfn.NORM.DIST(B17,$L$31,$M$31,TRUE))*(1-BRLRWT!$H$10/100),(_xlfn.NORM.DIST(C17,$L$31,$M$31,TRUE)-_xlfn.NORM.DIST(B17,$L$31,$M$31,TRUE))),\"\")","v":2.2346454846943061E-4},2.2430475052557505E-4,{"$f":"IF(D17<>\"\",D17*BRLRWT!$H$9*1000,\"\")","v":8.402020561444308E-2},{"$f":"IF(E17<>\"\",E17*BRLRWT!$H$9*1000,\"\")","v":22.346454846943061},22.430475052557505]
[null,3.8876060550000009,4.0762543300000011,{"$f":"IF($L$30<>\"\",IF(INPUT!$H$10=1,(_xlfn.NORM.DIST(C18,$L$30,$M$30,TRUE)-_xlfn.NORM.DIST(B18,$L$30,$M$30,TRUE))*BRLRWT!$H$10/100,(_xlfn.NORM.DIST(C18,$L$30,$M$30,TRUE)-_xlfn.NORM.DIST(B18,$L$30,$M$30,TRUE))),\"\")","v":3.9440514823606574E-6},{"$f":"IF($L$31<>\"\",IF(INPUT!$H$10=1,(_xlfn.NORM.DIST(C18,$L$31,$M$31,TRUE)-_xlfn.NORM.DIST(B18,$L$31,$M$31,TRUE))*(1-BRLRWT!$H$10/100),(_xlfn.NORM.DIST(C18,$L$31,$M$31,TRUE)-_xlfn.NORM.DIST(B18,$L$31,$M$31,TRUE))),\"\")","v":8.0050568945641022E-4},8.0444974093877089E-4,{"$f":"IF(D18<>\"\",D18*BRLRWT!$H$9*1000,\"\")","v":0.39440514823606576},{"$f":"IF(E18<>\"\",E18*BRLRWT!$H$9*1000,\"\")","v":80.050568945641032},80.444974093877093]
[null,4.0762543300000011,4.2649026050000014,{"$f":"IF($L$30<>\"\",IF(INPUT!$H$10=1,(_xlfn.NORM.DIST(C19,$L$30,$M$30,TRUE)-_xlfn.NORM.DIST(B19,$L$30,$M$30,TRUE))*BRLRWT!$H$10/100,(_xlfn.NORM.DIST(C19,$L$30,$M$30,TRUE)-_xlfn.NORM.DIST(B19,$L$30,$M$30,TRUE))),\"\")","v":1.652134597842524E-5},{"$f":"IF($L$31<>\"\",IF(INPUT!$H$10=1,(_xlfn.NORM.DIST(C19,$L$31,$M$31,TRUE)-_xlfn.NORM.DIST(B19,$L$31,$M$31,TRUE))*(1-BRLRWT!$H$10/100),(_xlfn.NORM.DIST(C19,$L$31,$M$31,TRUE)-_xlfn.NORM.DIST(B19,$L$31,$M$31,TRUE))),\"\")","v":2.4525246998466314E-3},2.4690460458250568E-3,{"$f":"IF(D19<>\"\",D19*BRLRWT!$H$9*1000,\"\")","v":1.6521345978425239},{"$f":"IF(E19<>\"\",E19*BRLRWT!$H$9*1000,\"\")","v":245.25246998466312},246.90460458250564]
[null,4.2649026050000014,4.4535508800000017,{"$f":"IF($L$30<>\"\",IF(INPUT!$H$10=1,(_xlfn.NORM.DIST(C20,$L$30,$M$30,TRUE)-_xlfn.NORM.DIST(B20,$L$30,$M$30,TRUE))*BRLRWT!$H$10/100,(_xlfn.NORM.DIST(C20,$L$30,$M$30,TRUE)-_xlfn.NORM.DIST(B20,$L$30,$M$30,TRUE))),\"\")","v":6.1758816767667647E-5},{"$f":"IF($L$31<>\"\",IF(INPUT!$H$10=1,(_xlfn.NORM.DIST(C20,$L$31,$M$31,TRUE)-_xlfn.NORM.DIST(B20,$L$31,$M$31,TRUE))*(1-BRLRWT!$H$10/100),(_xlfn.NORM.DIST(C20,$L$31,$M$31,TRUE)-_xlfn.NORM.DIST(B20,$L$31,$M$31,TRUE))),\"\")","v":6.4264337336214644E-3},6.4881925503891321E-3,{"$f":"IF(D20<>\"\",D20*BRLRWT!$H$9*1000,\"\")","v":6.1758816767667648},{"$f":"IF(E20<>\"\",E20*BRLRWT!$H$9*1000,\"\")","v":642.64337336214635},648.81925503891307]
[null,4.4535508800000017,4.6421991550000019,{"$f":"IF($L$30<>\"\",IF(INPUT!$H$10=1,(_xlfn.NORM.DIST(C21,$L$30,$M$30,TRUE)-_xlfn.NORM.DIST(B21,$L$30,$M$30,TRUE))*BRLRWT!$H$10/100,(_xlfn.NORM.DIST(C21,$L$30,$M$30,TRUE)-_xlfn.NORM.DIST(B21,$L$30,$M$30,TRUE))),\"\")","v":2.0602005122279536E-4},{"$f":"IF($L$31<>\"\",IF(INPUT!$H$10=1,(_xlfn.NORM.DIST(C21,$L$31,$M$31,TRUE)-_xlfn.NORM.DIST(B21,$L$31,$M$31,TRUE))*(1-BRLRWT!$H$10/100),(_xlfn.NORM.DIST(C21,$L$31,$M$31,TRUE)-_xlfn.NORM.DIST(B21,$L$31,$M$31,TRUE))),\"\")","v":1.4402807338840643E-2},1.4608827390063438E-2,{"$f":"IF(D21<>\"\",D21*BRLRWT!$H$9*1000,\"\")","v":20.602005122279536},{"$f":"IF(E21<>\"\",E21*BRLRWT!$H$9*1000,\"\")","v":1440.2807338840644},1460.8827390063439]
[null,4.6421991550000019,4.8308474300000022,{"$f":"IF($L$30<>\"\",IF(INPUT!$H$10=1,(_xlfn.NORM.DIST(C22,$L$30,$M$30,TRUE)-_xlfn.NORM.DIST(B22,$L$30,$M$30,TRUE))*BRLRWT!$H$10/100,(_xlfn.NORM.DIST(C22,$L$30,$M$30,TRUE)-_xlfn.NORM.DIST(B22,$L$30,$M$30,TRUE))),\"\")","v":6.1331399779149254E-4},{"$f":"IF($L$31<>\"\",IF(INPUT!$H$10=1,(_xlfn.NORM.DIST(C22,$L$31,$M$31,TRUE)-_xlfn.NORM.DIST(B22,$L$31,$M$31,TRUE))*(1-BRLRWT!$H$10/100),(_xlfn.NORM.DIST(C22,$L$31,$M$31,TRUE)-_xlfn.NORM.DIST(B22,$L$31,$M$31,TRUE))),\"\")","v":2.7609319419505254E-2},2.8222633417296746E-2,{"$f":"IF(D22<>\"\",D22*BRLRWT!$H$9*1000,\"\")","v":61.331399779149251},{"$f":"IF(E22<>\"\",E22*BRLRWT!$H$9*1000,\"\")","v":2760.9319419505255},2822.2633417296747]
[null,4.8308474300000022,5.0194957050000024,{"$f":"IF($L$30<>\"\",IF(INPUT!$H$10=1,(_xlfn.NORM.DIST(C23,$L$30,$M$30,TRUE)-_xlfn.NORM.DIST(B23,$L$30,$M$30,TRUE))*BRLRWT!$H$10/100,(_xlfn.NORM.DIST(C23,$L$30,$M$30,TRUE)-_xlfn.NORM.DIST(B23,$L$30,$M$30,TRUE))),\"\")","v":1.6293881640576386E-3},{"$f":"IF($L$31<>\"\",IF(INPUT!$H$10=1,(_xlfn.NORM.DIST(C23,$L$31,$M$31,TRUE)-_xlfn.NORM.DIST(B23,$L$31,$M$31,TRUE))*(1-BRLRWT!$H$10/100),(_xlfn.NORM.DIST(C23,$L$31,$M$31,TRUE)-_xlfn.NORM.DIST(B23,$L$31,$M$31,TRUE))),\"\")","v":4.5269394078294188E-2},4.6898782242351826E-2,{"$f":"IF(D23<>\"\",D23*BRLRWT!$H$9*1000,\"\")","v":162.93881640576384},{"$f":"IF(E23<>\"\",E23*BRLRWT!$H$9*1000,\"\")","v":4526.939407829419},4689.8782242351826]
[null,5.0194957050000024,5.2081439800000027,{"$f":"IF($L$30<>\"\",IF(INPUT!$H$10=1,(_xlfn.NORM.DIST(C24,$L$30,$M$30,TRUE)-_xlfn.NORM.DIST(B24,$L$30,$M$30,TRUE))*BRLRWT!$H$10/100,(_xlfn.NORM.DIST(C24,$L$30,$M$30,TRUE)-_xlfn.NORM.DIST(B24,$L$30,$M$30,TRUE))),\"\")","v":3.8631314704720711E-3},{"$f":"IF($L$31<>\"\",IF(INPUT!$H$10=1,(_xlfn.NORM.DIST(C24,$L$31,$M$31,TRUE)-_xlfn.NORM.DIST(B24,$L$31,$M$31,TRUE))*(1-BRLRWT!$H$10/100),(_xlfn.NORM.DIST(C24,$L$31,$M$31,TRUE)-_xlfn.NORM.DIST(B24,$L$31,$M$31,TRUE))),\"\")","v":6.3489371616746282E-2},6.7352503087218352E-2,{"$f":"IF(D24<>\"\",D24*BRLRWT!$H$9*1000,\"\")","v":386.31314704720711},{"$f":"IF(E24<>\"\",E24*BRLRWT!$H$9*1000,\"\")","v":6348.9371616746284},6735.2503087218356]
[null,5.2081439800000027,5.3967922550000029,{"$f":"IF($L$30<>\"\",IF(INPUT!$H$10=1,(_xlfn.NORM.DIST(C25,$L$30,$M$30,TRUE)-_xlfn.NORM.DIST(B25,$L$30,$M$30,TRUE))*BRLRWT!$H$10/100,(_xlfn.NORM.DIST(C25,$L$30,$M$30,TRUE)-_xlfn.NORM.DIST(B25,$L$30,$M$30,TRUE))),\"\")","v":8.1739527274898426E-3},{"$f":"IF($L$31<>\"\",IF(INPUT!$H$10=1,(_xlfn.NORM.DIST(C25,$L$31,$M$31,TRUE)-_xlfn.NORM.DIST(B25,$L$31,$M$31,TRUE))*(1-BRLRWT!$H$10/100),(_xlfn.NORM.DIST(C25,$L$31,$M$31,TRUE)-_xlfn.NORM.DIST(B25,$L$31,$M$31,TRUE))),\"\")","v":7.6163963663263945E-2},8.4337916390753789E-2,{"$f":"IF(D25<>\"\",D25*BRLRWT!$H$9*1000,\"\")","v":817.39527274898433},{"$f":"IF(E25<>\"\",E25*BRLRWT!$H$9*1000,\"\")","v":7616.3963663263949},8433.7916390753799]
[null,5.3967922550000029,5.5854405300000032,{"$f":"IF($L$30<>\"\",IF(INPUT!$H$10=1,(_xlfn.NORM.DIST(C26,$L$30,$M$30,TRUE)-_xlfn.NORM.DIST(B26,$L$30,$M$30,TRUE))*BRLRWT!$H$10/100,(_xlfn.NORM.DIST(C26,$L$30,$M$30,TRUE)-_xlfn.NORM.DIST(B26,$L$30,$M$30,TRUE))),\"\")","v":1.5434990933201212E-2},{"$f":"IF($L$31<>\"\",IF(INPUT!$H$10=1,(_xlfn.NORM.DIST(C26,$L$31,$M$31,TRUE)-_xlfn.NORM.DIST(B26,$L$31,$M$31,TRUE))*(1-BRLRWT!$H$10/100),(_xlfn.NORM.DIST(C26,$L$31,$M$31,TRUE)-_xlfn.NORM.DIST(B26,$L$31,$M$31,TRUE))),\"\")","v":7.815428677402364E-2},9.3589277707224847E-2,{"$f":"IF(D26<>\"\",D26*BRLRWT!$H$9*1000,\"\")","v":1543.4990933201211},{"$f":"IF(E26<>\"\",E26*BRLRWT!$H$9*1000,\"\")","v":7815.428677402364},9358.9277707224846]
[null,5.5854405300000032,5.7740888050000034,{"$f":"IF($L$30<>\"\",IF(INPUT!$H$10=1,(_xlfn.NORM.DIST(C27,$L$30,$M$30,TRUE)-_xlfn.NORM.DIST(B27,$L$30,$M$30,TRUE))*BRLRWT!$H$10/100,(_xlfn.NORM.DIST(C27,$L$30,$M$30,TRUE)-_xlfn.NORM.DIST(B27,$L$30,$M$30,TRUE))),\"\")","v":2.6011513769014491E-2},{"$f":"IF($L$31<>\"\",IF(INPUT!$H$10=1,(_xlfn.NORM.DIST(C27,$L$31,$M$31,TRUE)-_xlfn.NORM.DIST(B27,$L$31,$M$31,TRUE))*(1-BRLRWT!$H$10/100),(_xlfn.NORM.DIST(C27,$L$31,$M$31,TRUE)-_xlfn.NORM.DIST(B27,$L$31,$M$31,TRUE))),\"\")","v":6.859795967912119E-2},9.4609473448135681E-2,{"$f":"IF(D27<>\"\",D27*BRLRWT!$H$9*1000,\"\")","v":2601.1513769014491},{"$f":"IF(E27<>\"\",E27*BRLRWT!$H$9*1000,\"\")","v":6859.7959679121186},9460.9473448135686]
[null,5.7740888050000034,5.9627370800000037,{"$f":"IF($L$30<>\"\",IF(INPUT!$H$10=1,(_xlfn.NORM.DIST(C28,$L$30,$M$30,TRUE)-_xlfn.NORM.DIST(B28,$L$30,$M$30,TRUE))*BRLRWT!$H$10/100,(_xlfn.NORM.DIST(C28,$L$30,$M$30,TRUE)-_xlfn.NORM.DIST(B28,$L$30,$M$30,TRUE))),\"\")","v":3.912124446239771E-2},{"$f":"IF($L$31<>\"\",IF(INPUT!$H$10=1,(_xlfn.NORM.DIST(C28,$L$31,$M$31,TRUE)-_xlfn.NORM.DIST(B28,$L$31,$M$31,TRUE))*(1-BRLRWT!$H$10/100),(_xlfn.NORM.DIST(C28,$L$31,$M$31,TRUE)-_xlfn.NORM.DIST(B28,$L$31,$M$31,TRUE))),\"\")","v":5.1501853275568499E-2},9.0623097737966202E-2,{"$f":"IF(D28<>\"\",D28*BRLRWT!$H$9*1000,\"\")","v":3912.1244462397708},{"$f":"IF(E28<>\"\",E28*BRLRWT!$H$9*1000,\"\")","v":5150.1853275568501},9062.30977379662,null," - Summary"]
[null,5.9627370800000037,6.1513853550000039,{"$f":"IF($L$30<>\"\",IF(INPUT!$H$10=1,(_xlfn.NORM.DIST(C29,$L$30,$M$30,TRUE)-_xlfn.NORM.DIST(B29,$L$30,$M$30,TRUE))*BRLRWT!$H$10/100,(_xlfn.NORM.DIST(C29,$L$30,$M$30,TRUE)-_xlfn.NORM.DIST(B29,$L$30,$M$30,TRUE))),\"\")","v":5.2510926991984092E-2},{"$f":"IF($L$31<>\"\",IF(INPUT!$H$10=1,(_xlfn.NORM.DIST(C29,$L$31,$M$31,TRUE)-_xlfn.NORM.DIST(B29,$L$31,$M$31,TRUE))*(1-BRLRWT!$H$10/100),(_xlfn.NORM.DIST(C29,$L$31,$M$31,TRUE)-_xlfn.NORM.DIST(B29,$L$31,$M$31,TRUE))),\"\")","v":3.3073770328638397E-2},8.5584697320622488E-2,{"$f":"IF(D29<>\"\",D29*BRLRWT!$H$9*1000,\"\")","v":5251.0926991984088},{"$f":"IF(E29<>\"\",E29*BRLRWT!$H$9*1000,\"\")","v":3307.3770328638393},8558.4697320622472,null,"Unit (lbs)","Mean","Std. Dev.","C.V. (%)"]
[null,6.1513853550000039,6.3400336300000042,{"$f":"IF($L$30<>\"\",IF(INPUT!$H$10=1,(_xlfn.NORM.DIST(C30,$L$30,$M$30,TRUE)-_xlfn.NORM.DIST(B30,$L$30,$M$30,TRUE))*BRLRWT!$H$10/100,(_xlfn.NORM.DIST(C30,$L$30,$M$30,TRUE)-_xlfn.NORM.DIST(B30,$L$30,$M$30,TRUE))),\"\")","v":6.2904005091645565E-2},{"$f":"IF($L$31<>\"\",IF(INPUT!$H$10=1,(_xlfn.NORM.DIST(C30,$L$31,$M$31,TRUE)-_xlfn.NORM.DIST(B30,$L$31,$M$31,TRUE))*(1-BRLRWT!$H$10/100),(_xlfn.NORM.DIST(C30,$L$31,$M$31,TRUE)-_xlfn.NORM.DIST(B30,$L$31,$M$31,TRUE))),\"\")","v":1.8167179568687408E-2},8.1071184660332973E-2,{"$f":"IF(D30<>\"\",D30*BRLRWT!$H$9*1000,\"\")","v":6290.4005091645568},{"$f":"IF(E30<>\"\",E30*BRLRWT!$H$9*1000,\"\")","v":1816.7179568687409},8107.1184660332974,null,"Male",6.4508436262826345,0.55663472652520818,{"$f":"IF(L30<>\"\",M30/L30*100,\"\")","v":8.628867149365}]
[null,6.3400336300000042,6.5286819050000044,{"$f":"IF($L$30<>\"\",IF(INPUT!$H$10=1,(_xlfn.NORM.DIST(C31,$L$30,$M$30,TRUE)-_xlfn.NORM.DIST(B31,$L$30,$M$30,TRUE))*BRLRWT!$H$10/100,(_xlfn.NORM.DIST(C31,$L$30,$M$30,TRUE)-_xlfn.NORM.DIST(B31,$L$30,$M$30,TRUE))),\"\")","v":6.7251114383672234E-2},{"$f":"IF($L$31<>\"\",IF(INPUT!$H$10=1,(_xlfn.NORM.DIST(C31,$L$31,$M$31,TRUE)-_xlfn.NORM.DIST(B31,$L$31,$M$31,TRUE))*(1-BRLRWT!$H$10/100),(_xlfn.NORM.DIST(C31,$L$31,$M$31,TRUE)-_xlfn.NORM.DIST(B31,$L$31,$M$31,TRUE))),\"\")","v":8.5354404699178876E-3},7.5786554853590121E-2,{"$f":"IF(D31<>\"\",D31*BRLRWT!$H$9*1000,\"\")","v":6725.1114383672239},{"$f":"IF(E31<>\"\",E31*BRLRWT!$H$9*1000,\"\")","v":853.54404699178872},7578.6554853590123,null,"Female",5.427943960363292,0.47415382643215837,{"$f":"IF(L31<>\"\",M31/L31*100,\"\")","v":8.7354222868657487}]
[null,6.5286819050000044,6.7173301800000047,{"$f":"IF($L$30<>\"\",IF(INPUT!$H$10=1,(_xlfn.NORM.DIST(C32,$L$30,$M$30,TRUE)-_xlfn.NORM.DIST(B32,$L$30,$M$30,TRUE))*BRLRWT!$H$10/100,(_xlfn.NORM.DIST(C32,$L$30,$M$30,TRUE)-_xlfn.NORM.DIST(B32,$L$30,$M$30,TRUE))),\"\")","v":6.4167277419194979E-2},{"$f":"IF($L$31<>\"\",IF(INPUT!$H$10=1,(_xlfn.NORM.DIST(C32,$L$31,$M$31,TRUE)-_xlfn.NORM.DIST(B32,$L$31,$M$31,TRUE))*(1-BRLRWT!$H$10/100),(_xlfn.NORM.DIST(C32,$L$31,$M$31,TRUE)-_xlfn.NORM.DIST(B32,$L$31,$M$31,TRUE))),\"\")","v":3.4299569510762296E-3},6.7597234370271209E-2,{"$f":"IF(D32<>\"\",D32*BRLRWT!$H$9*1000,\"\")","v":6416.7277419194979},{"$f":"IF(E32<>\"\",E32*BRLRWT!$H$9*1000,\"\")","v":342.99569510762296},6759.7234370271208,null,"S/Run",5.9393937933229637,0.72726402810911561,{"$f":"IF(L32<>\"\",M32/L32*100,\"\")","v":12.244751794816199}]
[null,6.7173301800000047,6.905978455000005,{"$f":"IF($L$30<>\"\",IF(INPUT!$H$10=1,(_xlfn.NORM.DIST(C33,$L$30,$M$30,TRUE)-_xlfn.NORM.DIST(B33,$L$30,$M$30,TRUE))*BRLRWT!$H$10/100,(_xlfn.NORM.DIST(C33,$L$30,$M$30,TRUE)-_xlfn.NORM.DIST(B33,$L$30,$M$30,TRUE))),\"\")","v":5.464122457294196E-2},{"$f":"IF($L$31<>\"\",IF(INPUT!$H$10=1,(_xlfn.NORM.DIST(C33,$L$31,$M$31,TRUE)-_xlfn.NORM.DIST(B33,$L$31,$M$31,TRUE))*(1-BRLRWT!$H$10/100),(_xlfn.NORM.DIST(C33,$L$31,$M$31,TRUE)-_xlfn.NORM.DIST(B33,$L$31,$M$31,TRUE))),\"\")","v":1.1788634402419285E-3},5.5820088013183888E-2,{"$f":"IF(D33<>\"\",D33*BRLRWT!$H$9*1000,\"\")","v":5464.1224572941956},{"$f":"IF(E33<>\"\",E33*BRLRWT!$H$9*1000,\"\")","v":117.88634402419285},5582.0088013183886]
[null,6.905978455000005,7.0946267300000052,{"$f":"IF($L$30<>\"\",IF(INPUT!$H$10=1,(_xlfn.NORM.DIST(C34,$L$30,$M$30,TRUE)-_xlfn.NORM.DIST(B34,$L$30,$M$30,TRUE))*BRLRWT!$H$10/100,(_xlfn.NORM.DIST(C34,$L$30,$M$30,TRUE)-_xlfn.NORM.DIST(B34,$L$30,$M$30,TRUE))),\"\")","v":4.1525898742996059E-2},{"$f":"IF($L$31<>\"\",IF(INPUT!$H$10=1,(_xlfn.NORM.DIST(C34,$L$31,$M$31,TRUE)-_xlfn.NORM.DIST(B34,$L$31,$M$31,TRUE))*(1-BRLRWT!$H$10/100),(_xlfn.NORM.DIST(C34,$L$31,$M$31,TRUE)-_xlfn.NORM.DIST(B34,$L$31,$M$31,TRUE))),\"\")","v":3.465265181712418E-4},4.1872425261167301E-2,{"$f":"IF(D34<>\"\",D34*BRLRWT!$H$9*1000,\"\")","v":4152.589874299606},{"$f":"IF(E34<>\"\",E34*BRLRWT!$H$9*1000,\"\")","v":34.65265181712418},4187.24252611673]
[null,7.0946267300000052,7.2832750050000055,{"$f":"IF($L$30<>\"\",IF(INPUT!$H$10=1,(_xlfn.NORM.DIST(C35,$L$30,$M$30,TRUE)-_xlfn.NORM.DIST(B35,$L$30,$M$30,TRUE))*BRLRWT!$H$10/100,(_xlfn.NORM.DIST(C35,$L$30,$M$30,TRUE)-_xlfn.NORM.DIST(B35,$L$30,$M$30,TRUE))),\"\")","v":2.8164884225475088E-2},{"$f":"IF($L$31<>\"\",IF(INPUT!$H$10=1,(_xlfn.NORM.DIST(C35,$L$31,$M$31,TRUE)-_xlfn.NORM.DIST(B35,$L$31,$M$31,TRUE))*(1-BRLRWT!$H$10/100),(_xlfn.NORM.DIST(C35,$L$31,$M$31,TRUE)-_xlfn.NORM.DIST(B35,$L$31,$M$31,TRUE))),\"\")","v":8.7114819748768113E-5},2.8251999045223856E-2,{"$f":"IF(D35<>\"\",D35*BRLRWT!$H$9*1000,\"\")","v":2816.4884225475084},{"$f":"IF(E35<>\"\",E35*BRLRWT!$H$9*1000,\"\")","v":8.7114819748768113},2825.1999045223852]
[null,7.2832750050000055,7.4719232800000057,{"$f":"IF($L$30<>\"\",IF(INPUT!$H$10=1,(_xlfn.NORM.DIST(C36,$L$30,$M$30,TRUE)-_xlfn.NORM.DIST(B36,$L$30,$M$30,TRUE))*BRLRWT!$H$10/100,(_xlfn.NORM.DIST(C36,$L$30,$M$30,TRUE)-_xlfn.NORM.DIST(B36,$L$30,$M$30,TRUE))),\"\")","v":1.7048458392999954E-2},{"$f":"IF($L$31<>\"\",IF(INPUT!$H$10=1,(_xlfn.NORM.DIST(C36,$L$31,$M$31,TRUE)-_xlfn.NORM.DIST(B36,$L$31,$M$31,TRUE))*(1-BRLRWT!$H$10/100),(_xlfn.NORM.DIST(C36,$L$31,$M$31,TRUE)-_xlfn.NORM.DIST(B36,$L$31,$M$31,TRUE))),\"\")","v":1.8728940282874973E-5},1.7067187333282829E-2,{"$f":"IF(D36<>\"\",D36*BRLRWT!$H$9*1000,\"\")","v":1704.8458392999955},{"$f":"IF(E36<>\"\",E36*BRLRWT!$H$9*1000,\"\")","v":1.8728940282874973},1706.718733328283]
[null,7.4719232800000057,7.660571555000006,{"$f":"IF($L$30<>\"\",IF(INPUT!$H$10=1,(_xlfn.NORM.DIST(C37,$L$30,$M$30,TRUE)-_xlfn.NORM.DIST(B37,$L$30,$M$30,TRUE))*BRLRWT!$H$10/100,(_xlfn.NORM.DIST(C37,$L$30,$M$30,TRUE)-_xlfn.NORM.DIST(B37,$L$30,$M$30,TRUE))),\"\")","v":9.2097486866748457E-3},{"$f":"IF($L$31<>\"\",IF(INPUT!$H$10=1,(_xlfn.NORM.DIST(C37,$L$31,$M$31,TRUE)-_xlfn.NORM.DIST(B37,$L$31,$M$31,TRUE))*(1-BRLRWT!$H$10/100),(_xlfn.NORM.DIST(C37,$L$31,$M$31,TRUE)-_xlfn.NORM.DIST(B37,$L$31,$M$31,TRUE))),\"\")","v":3.4433541250544764E-6},9.2131920407999002E-3,{"$f":"IF(D37<>\"\",D37*BRLRWT!$H$9*1000,\"\")","v":920.97486866748454},{"$f":"IF(E37<>\"\",E37*BRLRWT!$H$9*1000,\"\")","v":0.34433541250544764},921.31920407998996]
[null,7.660571555000006,7.8492198300000062,{"$f":"IF($L$30<>\"\",IF(INPUT!$H$10=1,(_xlfn.NORM.DIST(C38,$L$30,$M$30,TRUE)-_xlfn.NORM.DIST(B38,$L$30,$M$30,TRUE))*BRLRWT!$H$10/100,(_xlfn.NORM.DIST(C38,$L$30,$M$30,TRUE)-_xlfn.NORM.DIST(B38,$L$30,$M$30,TRUE))),\"\")","v":4.4400994500687352E-3},{"$f":"IF($L$31<>\"\",IF(INPUT!$H$10=1,(_xlfn.NORM.DIST(C38,$L$31,$M$31,TRUE)-_xlfn.NORM.DIST(B38,$L$31,$M$31,TRUE))*(1-BRLRWT!$H$10/100),(_xlfn.NORM.DIST(C38,$L$31,$M$31,TRUE)-_xlfn.NORM.DIST(B38,$L$31,$M$31,TRUE))),\"\")","v":5.413499684636669E-7},4.4406408000371989E-3,{"$f":"IF(D38<>\"\",D38*BRLRWT!$H$9*1000,\"\")","v":444.00994500687352},{"$f":"IF(E38<>\"\",E38*BRLRWT!$H$9*1000,\"\")","v":5.413499684636669E-2},444.06408000371988]
[null,7.8492198300000062,8.0378681050000065,{"$f":"IF($L$30<>\"\",IF(INPUT!$H$10=1,(_xlfn.NORM.DIST(C39,$L$30,$M$30,TRUE)-_xlfn.NORM.DIST(B39,$L$30,$M$30,TRUE))*BRLRWT!$H$10/100,(_xlfn.NORM.DIST(C39,$L$30,$M$30,TRUE)-_xlfn.NORM.DIST(B39,$L$30,$M$30,TRUE))),\"\")","v":1.9103636346831654E-3},{"$f":"IF($L$31<>\"\",IF(INPUT!$H$10=1,(_xlfn.NORM.DIST(C39,$L$31,$M$31,TRUE)-_xlfn.NORM.DIST(B39,$L$31,$M$31,TRUE))*(1-BRLRWT!$H$10/100),(_xlfn.NORM.DIST(C39,$L$31,$M$31,TRUE)-_xlfn.NORM.DIST(B39,$L$31,$M$31,TRUE))),\"\")","v":7.277499297630996E-8},1.9104364096761417E-3,{"$f":"IF(D39<>\"\",D39*BRLRWT!$H$9*1000,\"\")","v":191.03636346831655},{"$f":"IF(E39<>\"\",E39*BRLRWT!$H$9*1000,\"\")","v":7.277499297630996E-3},191.04364096761418]
[null,8.0378681050000065,8.2265163800000067,{"$f":"IF($L$30<>\"\",IF(INPUT!$H$10=1,(_xlfn.NORM.DIST(C40,$L$30,$M$30,TRUE)-_xlfn.NORM.DIST(B40,$L$30,$M$30,TRUE))*BRLRWT!$H$10/100,(_xlfn.NORM.DIST(C40,$L$30,$M$30,TRUE)-_xlfn.NORM.DIST(B40,$L$30,$M$30,TRUE))),\"\")","v":7.3352252209391011E-4},{"$f":"IF($L$31<>\"\",IF(INPUT!$H$10=1,(_xlfn.NORM.DIST(C40,$L$31,$M$31,TRUE)-_xlfn.NORM.DIST(B40,$L$31,$M$31,TRUE))*(1-BRLRWT!$H$10/100),(_xlfn.NORM.DIST(C40,$L$31,$M$31,TRUE)-_xlfn.NORM.DIST(B40,$L$31,$M$31,TRUE))),\"\")","v":8.3651316429289579E-9},7.3353088722555304E-4,{"$f":"IF(D40<>\"\",D40*BRLRWT!$H$9*1000,\"\")","v":73.352252209391011},{"$f":"IF(E40<>\"\",E40*BRLRWT!$H$9*1000,\"\")","v":8.3651316429289579E-4},73.353088722555299]
[null,8.2265163800000067,8.415164655000007,{"$f":"IF($L$30<>\"\",IF(INPUT!$H$10=1,(_xlfn.NORM.DIST(C41,$L$30,$M$30,TRUE)-_xlfn.NORM.DIST(B41,$L$30,$M$30,TRUE))*BRLRWT!$H$10/100,(_xlfn.NORM.DIST(C41,$L$30,$M$30,TRUE)-_xlfn.NORM.DIST(B41,$L$30,$M$30,TRUE))),\"\")","v":2.5135067707920955E-4},{"$f":"IF($L$31<>\"\",IF(INPUT!$H$10=1,(_xlfn.NORM.DIST(C41,$L$31,$M$31,TRUE)-_xlfn.NORM.DIST(B41,$L$31,$M$31,TRUE))*(1-BRLRWT!$H$10/100),(_xlfn.NORM.DIST(C41,$L$31,$M$31,TRUE)-_xlfn.NORM.DIST(B41,$L$31,$M$31,TRUE))),\"\")","v":8.2210688256978415E-10},2.5135149918609212E-4,{"$f":"IF(D41<>\"\",D41*BRLRWT!$H$9*1000,\"\")","v":25.135067707920953},{"$f":"IF(E41<>\"\",E41*BRLRWT!$H$9*1000,\"\")","v":8.2210688256978415E-5},25.135149918609208]
[null,8.415164655000007,8.6038129300000072,{"$f":"IF($L$30<>\"\",IF(INPUT!$H$10=1,(_xlfn.NORM.DIST(C42,$L$30,$M$30,TRUE)-_xlfn.NORM.DIST(B42,$L$30,$M$30,TRUE))*BRLRWT!$H$10/100,(_xlfn.NORM.DIST(C42,$L$30,$M$30,TRUE)-_xlfn.NORM.DIST(B42,$L$30,$M$30,TRUE))),\"\")","v":7.6861792848936794E-5},{"$f":"IF($L$31<>\"\",IF(INPUT!$H$10=1,(_xlfn.NORM.DIST(C42,$L$31,$M$31,TRUE)-_xlfn.NORM.DIST(B42,$L$31,$M$31,TRUE))*(1-BRLRWT!$H$10/100),(_xlfn.NORM.DIST(C42,$L$31,$M$31,TRUE)-_xlfn.NORM.DIST(B42,$L$31,$M$31,TRUE))),\"\")","v":6.9075911657279221E-11},7.6861861924848451E-5,{"$f":"IF(D42<>\"\",D42*BRLRWT!$H$9*1000,\"\")","v":7.6861792848936794},{"$f":"IF(E42<>\"\",E42*BRLRWT!$H$9*1000,\"\")","v":6.9075911657279221E-6},7.6861861924848451]
[null,8.6038129300000072,8.7924612050000075,{"$f":"IF($L$30<>\"\",IF(INPUT!$H$10=1,(_xlfn.NORM.DIST(C43,$L$30,$M$30,TRUE)-_xlfn.NORM.DIST(B43,$L$30,$M$30,TRUE))*BRLRWT!$H$10/100,(_xlfn.NORM.DIST(C43,$L$30,$M$30,TRUE)-_xlfn.NORM.DIST(B43,$L$30,$M$30,TRUE))),\"\")","v":2.0974856723976476E-5},{"$f":"IF($L$31<>\"\",IF(INPUT!$H$10=1,(_xlfn.NORM.DIST(C43,$L$31,$M$31,TRUE)-_xlfn.NORM.DIST(B43,$L$31,$M$31,TRUE))*(1-BRLRWT!$H$10/100),(_xlfn.NORM.DIST(C43,$L$31,$M$31,TRUE)-_xlfn.NORM.DIST(B43,$L$31,$M$31,TRUE))),\"\")","v":4.9618642528059809E-12},2.0974861685840729E-5,{"$f":"IF(D43<>\"\",D43*BRLRWT!$H$9*1000,\"\")","v":2.0974856723976476},{"$f":"IF(E43<>\"\",E43*BRLRWT!$H$9*1000,\"\")","v":4.9618642528059809E-7},2.0974861685840729]
[null,8.7924612050000075,8.9811094800000077,{"$f":"IF($L$30<>\"\",IF(INPUT!$H$10=1,(_xlfn.NORM.DIST(C44,$L$30,$M$30,TRUE)-_xlfn.NORM.DIST(B44,$L$30,$M$30,TRUE))*BRLRWT!$H$10/100,(_xlfn.NORM.DIST(C44,$L$30,$M$30,TRUE)-_xlfn.NORM.DIST(B44,$L$30,$M$30,TRUE))),\"\")","v":5.1078638636514739E-6},{"$f":"IF($L$31<>\"\",IF(INPUT!$H$10=1,(_xlfn.NORM.DIST(C44,$L$31,$M$31,TRUE)-_xlfn.NORM.DIST(B44,$L$31,$M$31,TRUE))*(1-BRLRWT!$H$10/100),(_xlfn.NORM.DIST(C44,$L$31,$M$31,TRUE)-_xlfn.NORM.DIST(B44,$L$31,$M$31,TRUE))),\"\")","v":3.0464519795714295E-13},5.1078641682966719E-6,{"$f":"IF(D44<>\"\",D44*BRLRWT!$H$9*1000,\"\")","v":0.51078638636514739},{"$f":"IF(E44<>\"\",E44*BRLRWT!$H$9*1000,\"\")","v":3.0464519795714295E-8},0.51078641682966719]
[null,8.9811094800000077,{"$f":"\"inf.\"","v":"inf."},{"$f":"IF($L$30<>\"\",IF(INPUT!$H$10=1,(1-_xlfn.NORM.DIST(B45,$L$30,$M$30,TRUE))*BRLRWT!$H$10/100,(1-_xlfn.NORM.DIST(B45,$L$30,$M$30,TRUE))),\"\")","v":1.3691586833730618E-6},{"$f":"IF($L$31<>\"\",IF(INPUT!$H$10=1,(1-_xlfn.NORM.DIST(B44,$L$31,$M$31,TRUE))*(1-BRLRWT!$H$10/100),(1-_xlfn.NORM.DIST(B44,$L$31,$M$31,TRUE))),\"\")","v":3.2140956562898282E-13},1.3691590047826274E-6,{"$f":"IF(D45<>\"\",D45*BRLRWT!$H$9*1000,\"\")","v":0.13691586833730618},{"$f":"IF(E45<>\"\",E45*BRLRWT!$H$9*1000,\"\")","v":3.2140956562898282E-8},0.13691590047826274]
[null,"Total",null,{"$f":"SUM(D12:D45)","v":0.5},0.50000000000030465,1.0000000000003046,50000.000000000015,50000.000000030457,100000.00000003044]

{"sheet":"BreastWT","index":6,"n_rows":46,"n_cols":14,"rows_kept":46,"cut":false,"hidden":false,"merged":[[9,1,9,2],[9,3,9,5],[9,6,9,8],[45,1,45,2]]}
[]
[]
[]
[]
[]
[]
[]
["       3-2. Results - Breast Weight Distribution",null,null,null,null,null,null,null,null,null,"Breed"]
[]
[null,"Weight (lbs)",null,"Percentage",null,null,"Numbers"]
[null,"Min. (>)","Max. (≤)","Male","Female","S/Run","Male","Female","S/Run"]
[null,{"$f":"\"-inf.\"","v":"-inf."},{"$f":"$M$13","v":0.9358209999999999},{"$f":"IF($L$30<>\"\",IF(INPUT!$H$10=1,_xlfn.NORM.DIST(C12,$L$30,$M$30,TRUE)*BRLRWT!$H$10/100,_xlfn.NORM.DIST(C12,$L$30,$M$30,TRUE)),\"\")","v":7.4687750197368625E-11},{"$f":"IF($L$31<>\"\",IF(INPUT!$H$10=1,_xlfn.NORM.DIST(C12,$L$31,$M$31,TRUE)*(1-BRLRWT!$H$10/100),_xlfn.NORM.DIST(C12,$L$31,$M$31,TRUE)),\"\")","v":7.0593903422375147E-9},{"$f":"IF(D12<>\"\",IF(E12<>\"\",D12+E12,\"\"),\"\")","v":7.1340780924348837E-9},{"$f":"IF(D12<>\"\",D12*BRLRWT!$H$9*1000,\"\")","v":7.4687750197368616E-6},{"$f":"IF(E12<>\"\",E12*BRLRWT!$H$9*1000,\"\")","v":7.0593903422375148E-4},{"$f":"IF(G12<>\"\",IF(H12<>\"\",G12+H12,\"\"),\"\")","v":7.134078092434883E-4},null,null,"Range"]
[null,{"$f":"C12","v":0.9358209999999999},{"$f":"C12+$M$14","v":1.0178370943749999},{"$f":"IF($L$30<>\"\",IF(INPUT!$H$10=1,(_xlfn.NORM.DIST(C13,$L$30,$M$30,TRUE)-_xlfn.NORM.DIST(B13,$L$30,$M$30,TRUE))*BRLRWT!$H$10/100,(_xlfn.NORM.DIST(C13,$L$30,$M$30,TRUE)-_xlfn.NORM.DIST(B13,$L$30,$M$30,TRUE))),\"\")","v":7.216769780705635E-10},{"$f":"IF($L$31<>\"\",IF(INPUT!$H$10=1,(_xlfn.NORM.DIST(C13,$L$31,$M$31,TRUE)-_xlfn.NORM.DIST(B13,$L$31,$M$31,TRUE))*(1-BRLRWT!$H$10/100),(_xlfn.NORM.DIST(C13,$L$31,$M$31,TRUE)-_xlfn.NORM.DIST(B13,$L$31,$M$31,TRUE))),\"\")","v":6.0053375019960701E-8},{"$f":"IF(D13<>\"\",IF(E13<>\"\",D13+E13,\"\"),\"\")","v":6.077505199803126E-8},{"$f":"IF(D13<>\"\",D13*BRLRWT!$H$9*1000,\"\")","v":7.2167697807056348E-5},{"$f":"IF(E13<>\"\",E13*BRLRWT!$H$9*1000,\"\")","v":6.0053375019960701E-3},{"$f":"IF(G13<>\"\",IF(H13<>\"\",G13+H13,\"\"),\"\")","v":6.0775051998031267E-3},null,null,"min",0.9358209999999999]
[null,{"$f":"C13","v":1.0178370943749999},{"$f":"C13+$M$14","v":1.09985318875},{"$f":"IF($L$30<>\"\",IF(INPUT!$H$10=1,(_xlfn.NORM.DIST(C14,$L$30,$M$30,TRUE)-_xlfn.NORM.DIST(B14,$L$30,$M$30,TRUE))*BRLRWT!$H$10/100,(_xlfn.NORM.DIST(C14,$L$30,$M$30,TRUE)-_xlfn.NORM.DIST(B14,$L$30,$M$30,TRUE))),\"\")","v":6.591992404673106E-9},{"$f":"IF($L$31<>\"\",IF(INPUT!$H$10=1,(_xlfn.NORM.DIST(C14,$L$31,$M$31,TRUE)-_xlfn.NORM.DIST(B14,$L$31,$M$31,TRUE))*(1-BRLRWT!$H$10/100),(_xlfn.NORM.DIST(C14,$L$31,$M$31,TRUE)-_xlfn.NORM.DIST(B14,$L$31,$M$31,TRUE))),\"\")","v":4.7603509990138957E-7},{"$f":"IF(D14<>\"\",IF(E14<>\"\",D14+E14,\"\"),\"\")","v":4.8262709230606272E-7},{"$f":"IF(D14<>\"\",D14*BRLRWT!$H$9*1000,\"\")","v":6.5919924046731063E-4},{"$f":"IF(E14<>\"\",E14*BRLRWT!$H$9*1000,\"\")","v":4.7603509990138959E-2},{"$f":"IF(G14<>\"\",IF(H14<>\"\",G14+H14,\"\"),\"\")","v":4.8262709230606271E-2},null,null,"step size",8.2016094375000084E-2]
[null,{"$f":"C14","v":1.09985318875},{"$f":"C14+$M$14","v":1.1818692831250002},{"$f":"IF($L$30<>\"\",IF(INPUT!$H$10=1,(_xlfn.NORM.DIST(C15,$L$30,$M$30,TRUE)-_xlfn.NORM.DIST(B15,$L$30,$M$30,TRUE))*BRLRWT!$H$10/100,(_xlfn.NORM.DIST(C15,$L$30,$M$30,TRUE)-_xlfn.NORM.DIST(B15,$L$30,$M$30,TRUE))),\"\")","v":5.2279427662153933E-8},{"$f":"IF($L$31<>\"\",IF(INPUT!$H$10=1,(_xlfn.NORM.DIST(C15,$L$31,$M$31,TRUE)-_xlfn.NORM.DIST(B15,$L$31,$M$31,TRUE))*(1-BRLRWT!$H$10/100),(_xlfn.NORM.DIST(C15,$L$31,$M$31,TRUE)-_xlfn.NORM.DIST(B15,$L$31,$M$31,TRUE))),\"\")","v":3.2017121484543339E-6},3.2539915761164878E-6,{"$f":"IF(D15<>\"\",D15*BRLRWT!$H$9*1000,\"\")","v":5.2279427662153934E-3},{"$f":"IF(E15<>\"\",E15*BRLRWT!$H$9*1000,\"\")","v":0.32017121484543337},0.32539915761164878]
[null,1.1818692831250002,1.2638853775000003,{"$f":"IF($L$30<>\"\",IF(INPUT!$H$10=1,(_xlfn.NORM.DIST(C16,$L$30,$M$30,TRUE)-_xlfn.NORM.DIST(B16,$L$30,$M$30,TRUE))*BRLRWT!$H$10/100,(_xlfn.NORM.DIST(C16,$L$30,$M$30,TRUE)-_xlfn.NORM.DIST(B16,$L$30,$M$30,TRUE))),\"\")","v":3.5999863953950729E-7},{"$f":"IF($L$31<>\"\",IF(INPUT!$H$10=1,(_xlfn.NORM.DIST(C16,$L$31,$M$31,TRUE)-_xlfn.NORM.DIST(B16,$L$31,$M$31,TRUE))*(1-BRLRWT!$H$10/100),(_xlfn.NORM.DIST(C16,$L$31,$M$31,TRUE)-_xlfn.NORM.DIST(B16,$L$31,$M$31,TRUE))),\"\")","v":1.8272214354856931E-5},1.863221299439644E-5,{"$f":"IF(D16<>\"\",D16*BRLRWT!$H$9*1000,\"\")","v":3.5999863953950731E-2},{"$f":"IF(E16<>\"\",E16*BRLRWT!$H$9*1000,\"\")","v":1.827221435485693},1.8632212994396438]
[null,1.2638853775000003,1.3459014718750004,{"$f":"IF($L$30<>\"\",IF(INPUT!$H$10=1,(_xlfn.NORM.DIST(C17,$L$30,$M$30,TRUE)-_xlfn.NORM.DIST(B17,$L$30,$M$30,TRUE))*BRLRWT!$H$10/100,(_xlfn.NORM.DIST(C17,$L$30,$M$30,TRUE)-_xlfn.NORM.DIST(B17,$L$30,$M$30,TRUE))),\"\")","v":2.1524941481452993E-6},{"$f":"IF($L$31<>\"\",IF(INPUT!$H$10=1,(_xlfn.NORM.DIST(C17,$L$31,$M$31,TRUE)-_xlfn.NORM.DIST(B17,$L$31,$M$31,TRUE))*(1-BRLRWT!$H$10/100),(_xlfn.NORM.DIST(C17,$L$31,$M$31,TRUE)-_xlfn.NORM.DIST(B17,$L$31,$M$31,TRUE))),\"\")","v":8.8488827986371533E-5},9.0641322134516831E-5,{"$f":"IF(D17<>\"\",D17*BRLRWT!$H$9*1000,\"\")","v":0.21524941481452994},{"$f":"IF(E17<>\"\",E17*BRLRWT!$H$9*1000,\"\")","v":8.8488827986371543},9.0641322134516837]
[null,1.3459014718750004,1.4279175662500005,{"$f":"IF($L$30<>\"\",IF(INPUT!$H$10=1,(_xlfn.NORM.DIST(C18,$L$30,$M$30,TRUE)-_xlfn.NORM.DIST(B18,$L$30,$M$30,TRUE))*BRLRWT!$H$10/100,(_xlfn.NORM.DIST(C18,$L$30,$M$30,TRUE)-_xlfn.NORM.DIST(B18,$L$30,$M$30,TRUE))),\"\")","v":1.1175547407116213E-5},{"$f":"IF($L$31<>\"\",IF(INPUT!$H$10=1,(_xlfn.NORM.DIST(C18,$L$31,$M$31,TRUE)-_xlfn.NORM.DIST(B18,$L$31,$M$31,TRUE))*(1-BRLRWT!$H$10/100),(_xlfn.NORM.DIST(C18,$L$31,$M$31,TRUE)-_xlfn.NORM.DIST(B18,$L$31,$M$31,TRUE))),\"\")","v":3.6366002154863925E-4},3.7483556895575546E-4,{"$f":"IF(D18<>\"\",D18*BRLRWT!$H$9*1000,\"\")","v":1.1175547407116213},{"$f":"IF(E18<>\"\",E18*BRLRWT!$H$9*1000,\"\")","v":36.366002154863928},37.483556895575546]
[null,1.4279175662500005,1.5099336606250007,{"$f":"IF($L$30<>\"\",IF(INPUT!$H$10=1,(_xlfn.NORM.DIST(C19,$L$30,$M$30,TRUE)-_xlfn.NORM.DIST(B19,$L$30,$M$30,TRUE))*BRLRWT!$H$10/100,(_xlfn.NORM.DIST(C19,$L$30,$M$30,TRUE)-_xlfn.NORM.DIST(B19,$L$30,$M$30,TRUE))),\"\")","v":5.0384308321528916E-5},{"$f":"IF($L$31<>\"\",IF(INPUT!$H$10=1,(_xlfn.NORM.DIST(C19,$L$31,$M$31,TRUE)-_xlfn.NORM.DIST(B19,$L$31,$M$31,TRUE))*(1-BRLRWT!$H$10/100),(_xlfn.NORM.DIST(C19,$L$31,$M$31,TRUE)-_xlfn.NORM.DIST(B19,$L$31,$M$31,TRUE))),\"\")","v":1.2683307525013737E-3},1.3187150608229027E-3,{"$f":"IF(D19<>\"\",D19*BRLRWT!$H$9*1000,\"\")","v":5.0384308321528914},{"$f":"IF(E19<>\"\",E19*BRLRWT!$H$9*1000,\"\")","v":126.83307525013737},131.87150608229027]
[null,1.5099336606250007,1.5919497550000008,{"$f":"IF($L$30<>\"\",IF(INPUT!$H$10=1,(_xlfn.NORM.DIST(C20,$L$30,$M$30,TRUE)-_xlfn.NORM.DIST(B20,$L$30,$M$30,TRUE))*BRLRWT!$H$10/100,(_xlfn.NORM.DIST(C20,$L$30,$M$30,TRUE)-_xlfn.NORM.DIST(B20,$L$30,$M$30,TRUE))),\"\")","v":1.9725802080536087E-4},{"$f":"IF($L$31<>\"\",IF(INPUT!$H$10=1,(_xlfn.NORM.DIST(C20,$L$31,$M$31,TRUE)-_xlfn.NORM.DIST(B20,$L$31,$M$31,TRUE))*(1-BRLRWT!$H$10/100),(_xlfn.NORM.DIST(C20,$L$31,$M$31,TRUE)-_xlfn.NORM.DIST(B20,$L$31,$M$31,TRUE))),\"\")","v":3.7542017326944472E-3},3.9514597534998077E-3,{"$f":"IF(D20<>\"\",D20*BRLRWT!$H$9*1000,\"\")","v":19.725802080536084},{"$f":"IF(E20<>\"\",E20*BRLRWT!$H$9*1000,\"\")","v":375.42017326944472},395.1459753499808]
[null,1.5919497550000008,1.6739658493750009,{"$f":"IF($L$30<>\"\",IF(INPUT!$H$10=1,(_xlfn.NORM.DIST(C21,$L$30,$M$30,TRUE)-_xlfn.NORM.DIST(B21,$L$30,$M$30,TRUE))*BRLRWT!$H$10/100,(_xlfn.NORM.DIST(C21,$L$30,$M$30,TRUE)-_xlfn.NORM.DIST(B21,$L$30,$M$30,TRUE))),\"\")","v":6.7065514428123608E-4},{"$f":"IF($L$31<>\"\",IF(INPUT!$H$10=1,(_xlfn.NORM.DIST(C21,$L$31,$M$31,TRUE)-_xlfn.NORM.DIST(B21,$L$31,$M$31,TRUE))*(1-BRLRWT!$H$10/100),(_xlfn.NORM.DIST(C21,$L$31,$M$31,TRUE)-_xlfn.NORM.DIST(B21,$L$31,$M$31,TRUE))),\"\")","v":9.4312045936639794E-3},1.0101859737945215E-2,{"$f":"IF(D21<>\"\",D21*BRLRWT!$H$9*1000,\"\")","v":67.065514428123606},{"$f":"IF(E21<>\"\",E21*BRLRWT!$H$9*1000,\"\")","v":943.12045936639799},1010.1859737945216]
[null,1.6739658493750009,1.7559819437500011,{"$f":"IF($L$30<>\"\",IF(INPUT!$H$10=1,(_xlfn.NORM.DIST(C22,$L$30,$M$30,TRUE)-_xlfn.NORM.DIST(B22,$L$30,$M$30,TRUE))*BRLRWT!$H$10/100,(_xlfn.NORM.DIST(C22,$L$30,$M$30,TRUE)-_xlfn.NORM.DIST(B22,$L$30,$M$30,TRUE))),\"\")","v":1.9801607694510054E-3},{"$f":"IF($L$31<>\"\",IF(INPUT!$H$10=1,(_xlfn.NORM.DIST(C22,$L$31,$M$31,TRUE)-_xlfn.NORM.DIST(B22,$L$31,$M$31,TRUE))*(1-BRLRWT!$H$10/100),(_xlfn.NORM.DIST(C22,$L$31,$M$31,TRUE)-_xlfn.NORM.DIST(B22,$L$31,$M$31,TRUE))),\"\")","v":2.0109230534179998E-2},2.2089391303631002E-2,{"$f":"IF(D22<>\"\",D22*BRLRWT!$H$9*1000,\"\")","v":198.01607694510054},{"$f":"IF(E22<>\"\",E22*BRLRWT!$H$9*1000,\"\")","v":2010.9230534179999},2208.9391303631005]
[null,1.7559819437500011,1.8379980381250012,{"$f":"IF($L$30<>\"\",IF(INPUT!$H$10=1,(_xlfn.NORM.DIST(C23,$L$30,$M$30,TRUE)-_xlfn.NORM.DIST(B23,$L$30,$M$30,TRUE))*BRLRWT!$H$10/100,(_xlfn.NORM.DIST(C23,$L$30,$M$30,TRUE)-_xlfn.NORM.DIST(B23,$L$30,$M$30,TRUE))),\"\")","v":5.0774841666512303E-3},{"$f":"IF($L$31<>\"\",IF(INPUT!$H$10=1,(_xlfn.NORM.DIST(C23,$L$31,$M$31,TRUE)-_xlfn.NORM.DIST(B23,$L$31,$M$31,TRUE))*(1-BRLRWT!$H$10/100),(_xlfn.NORM.DIST(C23,$L$31,$M$31,TRUE)-_xlfn.NORM.DIST(B23,$L$31,$M$31,TRUE))),\"\")","v":3.6392713371796649E-2},4.1470197538447877E-2,{"$f":"IF(D23<>\"\",D23*BRLRWT!$H$9*1000,\"\")","v":507.74841666512305},{"$f":"IF(E23<>\"\",E23*BRLRWT!$H$9*1000,\"\")","v":3639.2713371796649},4147.0197538447883]
[null,1.8379980381250012,1.9200141325000013,{"$f":"IF($L$30<>\"\",IF(INPUT!$H$10=1,(_xlfn.NORM.DIST(C24,$L$30,$M$30,TRUE)-_xlfn.NORM.DIST(B24,$L$30,$M$30,TRUE))*BRLRWT!$H$10/100,(_xlfn.NORM.DIST(C24,$L$30,$M$30,TRUE)-_xlfn.NORM.DIST(B24,$L$30,$M$30,TRUE))),\"\")","v":1.1307141474677927E-2},{"$f":"IF($L$31<>\"\",IF(INPUT!$H$10=1,(_xlfn.NORM.DIST(C24,$L$31,$M$31,TRUE)-_xlfn.NORM.DIST(B24,$L$31,$M$31,TRUE))*(1-BRLRWT!$H$10/100),(_xlfn.NORM.DIST(C24,$L$31,$M$31,TRUE)-_xlfn.NORM.DIST(B24,$L$31,$M$31,TRUE))),\"\")","v":5.5902813324020709E-2},6.7209954798698637E-2,{"$f":"IF(D24<>\"\",D24*BRLRWT!$H$9*1000,\"\")","v":1130.7141474677926},{"$f":"IF(E24<>\"\",E24*BRLRWT!$H$9*1000,\"\")","v":5590.2813324020717},6720.9954798698645]
[null,1.9200141325000013,2.0020302268750014,{"$f":"IF($L$30<>\"\",IF(INPUT!$H$10=1,(_xlfn.NORM.DIST(C25,$L$30,$M$30,TRUE)-_xlfn.NORM.DIST(B25,$L$30,$M$30,TRUE))*BRLRWT!$H$10/100,(_xlfn.NORM.DIST(C25,$L$30,$M$30,TRUE)-_xlfn.NORM.DIST(B25,$L$30,$M$30,TRUE))),\"\")","v":2.1868609166222484E-2},{"$f":"IF($L$31<>\"\",IF(INPUT!$H$10=1,(_xlfn.NORM.DIST(C25,$L$31,$M$31,TRUE)-_xlfn.NORM.DIST(B25,$L$31,$M$31,TRUE))*(1-BRLRWT!$H$10/100),(_xlfn.NORM.DIST(C25,$L$31,$M$31,TRUE)-_xlfn.NORM.DIST(B25,$L$31,$M$31,TRUE))),\"\")","v":7.2888688634436649E-2},9.475729780065914E-2,{"$f":"IF(D25<>\"\",D25*BRLRWT!$H$9*1000,\"\")","v":2186.8609166222486},{"$f":"IF(E25<>\"\",E25*BRLRWT!$H$9*1000,\"\")","v":7288.8688634436648},9475.7297800659144]
[null,2.0020302268750014,2.0840463212500016,{"$f":"IF($L$30<>\"\",IF(INPUT!$H$10=1,(_xlfn.NORM.DIST(C26,$L$30,$M$30,TRUE)-_xlfn.NORM.DIST(B26,$L$30,$M$30,TRUE))*BRLRWT!$H$10/100,(_xlfn.NORM.DIST(C26,$L$30,$M$30,TRUE)-_xlfn.NORM.DIST(B26,$L$30,$M$30,TRUE))),\"\")","v":3.6733326582963653E-2},{"$f":"IF($L$31<>\"\",IF(INPUT!$H$10=1,(_xlfn.NORM.DIST(C26,$L$31,$M$31,TRUE)-_xlfn.NORM.DIST(B26,$L$31,$M$31,TRUE))*(1-BRLRWT!$H$10/100),(_xlfn.NORM.DIST(C26,$L$31,$M$31,TRUE)-_xlfn.NORM.DIST(B26,$L$31,$M$31,TRUE))),\"\")","v":8.0667430118478045E-2},0.11740075670144171,{"$f":"IF(D26<>\"\",D26*BRLRWT!$H$9*1000,\"\")","v":3673.332658296365},{"$f":"IF(E26<>\"\",E26*BRLRWT!$H$9*1000,\"\")","v":8066.7430118478051},11740.07567014417]
[null,2.0840463212500016,2.1660624156250017,{"$f":"IF($L$30<>\"\",IF(INPUT!$H$10=1,(_xlfn.NORM.DIST(C27,$L$30,$M$30,TRUE)-_xlfn.NORM.DIST(B27,$L$30,$M$30,TRUE))*BRLRWT!$H$10/100,(_xlfn.NORM.DIST(C27,$L$30,$M$30,TRUE)-_xlfn.NORM.DIST(B27,$L$30,$M$30,TRUE))),\"\")","v":5.3588972835470969E-2},{"$f":"IF($L$31<>\"\",IF(INPUT!$H$10=1,(_xlfn.NORM.DIST(C27,$L$31,$M$31,TRUE)-_xlfn.NORM.DIST(B27,$L$31,$M$31,TRUE))*(1-BRLRWT!$H$10/100),(_xlfn.NORM.DIST(C27,$L$31,$M$31,TRUE)-_xlfn.NORM.DIST(B27,$L$31,$M$31,TRUE))),\"\")","v":7.5779126708142797E-2},0.12936809954361378,{"$f":"IF(D27<>\"\",D27*BRLRWT!$H$9*1000,\"\")","v":5358.8972835470968},{"$f":"IF(E27<>\"\",E27*BRLRWT!$H$9*1000,\"\")","v":7577.9126708142803},12936.809954361377]
[null,2.1660624156250017,2.2480785100000018,{"$f":"IF($L$30<>\"\",IF(INPUT!$H$10=1,(_xlfn.NORM.DIST(C28,$L$30,$M$30,TRUE)-_xlfn.NORM.DIST(B28,$L$30,$M$30,TRUE))*BRLRWT!$H$10/100,(_xlfn.NORM.DIST(C28,$L$30,$M$30,TRUE)-_xlfn.NORM.DIST(B28,$L$30,$M$30,TRUE))),\"\")","v":6.7900127797793419E-2},{"$f":"IF($L$31<>\"\",IF(INPUT!$H$10=1,(_xlfn.NORM.DIST(C28,$L$31,$M$31,TRUE)-_xlfn.NORM.DIST(B28,$L$31,$M$31,TRUE))*(1-BRLRWT!$H$10/100),(_xlfn.NORM.DIST(C28,$L$31,$M$31,TRUE)-_xlfn.NORM.DIST(B28,$L$31,$M$31,TRUE))),\"\")","v":6.0424522322284679E-2},0.1283246501200781,{"$f":"IF(D28<>\"\",D28*BRLRWT!$H$9*1000,\"\")","v":6790.0127797793421},{"$f":"IF(E28<>\"\",E28*BRLRWT!$H$9*1000,\"\")","v":6042.4522322284683},12832.465012007811,null," - Summary"]
[null,2.2480785100000018,2.3300946043750019,{"$f":"IF($L$30<>\"\",IF(INPUT!$H$10=1,(_xlfn.NORM.DIST(C29,$L$30,$M$30,TRUE)-_xlfn.NORM.DIST(B29,$L$30,$M$30,TRUE))*BRLRWT!$H$10/100,(_xlfn.NORM.DIST(C29,$L$30,$M$30,TRUE)-_xlfn.NORM.DIST(B29,$L$30,$M$30,TRUE))),\"\")","v":7.4721951285390803E-2},{"$f":"IF($L$31<>\"\",IF(INPUT!$H$10=1,(_xlfn.NORM.DIST(C29,$L$31,$M$31,TRUE)-_xlfn.NORM.DIST(B29,$L$31,$M$31,TRUE))*(1-BRLRWT!$H$10/100),(_xlfn.NORM.DIST(C29,$L$31,$M$31,TRUE)-_xlfn.NORM.DIST(B29,$L$31,$M$31,TRUE))),\"\")","v":4.0896428039529809E-2},0.11561837932492061,{"$f":"IF(D29<>\"\",D29*BRLRWT!$H$9*1000,\"\")","v":7472.1951285390796},{"$f":"IF(E29<>\"\",E29*BRLRWT!$H$9*1000,\"\")","v":4089.642803952981},11561.837932492061,null,"Unit (lbs)","Mean","Std. Dev.","C.V. (%)"]
[null,2.3300946043750019,2.4121106987500021,{"$f":"IF($L$30<>\"\",IF(INPUT!$H$10=1,(_xlfn.NORM.DIST(C30,$L$30,$M$30,TRUE)-_xlfn.NORM.DIST(B30,$L$30,$M$30,TRUE))*BRLRWT!$H$10/100,(_xlfn.NORM.DIST(C30,$L$30,$M$30,TRUE)-_xlfn.NORM.DIST(B30,$L$30,$M$30,TRUE))),\"\")","v":7.1418261349401546E-2},{"$f":"IF($L$31<>\"\",IF(INPUT!$H$10=1,(_xlfn.NORM.DIST(C30,$L$31,$M$31,TRUE)-_xlfn.NORM.DIST(B30,$L$31,$M$31,TRUE))*(1-BRLRWT!$H$10/100),(_xlfn.NORM.DIST(C30,$L$31,$M$31,TRUE)-_xlfn.NORM.DIST(B30,$L$31,$M$31,TRUE))),\"\")","v":2.3494146265324478E-2},9.4912407614726024E-2,{"$f":"IF(D30<>\"\",D30*BRLRWT!$H$9*1000,\"\")","v":7141.8261349401555},{"$f":"IF(E30<>\"\",E30*BRLRWT!$H$9*1000,\"\")","v":2349.4146265324475},9491.2407614726035,null,"Male",2.3037829260445957,0.21715661900892938,{"$f":"IF(L30<>\"\",M30/L30*100,\"\")","v":9.4260885673707673}]
[null,2.4121106987500021,2.4941267931250022,{"$f":"IF($L$30<>\"\",IF(INPUT!$H$10=1,(_xlfn.NORM.DIST(C31,$L$30,$M$30,TRUE)-_xlfn.NORM.DIST(B31,$L$30,$M$30,TRUE))*BRLRWT!$H$10/100,(_xlfn.NORM.DIST(C31,$L$30,$M$30,TRUE)-_xlfn.NORM.DIST(B31,$L$30,$M$30,TRUE))),\"\")","v":5.9286160355779882E-2},{"$f":"IF($L$31<>\"\",IF(INPUT!$H$10=1,(_xlfn.NORM.DIST(C31,$L$31,$M$31,TRUE)-_xlfn.NORM.DIST(B31,$L$31,$M$31,TRUE))*(1-BRLRWT!$H$10/100),(_xlfn.NORM.DIST(C31,$L$31,$M$31,TRUE)-_xlfn.NORM.DIST(B31,$L$31,$M$31,TRUE))),\"\")","v":1.1455845429766076E-2},7.0742005785545958E-2,{"$f":"IF(D31<>\"\",D31*BRLRWT!$H$9*1000,\"\")","v":5928.6160355779884},{"$f":"IF(E31<>\"\",E31*BRLRWT!$H$9*1000,\"\")","v":1145.5845429766075},7074.2005785545962,null,"Female",2.0527676415956511,0.20117816388740392,{"$f":"IF(L31<>\"\",M31/L31*100,\"\")","v":9.8003378371175387}]
[null,2.4941267931250022,2.5761428875000023,{"$f":"IF($L$30<>\"\",IF(INPUT!$H$10=1,(_xlfn.NORM.DIST(C32,$L$30,$M$30,TRUE)-_xlfn.NORM.DIST(B32,$L$30,$M$30,TRUE))*BRLRWT!$H$10/100,(_xlfn.NORM.DIST(C32,$L$30,$M$30,TRUE)-_xlfn.NORM.DIST(B32,$L$30,$M$30,TRUE))),\"\")","v":4.2744320080995379E-2},{"$f":"IF($L$31<>\"\",IF(INPUT!$H$10=1,(_xlfn.NORM.DIST(C32,$L$31,$M$31,TRUE)-_xlfn.NORM.DIST(B32,$L$31,$M$31,TRUE))*(1-BRLRWT!$H$10/100),(_xlfn.NORM.DIST(C32,$L$31,$M$31,TRUE)-_xlfn.NORM.DIST(B32,$L$31,$M$31,TRUE))),\"\")","v":4.7410703621355577E-3},4.7485390443130937E-2,{"$f":"IF(D32<>\"\",D32*BRLRWT!$H$9*1000,\"\")","v":4274.4320080995376},{"$f":"IF(E32<>\"\",E32*BRLRWT!$H$9*1000,\"\")","v":474.10703621355577},4748.5390443130937,null,"S/Run",2.1782752838201231,0.24406350333262647,{"$f":"IF(L32<>\"\",M32/L32*100,\"\")","v":11.204437985661901}]
[null,2.5761428875000023,2.6581589818750024,{"$f":"IF($L$30<>\"\",IF(INPUT!$H$10=1,(_xlfn.NORM.DIST(C33,$L$30,$M$30,TRUE)-_xlfn.NORM.DIST(B33,$L$30,$M$30,TRUE))*BRLRWT!$H$10/100,(_xlfn.NORM.DIST(C33,$L$30,$M$30,TRUE)-_xlfn.NORM.DIST(B33,$L$30,$M$30,TRUE))),\"\")","v":2.6765856373986541E-2},{"$f":"IF($L$31<>\"\",IF(INPUT!$H$10=1,(_xlfn.NORM.DIST(C33,$L$31,$M$31,TRUE)-_xlfn.NORM.DIST(B33,$L$31,$M$31,TRUE))*(1-BRLRWT!$H$10/100),(_xlfn.NORM.DIST(C33,$L$31,$M$31,TRUE)-_xlfn.NORM.DIST(B33,$L$31,$M$31,TRUE))),\"\")","v":1.665304714685012E-3},2.8431161088671553E-2,{"$f":"IF(D33<>\"\",D33*BRLRWT!$H$9*1000,\"\")","v":2676.5856373986539},{"$f":"IF(E33<>\"\",E33*BRLRWT!$H$9*1000,\"\")","v":166.53047146850119},2843.1161088671552]
[null,2.6581589818750024,2.7401750762500026,{"$f":"IF($L$30<>\"\",IF(INPUT!$H$10=1,(_xlfn.NORM.DIST(C34,$L$30,$M$30,TRUE)-_xlfn.NORM.DIST(B34,$L$30,$M$30,TRUE))*BRLRWT!$H$10/100,(_xlfn.NORM.DIST(C34,$L$30,$M$30,TRUE)-_xlfn.NORM.DIST(B34,$L$30,$M$30,TRUE))),\"\")","v":1.4556491025503937E-2},{"$f":"IF($L$31<>\"\",IF(INPUT!$H$10=1,(_xlfn.NORM.DIST(C34,$L$31,$M$31,TRUE)-_xlfn.NORM.DIST(B34,$L$31,$M$31,TRUE))*(1-BRLRWT!$H$10/100),(_xlfn.NORM.DIST(C34,$L$31,$M$31,TRUE)-_xlfn.NORM.DIST(B34,$L$31,$M$31,TRUE))),\"\")","v":4.9643592801140723E-4},1.5052926953515344E-2,{"$f":"IF(D34<>\"\",D34*BRLRWT!$H$9*1000,\"\")","v":1455.6491025503938},{"$f":"IF(E34<>\"\",E34*BRLRWT!$H$9*1000,\"\")","v":49.643592801140727},1505.2926953515346]
[null,2.7401750762500026,2.8221911706250027,{"$f":"IF($L$30<>\"\",IF(INPUT!$H$10=1,(_xlfn.NORM.DIST(C35,$L$30,$M$30,TRUE)-_xlfn.NORM.DIST(B35,$L$30,$M$30,TRUE))*BRLRWT!$H$10/100,(_xlfn.NORM.DIST(C35,$L$30,$M$30,TRUE)-_xlfn.NORM.DIST(B35,$L$30,$M$30,TRUE))),\"\")","v":6.8754144490812963E-3},{"$f":"IF($L$31<>\"\",IF(INPUT!$H$10=1,(_xlfn.NORM.DIST(C35,$L$31,$M$31,TRUE)-_xlfn.NORM.DIST(B35,$L$31,$M$31,TRUE))*(1-BRLRWT!$H$10/100),(_xlfn.NORM.DIST(C35,$L$31,$M$31,TRUE)-_xlfn.NORM.DIST(B35,$L$31,$M$31,TRUE))),\"\")","v":1.2559346490226275E-4},7.001007913983559E-3,{"$f":"IF(D35<>\"\",D35*BRLRWT!$H$9*1000,\"\")","v":687.54144490812962},{"$f":"IF(E35<>\"\",E35*BRLRWT!$H$9*1000,\"\")","v":12.559346490226275},700.10079139835591]
[null,2.8221911706250027,2.9042072650000028,{"$f":"IF($L$30<>\"\",IF(INPUT!$H$10=1,(_xlfn.NORM.DIST(C36,$L$30,$M$30,TRUE)-_xlfn.NORM.DIST(B36,$L$30,$M$30,TRUE))*BRLRWT!$H$10/100,(_xlfn.NORM.DIST(C36,$L$30,$M$30,TRUE)-_xlfn.NORM.DIST(B36,$L$30,$M$30,TRUE))),\"\")","v":2.8203317077645784E-3},{"$f":"IF($L$31<>\"\",IF(INPUT!$H$10=1,(_xlfn.NORM.DIST(C36,$L$31,$M$31,TRUE)-_xlfn.NORM.DIST(B36,$L$31,$M$31,TRUE))*(1-BRLRWT!$H$10/100),(_xlfn.NORM.DIST(C36,$L$31,$M$31,TRUE)-_xlfn.NORM.DIST(B36,$L$31,$M$31,TRUE))),\"\")","v":2.6964080901636933E-5},2.8472957886662154E-3,{"$f":"IF(D36<>\"\",D36*BRLRWT!$H$9*1000,\"\")","v":282.03317077645784},{"$f":"IF(E36<>\"\",E36*BRLRWT!$H$9*1000,\"\")","v":2.6964080901636933},284.72957886662152]
[null,2.9042072650000028,2.9862233593750029,{"$f":"IF($L$30<>\"\",IF(INPUT!$H$10=1,(_xlfn.NORM.DIST(C37,$L$30,$M$30,TRUE)-_xlfn.NORM.DIST(B37,$L$30,$M$30,TRUE))*BRLRWT!$H$10/100,(_xlfn.NORM.DIST(C37,$L$30,$M$30,TRUE)-_xlfn.NORM.DIST(B37,$L$30,$M$30,TRUE))),\"\")","v":1.0047357608168328E-3},{"$f":"IF($L$31<>\"\",IF(INPUT!$H$10=1,(_xlfn.NORM.DIST(C37,$L$31,$M$31,TRUE)-_xlfn.NORM.DIST(B37,$L$31,$M$31,TRUE))*(1-BRLRWT!$H$10/100),(_xlfn.NORM.DIST(C37,$L$31,$M$31,TRUE)-_xlfn.NORM.DIST(B37,$L$31,$M$31,TRUE))),\"\")","v":4.9124459873262083E-6},1.009648206804159E-3,{"$f":"IF(D37<>\"\",D37*BRLRWT!$H$9*1000,\"\")","v":100.47357608168328},{"$f":"IF(E37<>\"\",E37*BRLRWT!$H$9*1000,\"\")","v":0.49124459873262083},100.9648206804159]
[null,2.9862233593750029,3.0682394537500031,{"$f":"IF($L$30<>\"\",IF(INPUT!$H$10=1,(_xlfn.NORM.DIST(C38,$L$30,$M$30,TRUE)-_xlfn.NORM.DIST(B38,$L$30,$M$30,TRUE))*BRLRWT!$H$10/100,(_xlfn.NORM.DIST(C38,$L$30,$M$30,TRUE)-_xlfn.NORM.DIST(B38,$L$30,$M$30,TRUE))),\"\")","v":3.1084505386302919E-4},{"$f":"IF($L$31<>\"\",IF(INPUT!$H$10=1,(_xlfn.NORM.DIST(C38,$L$31,$M$31,TRUE)-_xlfn.NORM.DIST(B38,$L$31,$M$31,TRUE))*(1-BRLRWT!$H$10/100),(_xlfn.NORM.DIST(C38,$L$31,$M$31,TRUE)-_xlfn.NORM.DIST(B38,$L$31,$M$31,TRUE))),\"\")","v":7.5941829008607797E-7},3.1160447215311526E-4,{"$f":"IF(D38<>\"\",D38*BRLRWT!$H$9*1000,\"\")","v":31.084505386302919},{"$f":"IF(E38<>\"\",E38*BRLRWT!$H$9*1000,\"\")","v":7.5941829008607797E-2},31.160447215311528]
[null,3.0682394537500031,3.1502555481250032,{"$f":"IF($L$30<>\"\",IF(INPUT!$H$10=1,(_xlfn.NORM.DIST(C39,$L$30,$M$30,TRUE)-_xlfn.NORM.DIST(B39,$L$30,$M$30,TRUE))*BRLRWT!$H$10/100,(_xlfn.NORM.DIST(C39,$L$30,$M$30,TRUE)-_xlfn.NORM.DIST(B39,$L$30,$M$30,TRUE))),\"\")","v":8.351519054883294E-5},{"$f":"IF($L$31<>\"\",IF(INPUT!$H$10=1,(_xlfn.NORM.DIST(C39,$L$31,$M$31,TRUE)-_xlfn.NORM.DIST(B39,$L$31,$M$31,TRUE))*(1-BRLRWT!$H$10/100),(_xlfn.NORM.DIST(C39,$L$31,$M$31,TRUE)-_xlfn.NORM.DIST(B39,$L$31,$M$31,TRUE))),\"\")","v":9.9612034176743691E-8},8.3614802583009684E-5,{"$f":"IF(D39<>\"\",D39*BRLRWT!$H$9*1000,\"\")","v":8.351519054883294},{"$f":"IF(E39<>\"\",E39*BRLRWT!$H$9*1000,\"\")","v":9.9612034176743691E-3},8.3614802583009684]
[null,3.1502555481250032,3.2322716425000033,{"$f":"IF($L$30<>\"\",IF(INPUT!$H$10=1,(_xlfn.NORM.DIST(C40,$L$30,$M$30,TRUE)-_xlfn.NORM.DIST(B40,$L$30,$M$30,TRUE))*BRLRWT!$H$10/100,(_xlfn.NORM.DIST(C40,$L$30,$M$30,TRUE)-_xlfn.NORM.DIST(B40,$L$30,$M$30,TRUE))),\"\")","v":1.9485178739175879E-5},{"$f":"IF($L$31<>\"\",IF(INPUT!$H$10=1,(_xlfn.NORM.DIST(C40,$L$31,$M$31,TRUE)-_xlfn.NORM.DIST(B40,$L$31,$M$31,TRUE))*(1-BRLRWT!$H$10/100),(_xlfn.NORM.DIST(C40,$L$31,$M$31,TRUE)-_xlfn.NORM.DIST(B40,$L$31,$M$31,TRUE))),\"\")","v":1.1085762086082696E-8},1.9496264501261962E-5,{"$f":"IF(D40<>\"\",D40*BRLRWT!$H$9*1000,\"\")","v":1.9485178739175879},{"$f":"IF(E40<>\"\",E40*BRLRWT!$H$9*1000,\"\")","v":1.1085762086082696E-3},1.9496264501261962]
[null,3.2322716425000033,3.3142877368750034,{"$f":"IF($L$30<>\"\",IF(INPUT!$H$10=1,(_xlfn.NORM.DIST(C41,$L$30,$M$30,TRUE)-_xlfn.NORM.DIST(B41,$L$30,$M$30,TRUE))*BRLRWT!$H$10/100,(_xlfn.NORM.DIST(C41,$L$30,$M$30,TRUE)-_xlfn.NORM.DIST(B41,$L$30,$M$30,TRUE))),\"\")","v":3.9477333130255587E-6},{"$f":"IF($L$31<>\"\",IF(INPUT!$H$10=1,(_xlfn.NORM.DIST(C41,$L$31,$M$31,TRUE)-_xlfn.NORM.DIST(B41,$L$31,$M$31,TRUE))*(1-BRLRWT!$H$10/100),(_xlfn.NORM.DIST(C41,$L$31,$M$31,TRUE)-_xlfn.NORM.DIST(B41,$L$31,$M$31,TRUE))),\"\")","v":1.0466876254611179E-9},3.9487800006510199E-6,{"$f":"IF(D41<>\"\",D41*BRLRWT!$H$9*1000,\"\")","v":0.39477333130255587},{"$f":"IF(E41<>\"\",E41*BRLRWT!$H$9*1000,\"\")","v":1.0466876254611179E-4},0.39487800006510199]
[null,3.3142877368750034,3.3963038312500036,{"$f":"IF($L$30<>\"\",IF(INPUT!$H$10=1,(_xlfn.NORM.DIST(C42,$L$30,$M$30,TRUE)-_xlfn.NORM.DIST(B42,$L$30,$M$30,TRUE))*BRLRWT!$H$10/100,(_xlfn.NORM.DIST(C42,$L$30,$M$30,TRUE)-_xlfn.NORM.DIST(B42,$L$30,$M$30,TRUE))),\"\")","v":6.9451560791300437E-7},{"$f":"IF($L$31<>\"\",IF(INPUT!$H$10=1,(_xlfn.NORM.DIST(C42,$L$31,$M$31,TRUE)-_xlfn.NORM.DIST(B42,$L$31,$M$31,TRUE))*(1-BRLRWT!$H$10/100),(_xlfn.NORM.DIST(C42,$L$31,$M$31,TRUE)-_xlfn.NORM.DIST(B42,$L$31,$M$31,TRUE))),\"\")","v":8.3837936593056384E-11},6.9459944584959743E-7,{"$f":"IF(D42<>\"\",D42*BRLRWT!$H$9*1000,\"\")","v":6.9451560791300437E-2},{"$f":"IF(E42<>\"\",E42*BRLRWT!$H$9*1000,\"\")","v":8.3837936593056384E-6},6.9459944584959743E-2]
[null,3.3963038312500036,3.4783199256250037,{"$f":"IF($L$30<>\"\",IF(INPUT!$H$10=1,(_xlfn.NORM.DIST(C43,$L$30,$M$30,TRUE)-_xlfn.NORM.DIST(B43,$L$30,$M$30,TRUE))*BRLRWT!$H$10/100,(_xlfn.NORM.DIST(C43,$L$30,$M$30,TRUE)-_xlfn.NORM.DIST(B43,$L$30,$M$30,TRUE))),\"\")","v":1.0609443579223665E-7},{"$f":"IF($L$31<>\"\",IF(INPUT!$H$10=1,(_xlfn.NORM.DIST(C43,$L$31,$M$31,TRUE)-_xlfn.NORM.DIST(B43,$L$31,$M$31,TRUE))*(1-BRLRWT!$H$10/100),(_xlfn.NORM.DIST(C43,$L$31,$M$31,TRUE)-_xlfn.NORM.DIST(B43,$L$31,$M$31,TRUE))),\"\")","v":5.6965543393516782E-12},1.06100132346576E-7,{"$f":"IF(D43<>\"\",D43*BRLRWT!$H$9*1000,\"\")","v":1.0609443579223665E-2},{"$f":"IF(E43<>\"\",E43*BRLRWT!$H$9*1000,\"\")","v":5.6965543393516782E-7},1.06100132346576E-2]
[null,3.4783199256250037,3.5603360200000038,{"$f":"IF($L$30<>\"\",IF(INPUT!$H$10=1,(_xlfn.NORM.DIST(C44,$L$30,$M$30,TRUE)-_xlfn.NORM.DIST(B44,$L$30,$M$30,TRUE))*BRLRWT!$H$10/100,(_xlfn.NORM.DIST(C44,$L$30,$M$30,TRUE)-_xlfn.NORM.DIST(B44,$L$30,$M$30,TRUE))),\"\")","v":1.4072284615362918E-8},{"$f":"IF($L$31<>\"\",IF(INPUT!$H$10=1,(_xlfn.NORM.DIST(C44,$L$31,$M$31,TRUE)-_xlfn.NORM.DIST(B44,$L$31,$M$31,TRUE))*(1-BRLRWT!$H$10/100),(_xlfn.NORM.DIST(C44,$L$31,$M$31,TRUE)-_xlfn.NORM.DIST(B44,$L$31,$M$31,TRUE))),\"\")","v":3.2829294838165879E-13},1.4072612908311299E-8,{"$f":"IF(D44<>\"\",D44*BRLRWT!$H$9*1000,\"\")","v":1.4072284615362918E-3},{"$f":"IF(E44<>\"\",E44*BRLRWT!$H$9*1000,\"\")","v":3.2829294838165879E-8},1.4072612908311299E-3]
[null,3.5603360200000038,{"$f":"\"inf.\"","v":"inf."},{"$f":"IF($L$30<>\"\",IF(INPUT!$H$10=1,(1-_xlfn.NORM.DIST(B45,$L$30,$M$30,TRUE))*BRLRWT!$H$10/100,(1-_xlfn.NORM.DIST(B45,$L$30,$M$30,TRUE))),\"\")","v":1.797868409703085E-9},{"$f":"IF($L$31<>\"\",IF(INPUT!$H$10=1,(1-_xlfn.NORM.DIST(B44,$L$31,$M$31,TRUE))*(1-BRLRWT!$H$10/100),(1-_xlfn.NORM.DIST(B44,$L$31,$M$31,TRUE))),\"\")","v":3.4505731605349865E-13},1.7982134670191385E-9,{"$f":"IF(D45<>\"\",D45*BRLRWT!$H$9*1000,\"\")","v":1.797868409703085E-4},{"$f":"IF(E45<>\"\",E45*BRLRWT!$H$9*1000,\"\")","v":3.4505731605349865E-8},1.7982134670191385E-4]
[null,"Total",null,{"$f":"SUM(D12:D45)","v":0.5},0.50000000000032829,1.0000000000003282,49999.999999999993,50000.000000032836,100000.00000003286]

{"sheet":"ThighWT","index":7,"n_rows":46,"n_cols":14,"rows_kept":46,"cut":false,"hidden":false,"merged":[[9,1,9,2],[9,3,9,5],[9,6,9,8],[45,1,45,2]]}
[]
[]
[]
[]
[]
[]
[]
["       3-3. Results - Thigh Weight Distribution",null,null,null,null,null,null,null,null,null,"Breed"]
[]
[null,"Weight (lbs)",null,"Percentage",null,null,"Numbers"]
[null,"Min. (>)","Max. (≤)","Male","Female","S/Run","Male","Female","S/Run"]
[null,{"$f":"\"-inf.\"","v":"-inf."},{"$f":"$M$13","v":0.55942446400000001},{"$f":"IF($L$30<>\"\",IF(INPUT!$H$10=1,_xlfn.NORM.DIST(C12,$L$30,$M$30,TRUE)*BRLRWT!$H$10/100,_xlfn.NORM.DIST(C12,$L$30,$M$30,TRUE)),\"\")","v":7.4687750197371649E-11},{"$f":"IF($L$31<>\"\",IF(INPUT!$H$10=1,_xlfn.NORM.DIST(C12,$L$31,$M$31,TRUE)*(1-BRLRWT!$H$10/100),_xlfn.NORM.DIST(C12,$L$31,$M$31,TRUE)),\"\")","v":4.4728010432294969E-8},{"$f":"IF(D12<>\"\",IF(E12<>\"\",D12+E12,\"\"),\"\")","v":4.4802698182492339E-8},{"$f":"IF(D12<>\"\",D12*BRLRWT!$H$9*1000,\"\")","v":7.4687750197371648E-6},{"$f":"IF(E12<>\"\",E12*BRLRWT!$H$9*1000,\"\")","v":4.4728010432294974E-3},{"$f":"IF(G12<>\"\",IF(H12<>\"\",G12+H12,\"\"),\"\")","v":4.4802698182492343E-3},null,null,"Range"]
[null,{"$f":"C12","v":0.55942446400000001},{"$f":"C12+$M$14","v":0.59472673881250004},{"$f":"IF($L$30<>\"\",IF(INPUT!$H$10=1,(_xlfn.NORM.DIST(C13,$L$30,$M$30,TRUE)-_xlfn.NORM.DIST(B13,$L$30,$M$30,TRUE))*BRLRWT!$H$10/100,(_xlfn.NORM.DIST(C13,$L$30,$M$30,TRUE)-_xlfn.NORM.DIST(B13,$L$30,$M$30,TRUE))),\"\")","v":4.7540148187451236E-10},{"$f":"IF($L$31<>\"\",IF(INPUT!$H$10=1,(_xlfn.NORM.DIST(C13,$L$31,$M$31,TRUE)-_xlfn.NORM.DIST(B13,$L$31,$M$31,TRUE))*(1-BRLRWT!$H$10/100),(_xlfn.NORM.DIST(C13,$L$31,$M$31,TRUE)-_xlfn.NORM.DIST(B13,$L$31,$M$31,TRUE))),\"\")","v":3.0932743398831755E-7},{"$f":"IF(D13<>\"\",IF(E13<>\"\",D13+E13,\"\"),\"\")","v":3.0980283547019206E-7},{"$f":"IF(D13<>\"\",D13*BRLRWT!$H$9*1000,\"\")","v":4.7540148187451238E-5},{"$f":"IF(E13<>\"\",E13*BRLRWT!$H$9*1000,\"\")","v":3.0932743398831751E-2},{"$f":"IF(G13<>\"\",IF(H13<>\"\",G13+H13,\"\"),\"\")","v":3.0980283547019202E-2},null,null,"min",0.55942446400000001]
[null,{"$f":"C13","v":0.59472673881250004},{"$f":"C13+$M$14","v":0.63002901362500008},{"$f":"IF($L$30<>\"\",IF(INPUT!$H$10=1,(_xlfn.NORM.DIST(C14,$L$30,$M$30,TRUE)-_xlfn.NORM.DIST(B14,$L$30,$M$30,TRUE))*BRLRWT!$H$10/100,(_xlfn.NORM.DIST(C14,$L$30,$M$30,TRUE)-_xlfn.NORM.DIST(B14,$L$30,$M$30,TRUE))),\"\")","v":3.1226434790628938E-9},{"$f":"IF($L$31<>\"\",IF(INPUT!$H$10=1,(_xlfn.NORM.DIST(C14,$L$31,$M$31,TRUE)-_xlfn.NORM.DIST(B14,$L$31,$M$31,TRUE))*(1-BRLRWT!$H$10/100),(_xlfn.NORM.DIST(C14,$L$31,$M$31,TRUE)-_xlfn.NORM.DIST(B14,$L$31,$M$31,TRUE))),\"\")","v":2.052486344850105E-6},{"$f":"IF(D14<>\"\",IF(E14<>\"\",D14+E14,\"\"),\"\")","v":2.0556089883291679E-6},{"$f":"IF(D14<>\"\",D14*BRLRWT!$H$9*1000,\"\")","v":3.1226434790628937E-4},{"$f":"IF(E14<>\"\",E14*BRLRWT!$H$9*1000,\"\")","v":0.20524863448501052},{"$f":"IF(G14<>\"\",IF(H14<>\"\",G14+H14,\"\"),\"\")","v":0.20556089883291681},null,null,"step size",3.5302274812500034E-2]
[null,{"$f":"C14","v":0.63002901362500008},{"$f":"C14+$M$14","v":0.66533128843750011},{"$f":"IF($L$30<>\"\",IF(INPUT!$H$10=1,(_xlfn.NORM.DIST(C15,$L$30,$M$30,TRUE)-_xlfn.NORM.DIST(B15,$L$30,$M$30,TRUE))*BRLRWT!$H$10/100,(_xlfn.NORM.DIST(C15,$L$30,$M$30,TRUE)-_xlfn.NORM.DIST(B15,$L$30,$M$30,TRUE))),\"\")","v":1.8561491194966908E-8},{"$f":"IF($L$31<>\"\",IF(INPUT!$H$10=1,(_xlfn.NORM.DIST(C15,$L$31,$M$31,TRUE)-_xlfn.NORM.DIST(B15,$L$31,$M$31,TRUE))*(1-BRLRWT!$H$10/100),(_xlfn.NORM.DIST(C15,$L$31,$M$31,TRUE)-_xlfn.NORM.DIST(B15,$L$31,$M$31,TRUE))),\"\")","v":1.1650741834828538E-5},1.1669303326023505E-5,{"$f":"IF(D15<>\"\",D15*BRLRWT!$H$9*1000,\"\")","v":1.8561491194966908E-3},{"$f":"IF(E15<>\"\",E15*BRLRWT!$H$9*1000,\"\")","v":1.1650741834828537},1.1669303326023504]
[null,0.66533128843750011,0.70063356325000015,{"$f":"IF($L$30<>\"\",IF(INPUT!$H$10=1,(_xlfn.NORM.DIST(C16,$L$30,$M$30,TRUE)-_xlfn.NORM.DIST(B16,$L$30,$M$30,TRUE))*BRLRWT!$H$10/100,(_xlfn.NORM.DIST(C16,$L$30,$M$30,TRUE)-_xlfn.NORM.DIST(B16,$L$30,$M$30,TRUE))),\"\")","v":9.9847464940625426E-8},{"$f":"IF($L$31<>\"\",IF(INPUT!$H$10=1,(_xlfn.NORM.DIST(C16,$L$31,$M$31,TRUE)-_xlfn.NORM.DIST(B16,$L$31,$M$31,TRUE))*(1-BRLRWT!$H$10/100),(_xlfn.NORM.DIST(C16,$L$31,$M$31,TRUE)-_xlfn.NORM.DIST(B16,$L$31,$M$31,TRUE))),\"\")","v":5.6579334226196661E-5},5.6679181691137285E-5,{"$f":"IF(D16<>\"\",D16*BRLRWT!$H$9*1000,\"\")","v":9.9847464940625436E-3},{"$f":"IF(E16<>\"\",E16*BRLRWT!$H$9*1000,\"\")","v":5.6579334226196663},5.6679181691137286]
[null,0.70063356325000015,0.73593583806250018,{"$f":"IF($L$30<>\"\",IF(INPUT!$H$10=1,(_xlfn.NORM.DIST(C17,$L$30,$M$30,TRUE)-_xlfn.NORM.DIST(B17,$L$30,$M$30,TRUE))*BRLRWT!$H$10/100,(_xlfn.NORM.DIST(C17,$L$30,$M$30,TRUE)-_xlfn.NORM.DIST(B17,$L$30,$M$30,TRUE))),\"\")","v":4.8607121958523559E-7},{"$f":"IF($L$31<>\"\",IF(INPUT!$H$10=1,(_xlfn.NORM.DIST(C17,$L$31,$M$31,TRUE)-_xlfn.NORM.DIST(B17,$L$31,$M$31,TRUE))*(1-BRLRWT!$H$10/100),(_xlfn.NORM.DIST(C17,$L$31,$M$31,TRUE)-_xlfn.NORM.DIST(B17,$L$31,$M$31,TRUE))),\"\")","v":2.350777239744235E-4},2.3556379519400872E-4,{"$f":"IF(D17<>\"\",D17*BRLRWT!$H$9*1000,\"\")","v":4.8607121958523562E-2},{"$f":"IF(E17<>\"\",E17*BRLRWT!$H$9*1000,\"\")","v":23.507772397442348},23.55637951940087]
[null,0.73593583806250018,0.77123811287500021,{"$f":"IF($L$30<>\"\",IF(INPUT!$H$10=1,(_xlfn.NORM.DIST(C18,$L$30,$M$30,TRUE)-_xlfn.NORM.DIST(B18,$L$30,$M$30,TRUE))*BRLRWT!$H$10/100,(_xlfn.NORM.DIST(C18,$L$30,$M$30,TRUE)-_xlfn.NORM.DIST(B18,$L$30,$M$30,TRUE))),\"\")","v":2.1414416455287795E-6},{"$f":"IF($L$31<>\"\",IF(INPUT!$H$10=1,(_xlfn.NORM.DIST(C18,$L$31,$M$31,TRUE)-_xlfn.NORM.DIST(B18,$L$31,$M$31,TRUE))*(1-BRLRWT!$H$10/100),(_xlfn.NORM.DIST(C18,$L$31,$M$31,TRUE)-_xlfn.NORM.DIST(B18,$L$31,$M$31,TRUE))),\"\")","v":8.3566408136458896E-4},8.378055230101177E-4,{"$f":"IF(D18<>\"\",D18*BRLRWT!$H$9*1000,\"\")","v":0.21414416455287796},{"$f":"IF(E18<>\"\",E18*BRLRWT!$H$9*1000,\"\")","v":83.56640813645889},83.780552301011767]
[null,0.77123811287500021,0.80654038768750025,{"$f":"IF($L$30<>\"\",IF(INPUT!$H$10=1,(_xlfn.NORM.DIST(C19,$L$30,$M$30,TRUE)-_xlfn.NORM.DIST(B19,$L$30,$M$30,TRUE))*BRLRWT!$H$10/100,(_xlfn.NORM.DIST(C19,$L$30,$M$30,TRUE)-_xlfn.NORM.DIST(B19,$L$30,$M$30,TRUE))),\"\")","v":8.5380883697584935E-6},{"$f":"IF($L$31<>\"\",IF(INPUT!$H$10=1,(_xlfn.NORM.DIST(C19,$L$31,$M$31,TRUE)-_xlfn.NORM.DIST(B19,$L$31,$M$31,TRUE))*(1-BRLRWT!$H$10/100),(_xlfn.NORM.DIST(C19,$L$31,$M$31,TRUE)-_xlfn.NORM.DIST(B19,$L$31,$M$31,TRUE))),\"\")","v":2.5417594680275375E-3},2.5502975563972958E-3,{"$f":"IF(D19<>\"\",D19*BRLRWT!$H$9*1000,\"\")","v":0.85380883697584942},{"$f":"IF(E19<>\"\",E19*BRLRWT!$H$9*1000,\"\")","v":254.17594680275374},255.02975563972959]
[null,0.80654038768750025,0.84184266250000028,{"$f":"IF($L$30<>\"\",IF(INPUT!$H$10=1,(_xlfn.NORM.DIST(C20,$L$30,$M$30,TRUE)-_xlfn.NORM.DIST(B20,$L$30,$M$30,TRUE))*BRLRWT!$H$10/100,(_xlfn.NORM.DIST(C20,$L$30,$M$30,TRUE)-_xlfn.NORM.DIST(B20,$L$30,$M$30,TRUE))),\"\")","v":3.0808282420413885E-5},{"$f":"IF($L$31<>\"\",IF(INPUT!$H$10=1,(_xlfn.NORM.DIST(C20,$L$31,$M$31,TRUE)-_xlfn.NORM.DIST(B20,$L$31,$M$31,TRUE))*(1-BRLRWT!$H$10/100),(_xlfn.NORM.DIST(C20,$L$31,$M$31,TRUE)-_xlfn.NORM.DIST(B20,$L$31,$M$31,TRUE))),\"\")","v":6.6150620448090711E-3},6.6458703272294847E-3,{"$f":"IF(D20<>\"\",D20*BRLRWT!$H$9*1000,\"\")","v":3.0808282420413886},{"$f":"IF(E20<>\"\",E20*BRLRWT!$H$9*1000,\"\")","v":661.50620448090717},664.58703272294861]
[null,0.84184266250000028,0.87714493731250032,{"$f":"IF($L$30<>\"\",IF(INPUT!$H$10=1,(_xlfn.NORM.DIST(C21,$L$30,$M$30,TRUE)-_xlfn.NORM.DIST(B21,$L$30,$M$30,TRUE))*BRLRWT!$H$10/100,(_xlfn.NORM.DIST(C21,$L$30,$M$30,TRUE)-_xlfn.NORM.DIST(B21,$L$30,$M$30,TRUE))),\"\")","v":1.0060762863477066E-4},{"$f":"IF($L$31<>\"\",IF(INPUT!$H$10=1,(_xlfn.NORM.DIST(C21,$L$31,$M$31,TRUE)-_xlfn.NORM.DIST(B21,$L$31,$M$31,TRUE))*(1-BRLRWT!$H$10/100),(_xlfn.NORM.DIST(C21,$L$31,$M$31,TRUE)-_xlfn.NORM.DIST(B21,$L$31,$M$31,TRUE))),\"\")","v":1.4731357349711885E-2},1.4831964978346655E-2,{"$f":"IF(D21<>\"\",D21*BRLRWT!$H$9*1000,\"\")","v":10.060762863477064},{"$f":"IF(E21<>\"\",E21*BRLRWT!$H$9*1000,\"\")","v":1473.1357349711884},1483.1964978346655]
[null,0.87714493731250032,0.91244721212500035,{"$f":"IF($L$30<>\"\",IF(INPUT!$H$10=1,(_xlfn.NORM.DIST(C22,$L$30,$M$30,TRUE)-_xlfn.NORM.DIST(B22,$L$30,$M$30,TRUE))*BRLRWT!$H$10/100,(_xlfn.NORM.DIST(C22,$L$30,$M$30,TRUE)-_xlfn.NORM.DIST(B22,$L$30,$M$30,TRUE))),\"\")","v":2.9734101396906517E-4},{"$f":"IF($L$31<>\"\",IF(INPUT!$H$10=1,(_xlfn.NORM.DIST(C22,$L$31,$M$31,TRUE)-_xlfn.NORM.DIST(B22,$L$31,$M$31,TRUE))*(1-BRLRWT!$H$10/100),(_xlfn.NORM.DIST(C22,$L$31,$M$31,TRUE)-_xlfn.NORM.DIST(B22,$L$31,$M$31,TRUE))),\"\")","v":2.8071897368049922E-2},2.8369238382018987E-2,{"$f":"IF(D22<>\"\",D22*BRLRWT!$H$9*1000,\"\")","v":29.734101396906517},{"$f":"IF(E22<>\"\",E22*BRLRWT!$H$9*1000,\"\")","v":2807.1897368049922},2836.9238382018989]
[null,0.91244721212500035,0.94774948693750038,{"$f":"IF($L$30<>\"\",IF(INPUT!$H$10=1,(_xlfn.NORM.DIST(C23,$L$30,$M$30,TRUE)-_xlfn.NORM.DIST(B23,$L$30,$M$30,TRUE))*BRLRWT!$H$10/100,(_xlfn.NORM.DIST(C23,$L$30,$M$30,TRUE)-_xlfn.NORM.DIST(B23,$L$30,$M$30,TRUE))),\"\")","v":7.9532170211240195E-4},{"$f":"IF($L$31<>\"\",IF(INPUT!$H$10=1,(_xlfn.NORM.DIST(C23,$L$31,$M$31,TRUE)-_xlfn.NORM.DIST(B23,$L$31,$M$31,TRUE))*(1-BRLRWT!$H$10/100),(_xlfn.NORM.DIST(C23,$L$31,$M$31,TRUE)-_xlfn.NORM.DIST(B23,$L$31,$M$31,TRUE))),\"\")","v":4.577515007913377E-2},4.6570471781246174E-2,{"$f":"IF(D23<>\"\",D23*BRLRWT!$H$9*1000,\"\")","v":79.532170211240185},{"$f":"IF(E23<>\"\",E23*BRLRWT!$H$9*1000,\"\")","v":4577.5150079133764},4657.0471781246169]
[null,0.94774948693750038,0.98305176175000042,{"$f":"IF($L$30<>\"\",IF(INPUT!$H$10=1,(_xlfn.NORM.DIST(C24,$L$30,$M$30,TRUE)-_xlfn.NORM.DIST(B24,$L$30,$M$30,TRUE))*BRLRWT!$H$10/100,(_xlfn.NORM.DIST(C24,$L$30,$M$30,TRUE)-_xlfn.NORM.DIST(B24,$L$30,$M$30,TRUE))),\"\")","v":1.9252995422423089E-3},{"$f":"IF($L$31<>\"\",IF(INPUT!$H$10=1,(_xlfn.NORM.DIST(C24,$L$31,$M$31,TRUE)-_xlfn.NORM.DIST(B24,$L$31,$M$31,TRUE))*(1-BRLRWT!$H$10/100),(_xlfn.NORM.DIST(C24,$L$31,$M$31,TRUE)-_xlfn.NORM.DIST(B24,$L$31,$M$31,TRUE))),\"\")","v":6.3873924035976623E-2},6.5799223578218935E-2,{"$f":"IF(D24<>\"\",D24*BRLRWT!$H$9*1000,\"\")","v":192.52995422423089},{"$f":"IF(E24<>\"\",E24*BRLRWT!$H$9*1000,\"\")","v":6387.3924035976625},6579.9223578218935]
[null,0.98305176175000042,1.0183540365625006,{"$f":"IF($L$30<>\"\",IF(INPUT!$H$10=1,(_xlfn.NORM.DIST(C25,$L$30,$M$30,TRUE)-_xlfn.NORM.DIST(B25,$L$30,$M$30,TRUE))*BRLRWT!$H$10/100,(_xlfn.NORM.DIST(C25,$L$30,$M$30,TRUE)-_xlfn.NORM.DIST(B25,$L$30,$M$30,TRUE))),\"\")","v":4.2181721010257677E-3},{"$f":"IF($L$31<>\"\",IF(INPUT!$H$10=1,(_xlfn.NORM.DIST(C25,$L$31,$M$31,TRUE)-_xlfn.NORM.DIST(B25,$L$31,$M$31,TRUE))*(1-BRLRWT!$H$10/100),(_xlfn.NORM.DIST(C25,$L$31,$M$31,TRUE)-_xlfn.NORM.DIST(B25,$L$31,$M$31,TRUE))),\"\")","v":7.6270731840959699E-2},8.0488903941985462E-2,{"$f":"IF(D25<>\"\",D25*BRLRWT!$H$9*1000,\"\")","v":421.81721010257678},{"$f":"IF(E25<>\"\",E25*BRLRWT!$H$9*1000,\"\")","v":7627.0731840959697},8048.8903941985463]
[null,1.0183540365625006,1.0536563113750006,{"$f":"IF($L$30<>\"\",IF(INPUT!$H$10=1,(_xlfn.NORM.DIST(C26,$L$30,$M$30,TRUE)-_xlfn.NORM.DIST(B26,$L$30,$M$30,TRUE))*BRLRWT!$H$10/100,(_xlfn.NORM.DIST(C26,$L$30,$M$30,TRUE)-_xlfn.NORM.DIST(B26,$L$30,$M$30,TRUE))),\"\")","v":8.3641832778167911E-3},{"$f":"IF($L$31<>\"\",IF(INPUT!$H$10=1,(_xlfn.NORM.DIST(C26,$L$31,$M$31,TRUE)-_xlfn.NORM.DIST(B26,$L$31,$M$31,TRUE))*(1-BRLRWT!$H$10/100),(_xlfn.NORM.DIST(C26,$L$31,$M$31,TRUE)-_xlfn.NORM.DIST(B26,$L$31,$M$31,TRUE))),\"\")","v":7.7935483720001225E-2},8.629966699781802E-2,{"$f":"IF(D26<>\"\",D26*BRLRWT!$H$9*1000,\"\")","v":836.41832778167918},{"$f":"IF(E26<>\"\",E26*BRLRWT!$H$9*1000,\"\")","v":7793.548372000123},8629.9666997818022]
[null,1.0536563113750006,1.0889585861875006,{"$f":"IF($L$30<>\"\",IF(INPUT!$H$10=1,(_xlfn.NORM.DIST(C27,$L$30,$M$30,TRUE)-_xlfn.NORM.DIST(B27,$L$30,$M$30,TRUE))*BRLRWT!$H$10/100,(_xlfn.NORM.DIST(C27,$L$30,$M$30,TRUE)-_xlfn.NORM.DIST(B27,$L$30,$M$30,TRUE))),\"\")","v":1.5010614394175418E-2},{"$f":"IF($L$31<>\"\",IF(INPUT!$H$10=1,(_xlfn.NORM.DIST(C27,$L$31,$M$31,TRUE)-_xlfn.NORM.DIST(B27,$L$31,$M$31,TRUE))*(1-BRLRWT!$H$10/100),(_xlfn.NORM.DIST(C27,$L$31,$M$31,TRUE)-_xlfn.NORM.DIST(B27,$L$31,$M$31,TRUE))),\"\")","v":6.8148432160152206E-2},8.3159046554327626E-2,{"$f":"IF(D27<>\"\",D27*BRLRWT!$H$9*1000,\"\")","v":1501.0614394175418},{"$f":"IF(E27<>\"\",E27*BRLRWT!$H$9*1000,\"\")","v":6814.8432160152206},8315.9046554327615]
[null,1.0889585861875006,1.1242608610000007,{"$f":"IF($L$30<>\"\",IF(INPUT!$H$10=1,(_xlfn.NORM.DIST(C28,$L$30,$M$30,TRUE)-_xlfn.NORM.DIST(B28,$L$30,$M$30,TRUE))*BRLRWT!$H$10/100,(_xlfn.NORM.DIST(C28,$L$30,$M$30,TRUE)-_xlfn.NORM.DIST(B28,$L$30,$M$30,TRUE))),\"\")","v":2.4380980690084576E-2},{"$f":"IF($L$31<>\"\",IF(INPUT!$H$10=1,(_xlfn.NORM.DIST(C28,$L$31,$M$31,TRUE)-_xlfn.NORM.DIST(B28,$L$31,$M$31,TRUE))*(1-BRLRWT!$H$10/100),(_xlfn.NORM.DIST(C28,$L$31,$M$31,TRUE)-_xlfn.NORM.DIST(B28,$L$31,$M$31,TRUE))),\"\")","v":5.0993863040052212E-2},7.5374843730136781E-2,{"$f":"IF(D28<>\"\",D28*BRLRWT!$H$9*1000,\"\")","v":2438.0980690084575},{"$f":"IF(E28<>\"\",E28*BRLRWT!$H$9*1000,\"\")","v":5099.3863040052211},7537.4843730136781,null," - Summary"]
[null,1.1242608610000007,1.1595631358125007,{"$f":"IF($L$30<>\"\",IF(INPUT!$H$10=1,(_xlfn.NORM.DIST(C29,$L$30,$M$30,TRUE)-_xlfn.NORM.DIST(B29,$L$30,$M$30,TRUE))*BRLRWT!$H$10/100,(_xlfn.NORM.DIST(C29,$L$30,$M$30,TRUE)-_xlfn.NORM.DIST(B29,$L$30,$M$30,TRUE))),\"\")","v":3.5841270504959617E-2},{"$f":"IF($L$31<>\"\",IF(INPUT!$H$10=1,(_xlfn.NORM.DIST(C29,$L$31,$M$31,TRUE)-_xlfn.NORM.DIST(B29,$L$31,$M$31,TRUE))*(1-BRLRWT!$H$10/100),(_xlfn.NORM.DIST(C29,$L$31,$M$31,TRUE)-_xlfn.NORM.DIST(B29,$L$31,$M$31,TRUE))),\"\")","v":3.2652563478551999E-2},6.8493833983511609E-2,{"$f":"IF(D29<>\"\",D29*BRLRWT!$H$9*1000,\"\")","v":3584.1270504959616},{"$f":"IF(E29<>\"\",E29*BRLRWT!$H$9*1000,\"\")","v":3265.2563478551997},6849.3833983511613,null,"Unit (lbs)","Mean","Std. Dev.","C.V. (%)"]
[null,1.1595631358125007,1.1948654106250007,{"$f":"IF($L$30<>\"\",IF(INPUT!$H$10=1,(_xlfn.NORM.DIST(C30,$L$30,$M$30,TRUE)-_xlfn.NORM.DIST(B30,$L$30,$M$30,TRUE))*BRLRWT!$H$10/100,(_xlfn.NORM.DIST(C30,$L$30,$M$30,TRUE)-_xlfn.NORM.DIST(B30,$L$30,$M$30,TRUE))),\"\")","v":4.7686620457569037E-2},{"$f":"IF($L$31<>\"\",IF(INPUT!$H$10=1,(_xlfn.NORM.DIST(C30,$L$31,$M$31,TRUE)-_xlfn.NORM.DIST(B30,$L$31,$M$31,TRUE))*(1-BRLRWT!$H$10/100),(_xlfn.NORM.DIST(C30,$L$31,$M$31,TRUE)-_xlfn.NORM.DIST(B30,$L$31,$M$31,TRUE))),\"\")","v":1.78915412015071E-2},6.5578161659076137E-2,{"$f":"IF(D30<>\"\",D30*BRLRWT!$H$9*1000,\"\")","v":4768.6620457569043},{"$f":"IF(E30<>\"\",E30*BRLRWT!$H$9*1000,\"\")","v":1789.15412015071},6557.816165907614,null,"Male",1.2606295997160337,0.1113125545416879,{"$f":"IF(L30<>\"\",M30/L30*100,\"\")","v":8.8299175718832785}]
[null,1.1948654106250007,1.2301676854375008,{"$f":"IF($L$30<>\"\",IF(INPUT!$H$10=1,(_xlfn.NORM.DIST(C31,$L$30,$M$30,TRUE)-_xlfn.NORM.DIST(B31,$L$30,$M$30,TRUE))*BRLRWT!$H$10/100,(_xlfn.NORM.DIST(C31,$L$30,$M$30,TRUE)-_xlfn.NORM.DIST(B31,$L$30,$M$30,TRUE))),\"\")","v":5.742376454591646E-2},{"$f":"IF($L$31<>\"\",IF(INPUT!$H$10=1,(_xlfn.NORM.DIST(C31,$L$31,$M$31,TRUE)-_xlfn.NORM.DIST(B31,$L$31,$M$31,TRUE))*(1-BRLRWT!$H$10/100),(_xlfn.NORM.DIST(C31,$L$31,$M$31,TRUE)-_xlfn.NORM.DIST(B31,$L$31,$M$31,TRUE))),\"\")","v":8.3888230747060644E-3},6.5812587620622531E-2,{"$f":"IF(D31<>\"\",D31*BRLRWT!$H$9*1000,\"\")","v":5742.3764545916465},{"$f":"IF(E31<>\"\",E31*BRLRWT!$H$9*1000,\"\")","v":838.88230747060641},6581.2587620622526,null,"Female",1.0232470030763714,8.8854697158928492E-2,{"$f":"IF(L31<>\"\",M31/L31*100,\"\")","v":8.6836019936328803}]
[null,1.2301676854375008,1.2654699602500008,{"$f":"IF($L$30<>\"\",IF(INPUT!$H$10=1,(_xlfn.NORM.DIST(C32,$L$30,$M$30,TRUE)-_xlfn.NORM.DIST(B32,$L$30,$M$30,TRUE))*BRLRWT!$H$10/100,(_xlfn.NORM.DIST(C32,$L$30,$M$30,TRUE)-_xlfn.NORM.DIST(B32,$L$30,$M$30,TRUE))),\"\")","v":6.2584879824577722E-2},{"$f":"IF($L$31<>\"\",IF(INPUT!$H$10=1,(_xlfn.NORM.DIST(C32,$L$31,$M$31,TRUE)-_xlfn.NORM.DIST(B32,$L$31,$M$31,TRUE))*(1-BRLRWT!$H$10/100),(_xlfn.NORM.DIST(C32,$L$31,$M$31,TRUE)-_xlfn.NORM.DIST(B32,$L$31,$M$31,TRUE))),\"\")","v":3.3656338482238035E-3},6.5950513672801525E-2,{"$f":"IF(D32<>\"\",D32*BRLRWT!$H$9*1000,\"\")","v":6258.4879824577729},{"$f":"IF(E32<>\"\",E32*BRLRWT!$H$9*1000,\"\")","v":336.56338482238033},6595.0513672801535,null,"S/Run",1.1419383013962026,0.15566131600287733,{"$f":"IF(L32<>\"\",M32/L32*100,\"\")","v":13.631324548143839}]
[null,1.2654699602500008,1.3007722350625008,{"$f":"IF($L$30<>\"\",IF(INPUT!$H$10=1,(_xlfn.NORM.DIST(C33,$L$30,$M$30,TRUE)-_xlfn.NORM.DIST(B33,$L$30,$M$30,TRUE))*BRLRWT!$H$10/100,(_xlfn.NORM.DIST(C33,$L$30,$M$30,TRUE)-_xlfn.NORM.DIST(B33,$L$30,$M$30,TRUE))),\"\")","v":6.1734814634821229E-2},{"$f":"IF($L$31<>\"\",IF(INPUT!$H$10=1,(_xlfn.NORM.DIST(C33,$L$31,$M$31,TRUE)-_xlfn.NORM.DIST(B33,$L$31,$M$31,TRUE))*(1-BRLRWT!$H$10/100),(_xlfn.NORM.DIST(C33,$L$31,$M$31,TRUE)-_xlfn.NORM.DIST(B33,$L$31,$M$31,TRUE))),\"\")","v":1.1554020340489579E-3},6.289021666887018E-2,{"$f":"IF(D33<>\"\",D33*BRLRWT!$H$9*1000,\"\")","v":6173.4814634821223},{"$f":"IF(E33<>\"\",E33*BRLRWT!$H$9*1000,\"\")","v":115.54020340489579},6289.021666887018]
[null,1.3007722350625008,1.3360745098750009,{"$f":"IF($L$30<>\"\",IF(INPUT!$H$10=1,(_xlfn.NORM.DIST(C34,$L$30,$M$30,TRUE)-_xlfn.NORM.DIST(B34,$L$30,$M$30,TRUE))*BRLRWT!$H$10/100,(_xlfn.NORM.DIST(C34,$L$30,$M$30,TRUE)-_xlfn.NORM.DIST(B34,$L$30,$M$30,TRUE))),\"\")","v":5.5115504550864058E-2},{"$f":"IF($L$31<>\"\",IF(INPUT!$H$10=1,(_xlfn.NORM.DIST(C34,$L$31,$M$31,TRUE)-_xlfn.NORM.DIST(B34,$L$31,$M$31,TRUE))*(1-BRLRWT!$H$10/100),(_xlfn.NORM.DIST(C34,$L$31,$M$31,TRUE)-_xlfn.NORM.DIST(B34,$L$31,$M$31,TRUE))),\"\")","v":3.3937978485659714E-4},5.5454884335720656E-2,{"$f":"IF(D34<>\"\",D34*BRLRWT!$H$9*1000,\"\")","v":5511.5504550864052},{"$f":"IF(E34<>\"\",E34*BRLRWT!$H$9*1000,\"\")","v":33.937978485659713},5545.4884335720653]
[null,1.3360745098750009,1.3713767846875009,{"$f":"IF($L$30<>\"\",IF(INPUT!$H$10=1,(_xlfn.NORM.DIST(C35,$L$30,$M$30,TRUE)-_xlfn.NORM.DIST(B35,$L$30,$M$30,TRUE))*BRLRWT!$H$10/100,(_xlfn.NORM.DIST(C35,$L$30,$M$30,TRUE)-_xlfn.NORM.DIST(B35,$L$30,$M$30,TRUE))),\"\")","v":4.4534842751268899E-2},{"$f":"IF($L$31<>\"\",IF(INPUT!$H$10=1,(_xlfn.NORM.DIST(C35,$L$31,$M$31,TRUE)-_xlfn.NORM.DIST(B35,$L$31,$M$31,TRUE))*(1-BRLRWT!$H$10/100),(_xlfn.NORM.DIST(C35,$L$31,$M$31,TRUE)-_xlfn.NORM.DIST(B35,$L$31,$M$31,TRUE))),\"\")","v":8.5292326948982478E-5},4.4620135078217882E-2,{"$f":"IF(D35<>\"\",D35*BRLRWT!$H$9*1000,\"\")","v":4453.4842751268898},{"$f":"IF(E35<>\"\",E35*BRLRWT!$H$9*1000,\"\")","v":8.5292326948982478},4462.0135078217882]
[null,1.3713767846875009,1.4066790595000009,{"$f":"IF($L$30<>\"\",IF(INPUT!$H$10=1,(_xlfn.NORM.DIST(C36,$L$30,$M$30,TRUE)-_xlfn.NORM.DIST(B36,$L$30,$M$30,TRUE))*BRLRWT!$H$10/100,(_xlfn.NORM.DIST(C36,$L$30,$M$30,TRUE)-_xlfn.NORM.DIST(B36,$L$30,$M$30,TRUE))),\"\")","v":3.2569251281087563E-2},{"$f":"IF($L$31<>\"\",IF(INPUT!$H$10=1,(_xlfn.NORM.DIST(C36,$L$31,$M$31,TRUE)-_xlfn.NORM.DIST(B36,$L$31,$M$31,TRUE))*(1-BRLRWT!$H$10/100),(_xlfn.NORM.DIST(C36,$L$31,$M$31,TRUE)-_xlfn.NORM.DIST(B36,$L$31,$M$31,TRUE))),\"\")","v":1.8339532047939588E-5},3.2587590813135503E-2,{"$f":"IF(D36<>\"\",D36*BRLRWT!$H$9*1000,\"\")","v":3256.9251281087563},{"$f":"IF(E36<>\"\",E36*BRLRWT!$H$9*1000,\"\")","v":1.8339532047939588},3258.7590813135503]
[null,1.4066790595000009,1.441981334312501,{"$f":"IF($L$30<>\"\",IF(INPUT!$H$10=1,(_xlfn.NORM.DIST(C37,$L$30,$M$30,TRUE)-_xlfn.NORM.DIST(B37,$L$30,$M$30,TRUE))*BRLRWT!$H$10/100,(_xlfn.NORM.DIST(C37,$L$30,$M$30,TRUE)-_xlfn.NORM.DIST(B37,$L$30,$M$30,TRUE))),\"\")","v":2.1557391122884129E-2},{"$f":"IF($L$31<>\"\",IF(INPUT!$H$10=1,(_xlfn.NORM.DIST(C37,$L$31,$M$31,TRUE)-_xlfn.NORM.DIST(B37,$L$31,$M$31,TRUE))*(1-BRLRWT!$H$10/100),(_xlfn.NORM.DIST(C37,$L$31,$M$31,TRUE)-_xlfn.NORM.DIST(B37,$L$31,$M$31,TRUE))),\"\")","v":3.3736708749398936E-6},2.1560764793759069E-2,{"$f":"IF(D37<>\"\",D37*BRLRWT!$H$9*1000,\"\")","v":2155.7391122884128},{"$f":"IF(E37<>\"\",E37*BRLRWT!$H$9*1000,\"\")","v":0.33736708749398936},2156.0764793759067]
[null,1.441981334312501,1.477283609125001,{"$f":"IF($L$30<>\"\",IF(INPUT!$H$10=1,(_xlfn.NORM.DIST(C38,$L$30,$M$30,TRUE)-_xlfn.NORM.DIST(B38,$L$30,$M$30,TRUE))*BRLRWT!$H$10/100,(_xlfn.NORM.DIST(C38,$L$30,$M$30,TRUE)-_xlfn.NORM.DIST(B38,$L$30,$M$30,TRUE))),\"\")","v":1.2914086951798354E-2},{"$f":"IF($L$31<>\"\",IF(INPUT!$H$10=1,(_xlfn.NORM.DIST(C38,$L$31,$M$31,TRUE)-_xlfn.NORM.DIST(B38,$L$31,$M$31,TRUE))*(1-BRLRWT!$H$10/100),(_xlfn.NORM.DIST(C38,$L$31,$M$31,TRUE)-_xlfn.NORM.DIST(B38,$L$31,$M$31,TRUE))),\"\")","v":5.3092617335881442E-7},1.2914617877971712E-2,{"$f":"IF(D38<>\"\",D38*BRLRWT!$H$9*1000,\"\")","v":1291.4086951798354},{"$f":"IF(E38<>\"\",E38*BRLRWT!$H$9*1000,\"\")","v":5.3092617335881442E-2},1291.4617877971712]
[null,1.477283609125001,1.512585883937501,{"$f":"IF($L$30<>\"\",IF(INPUT!$H$10=1,(_xlfn.NORM.DIST(C39,$L$30,$M$30,TRUE)-_xlfn.NORM.DIST(B39,$L$30,$M$30,TRUE))*BRLRWT!$H$10/100,(_xlfn.NORM.DIST(C39,$L$30,$M$30,TRUE)-_xlfn.NORM.DIST(B39,$L$30,$M$30,TRUE))),\"\")","v":7.0017797468084897E-3},{"$f":"IF($L$31<>\"\",IF(INPUT!$H$10=1,(_xlfn.NORM.DIST(C39,$L$31,$M$31,TRUE)-_xlfn.NORM.DIST(B39,$L$31,$M$31,TRUE))*(1-BRLRWT!$H$10/100),(_xlfn.NORM.DIST(C39,$L$31,$M$31,TRUE)-_xlfn.NORM.DIST(B39,$L$31,$M$31,TRUE))),\"\")","v":7.1476352780930341E-8},7.0018512231612706E-3,{"$f":"IF(D39<>\"\",D39*BRLRWT!$H$9*1000,\"\")","v":700.17797468084893},{"$f":"IF(E39<>\"\",E39*BRLRWT!$H$9*1000,\"\")","v":7.1476352780930341E-3},700.18512231612704]
[null,1.512585883937501,1.5478881587500011,{"$f":"IF($L$30<>\"\",IF(INPUT!$H$10=1,(_xlfn.NORM.DIST(C40,$L$30,$M$30,TRUE)-_xlfn.NORM.DIST(B40,$L$30,$M$30,TRUE))*BRLRWT!$H$10/100,(_xlfn.NORM.DIST(C40,$L$30,$M$30,TRUE)-_xlfn.NORM.DIST(B40,$L$30,$M$30,TRUE))),\"\")","v":3.4358028395561901E-3},{"$f":"IF($L$31<>\"\",IF(INPUT!$H$10=1,(_xlfn.NORM.DIST(C40,$L$31,$M$31,TRUE)-_xlfn.NORM.DIST(B40,$L$31,$M$31,TRUE))*(1-BRLRWT!$H$10/100),(_xlfn.NORM.DIST(C40,$L$31,$M$31,TRUE)-_xlfn.NORM.DIST(B40,$L$31,$M$31,TRUE))),\"\")","v":8.2312646143556378E-9},3.4358110708208045E-3,{"$f":"IF(D40<>\"\",D40*BRLRWT!$H$9*1000,\"\")","v":343.580283955619},{"$f":"IF(E40<>\"\",E40*BRLRWT!$H$9*1000,\"\")","v":8.2312646143556378E-4},343.58110708208045]
[null,1.5478881587500011,1.5831904335625011,{"$f":"IF($L$30<>\"\",IF(INPUT!$H$10=1,(_xlfn.NORM.DIST(C41,$L$30,$M$30,TRUE)-_xlfn.NORM.DIST(B41,$L$30,$M$30,TRUE))*BRLRWT!$H$10/100,(_xlfn.NORM.DIST(C41,$L$30,$M$30,TRUE)-_xlfn.NORM.DIST(B41,$L$30,$M$30,TRUE))),\"\")","v":1.5258806313217521E-3},{"$f":"IF($L$31<>\"\",IF(INPUT!$H$10=1,(_xlfn.NORM.DIST(C41,$L$31,$M$31,TRUE)-_xlfn.NORM.DIST(B41,$L$31,$M$31,TRUE))*(1-BRLRWT!$H$10/100),(_xlfn.NORM.DIST(C41,$L$31,$M$31,TRUE)-_xlfn.NORM.DIST(B41,$L$31,$M$31,TRUE))),\"\")","v":8.1082135450216697E-10},1.5258814421431066E-3,{"$f":"IF(D41<>\"\",D41*BRLRWT!$H$9*1000,\"\")","v":152.58806313217522},{"$f":"IF(E41<>\"\",E41*BRLRWT!$H$9*1000,\"\")","v":8.1082135450216697E-5},152.58814421431066]
[null,1.5831904335625011,1.6184927083750011,{"$f":"IF($L$30<>\"\",IF(INPUT!$H$10=1,(_xlfn.NORM.DIST(C42,$L$30,$M$30,TRUE)-_xlfn.NORM.DIST(B42,$L$30,$M$30,TRUE))*BRLRWT!$H$10/100,(_xlfn.NORM.DIST(C42,$L$30,$M$30,TRUE)-_xlfn.NORM.DIST(B42,$L$30,$M$30,TRUE))),\"\")","v":6.1331359594624102E-4},{"$f":"IF($L$31<>\"\",IF(INPUT!$H$10=1,(_xlfn.NORM.DIST(C42,$L$31,$M$31,TRUE)-_xlfn.NORM.DIST(B42,$L$31,$M$31,TRUE))*(1-BRLRWT!$H$10/100),(_xlfn.NORM.DIST(C42,$L$31,$M$31,TRUE)-_xlfn.NORM.DIST(B42,$L$31,$M$31,TRUE))),\"\")","v":6.8315075818503601E-11},6.1331366426131684E-4,{"$f":"IF(D42<>\"\",D42*BRLRWT!$H$9*1000,\"\")","v":61.331359594624104},{"$f":"IF(E42<>\"\",E42*BRLRWT!$H$9*1000,\"\")","v":6.8315075818503601E-6},61.331366426131687]
[null,1.6184927083750011,1.6537949831875012,{"$f":"IF($L$30<>\"\",IF(INPUT!$H$10=1,(_xlfn.NORM.DIST(C43,$L$30,$M$30,TRUE)-_xlfn.NORM.DIST(B43,$L$30,$M$30,TRUE))*BRLRWT!$H$10/100,(_xlfn.NORM.DIST(C43,$L$30,$M$30,TRUE)-_xlfn.NORM.DIST(B43,$L$30,$M$30,TRUE))),\"\")","v":2.2310597100472229E-4},{"$f":"IF($L$31<>\"\",IF(INPUT!$H$10=1,(_xlfn.NORM.DIST(C43,$L$31,$M$31,TRUE)-_xlfn.NORM.DIST(B43,$L$31,$M$31,TRUE))*(1-BRLRWT!$H$10/100),(_xlfn.NORM.DIST(C43,$L$31,$M$31,TRUE)-_xlfn.NORM.DIST(B43,$L$31,$M$31,TRUE))),\"\")","v":4.9228399134904066E-12},2.2310597592756221E-4,{"$f":"IF(D43<>\"\",D43*BRLRWT!$H$9*1000,\"\")","v":22.310597100472229},{"$f":"IF(E43<>\"\",E43*BRLRWT!$H$9*1000,\"\")","v":4.9228399134904066E-7},22.310597592756221]
[null,1.6537949831875012,1.6890972580000012,{"$f":"IF($L$30<>\"\",IF(INPUT!$H$10=1,(_xlfn.NORM.DIST(C44,$L$30,$M$30,TRUE)-_xlfn.NORM.DIST(B44,$L$30,$M$30,TRUE))*BRLRWT!$H$10/100,(_xlfn.NORM.DIST(C44,$L$30,$M$30,TRUE)-_xlfn.NORM.DIST(B44,$L$30,$M$30,TRUE))),\"\")","v":7.3451883435160514E-5},{"$f":"IF($L$31<>\"\",IF(INPUT!$H$10=1,(_xlfn.NORM.DIST(C44,$L$31,$M$31,TRUE)-_xlfn.NORM.DIST(B44,$L$31,$M$31,TRUE))*(1-BRLRWT!$H$10/100),(_xlfn.NORM.DIST(C44,$L$31,$M$31,TRUE)-_xlfn.NORM.DIST(B44,$L$31,$M$31,TRUE))),\"\")","v":3.0336844147882402E-13},7.3451883738528956E-5,{"$f":"IF(D44<>\"\",D44*BRLRWT!$H$9*1000,\"\")","v":7.3451883435160514},{"$f":"IF(E44<>\"\",E44*BRLRWT!$H$9*1000,\"\")","v":3.0336844147882402E-8},7.3451883738528956]
[null,1.6890972580000012,{"$f":"\"inf.\"","v":"inf."},{"$f":"IF($L$30<>\"\",IF(INPUT!$H$10=1,(1-_xlfn.NORM.DIST(B45,$L$30,$M$30,TRUE))*BRLRWT!$H$10/100,(1-_xlfn.NORM.DIST(B45,$L$30,$M$30,TRUE))),\"\")","v":2.9622390775141394E-5},{"$f":"IF($L$31<>\"\",IF(INPUT!$H$10=1,(1-_xlfn.NORM.DIST(B44,$L$31,$M$31,TRUE))*(1-BRLRWT!$H$10/100),(1-_xlfn.NORM.DIST(B44,$L$31,$M$31,TRUE))),\"\")","v":3.2013280915066389E-13},2.9622391095274203E-5,{"$f":"IF(D45<>\"\",D45*BRLRWT!$H$9*1000,\"\")","v":2.9622390775141394},{"$f":"IF(E45<>\"\",E45*BRLRWT!$H$9*1000,\"\")","v":3.2013280915066389E-8},2.9622391095274203]
[null,"Total",null,{"$f":"SUM(D12:D45)","v":0.5},0.50000000000030331,1.0000000000003033,50000,50000.000000030341,100000.00000003034]

{"sheet":"DrumWT","index":8,"n_rows":46,"n_cols":14,"rows_kept":46,"cut":false,"hidden":false,"merged":[[9,1,9,2],[9,3,9,5],[9,6,9,8],[45,1,45,2]]}
[]
[]
[]
[]
[]
[]
[]
["       3-4. Results - Drum Weight Distribution",null,null,null,null,null,null,null,null,null,"Breed"]
[]
[null,"Weight (lbs)",null,"Percentage",null,null,"Numbers"]
[null,"Min. (>)","Max. (≤)","Male","Female","S/Run","Male","Female","S/Run"]
[null,{"$f":"\"-inf.\"","v":"-inf."},{"$f":"$M$13","v":0.41892767280000004},{"$f":"IF($L$30<>\"\",IF(INPUT!$H$10=1,_xlfn.NORM.DIST(C12,$L$30,$M$30,TRUE)*BRLRWT!$H$10/100,_xlfn.NORM.DIST(C12,$L$30,$M$30,TRUE)),\"\")","v":7.4687750197371649E-11},{"$f":"IF($L$31<>\"\",IF(INPUT!$H$10=1,_xlfn.NORM.DIST(C12,$L$31,$M$31,TRUE)*(1-BRLRWT!$H$10/100),_xlfn.NORM.DIST(C12,$L$31,$M$31,TRUE)),\"\")","v":3.80494867935348E-7},{"$f":"IF(D12<>\"\",IF(E12<>\"\",D12+E12,\"\"),\"\")","v":3.8056955568554537E-7},{"$f":"IF(D12<>\"\",D12*BRLRWT!$H$9*1000,\"\")","v":7.4687750197371648E-6},{"$f":"IF(E12<>\"\",E12*BRLRWT!$H$9*1000,\"\")","v":3.8049486793534801E-2},{"$f":"IF(G12<>\"\",IF(H12<>\"\",G12+H12,\"\"),\"\")","v":3.805695556855454E-2},null,null,"Range"]
[null,{"$f":"C12","v":0.41892767280000004},{"$f":"C12+$M$14","v":0.43968127440000004},{"$f":"IF($L$30<>\"\",IF(INPUT!$H$10=1,(_xlfn.NORM.DIST(C13,$L$30,$M$30,TRUE)-_xlfn.NORM.DIST(B13,$L$30,$M$30,TRUE))*BRLRWT!$H$10/100,(_xlfn.NORM.DIST(C13,$L$30,$M$30,TRUE)-_xlfn.NORM.DIST(B13,$L$30,$M$30,TRUE))),\"\")","v":4.0598871400015973E-10},{"$f":"IF($L$31<>\"\",IF(INPUT!$H$10=1,(_xlfn.NORM.DIST(C13,$L$31,$M$31,TRUE)-_xlfn.NORM.DIST(B13,$L$31,$M$31,TRUE))*(1-BRLRWT!$H$10/100),(_xlfn.NORM.DIST(C13,$L$31,$M$31,TRUE)-_xlfn.NORM.DIST(B13,$L$31,$M$31,TRUE))),\"\")","v":2.0429940743534203E-6},{"$f":"IF(D13<>\"\",IF(E13<>\"\",D13+E13,\"\"),\"\")","v":2.0434000630674206E-6},{"$f":"IF(D13<>\"\",D13*BRLRWT!$H$9*1000,\"\")","v":4.0598871400015974E-5},{"$f":"IF(E13<>\"\",E13*BRLRWT!$H$9*1000,\"\")","v":0.20429940743534206},{"$f":"IF(G13<>\"\",IF(H13<>\"\",G13+H13,\"\"),\"\")","v":0.20434000630674207},null,null,"min",0.41892767280000004]
[null,{"$f":"C13","v":0.43968127440000004},{"$f":"C13+$M$14","v":0.46043487600000005},{"$f":"IF($L$30<>\"\",IF(INPUT!$H$10=1,(_xlfn.NORM.DIST(C14,$L$30,$M$30,TRUE)-_xlfn.NORM.DIST(B14,$L$30,$M$30,TRUE))*BRLRWT!$H$10/100,(_xlfn.NORM.DIST(C14,$L$30,$M$30,TRUE)-_xlfn.NORM.DIST(B14,$L$30,$M$30,TRUE))),\"\")","v":2.3605982776234523E-9},{"$f":"IF($L$31<>\"\",IF(INPUT!$H$10=1,(_xlfn.NORM.DIST(C14,$L$31,$M$31,TRUE)-_xlfn.NORM.DIST(B14,$L$31,$M$31,TRUE))*(1-BRLRWT!$H$10/100),(_xlfn.NORM.DIST(C14,$L$31,$M$31,TRUE)-_xlfn.NORM.DIST(B14,$L$31,$M$31,TRUE))),\"\")","v":1.0970607288267959E-5},{"$f":"IF(D14<>\"\",IF(E14<>\"\",D14+E14,\"\"),\"\")","v":1.0972967886545582E-5},{"$f":"IF(D14<>\"\",D14*BRLRWT!$H$9*1000,\"\")","v":2.3605982776234524E-4},{"$f":"IF(E14<>\"\",E14*BRLRWT!$H$9*1000,\"\")","v":1.097060728826796},{"$f":"IF(G14<>\"\",IF(H14<>\"\",G14+H14,\"\"),\"\")","v":1.0972967886545584},null,null,"step size",2.0753601600000018E-2]
[null,{"$f":"C14","v":0.46043487600000005},{"$f":"C14+$M$14","v":0.48118847760000005},{"$f":"IF($L$30<>\"\",IF(INPUT!$H$10=1,(_xlfn.NORM.DIST(C15,$L$30,$M$30,TRUE)-_xlfn.NORM.DIST(B15,$L$30,$M$30,TRUE))*BRLRWT!$H$10/100,(_xlfn.NORM.DIST(C15,$L$30,$M$30,TRUE)-_xlfn.NORM.DIST(B15,$L$30,$M$30,TRUE))),\"\")","v":1.2586853212850092E-8},{"$f":"IF($L$31<>\"\",IF(INPUT!$H$10=1,(_xlfn.NORM.DIST(C15,$L$31,$M$31,TRUE)-_xlfn.NORM.DIST(B15,$L$31,$M$31,TRUE))*(1-BRLRWT!$H$10/100),(_xlfn.NORM.DIST(C15,$L$31,$M$31,TRUE)-_xlfn.NORM.DIST(B15,$L$31,$M$31,TRUE))),\"\")","v":5.0898135969667003E-5},5.0910722822879851E-5,{"$f":"IF(D15<>\"\",D15*BRLRWT!$H$9*1000,\"\")","v":1.2586853212850091E-3},{"$f":"IF(E15<>\"\",E15*BRLRWT!$H$9*1000,\"\")","v":5.0898135969667004},5.0910722822879855]
[null,0.48118847760000005,0.50194207920000011,{"$f":"IF($L$30<>\"\",IF(INPUT!$H$10=1,(_xlfn.NORM.DIST(C16,$L$30,$M$30,TRUE)-_xlfn.NORM.DIST(B16,$L$30,$M$30,TRUE))*BRLRWT!$H$10/100,(_xlfn.NORM.DIST(C16,$L$30,$M$30,TRUE)-_xlfn.NORM.DIST(B16,$L$30,$M$30,TRUE))),\"\")","v":6.1546368023281719E-8},{"$f":"IF($L$31<>\"\",IF(INPUT!$H$10=1,(_xlfn.NORM.DIST(C16,$L$31,$M$31,TRUE)-_xlfn.NORM.DIST(B16,$L$31,$M$31,TRUE))*(1-BRLRWT!$H$10/100),(_xlfn.NORM.DIST(C16,$L$31,$M$31,TRUE)-_xlfn.NORM.DIST(B16,$L$31,$M$31,TRUE))),\"\")","v":2.0403073618816179E-4},2.0409228255618508E-4,{"$f":"IF(D16<>\"\",D16*BRLRWT!$H$9*1000,\"\")","v":6.1546368023281716E-3},{"$f":"IF(E16<>\"\",E16*BRLRWT!$H$9*1000,\"\")","v":20.40307361881618},20.409228255618508]
[null,0.50194207920000011,0.52269568080000017,{"$f":"IF($L$30<>\"\",IF(INPUT!$H$10=1,(_xlfn.NORM.DIST(C17,$L$30,$M$30,TRUE)-_xlfn.NORM.DIST(B17,$L$30,$M$30,TRUE))*BRLRWT!$H$10/100,(_xlfn.NORM.DIST(C17,$L$30,$M$30,TRUE)-_xlfn.NORM.DIST(B17,$L$30,$M$30,TRUE))),\"\")","v":2.7598215021842002E-7},{"$f":"IF($L$31<>\"\",IF(INPUT!$H$10=1,(_xlfn.NORM.DIST(C17,$L$31,$M$31,TRUE)-_xlfn.NORM.DIST(B17,$L$31,$M$31,TRUE))*(1-BRLRWT!$H$10/100),(_xlfn.NORM.DIST(C17,$L$31,$M$31,TRUE)-_xlfn.NORM.DIST(B17,$L$31,$M$31,TRUE))),\"\")","v":7.0668475148076906E-4},7.0696073363098752E-4,{"$f":"IF(D17<>\"\",D17*BRLRWT!$H$9*1000,\"\")","v":2.7598215021842003E-2},{"$f":"IF(E17<>\"\",E17*BRLRWT!$H$9*1000,\"\")","v":70.668475148076908},70.696073363098748]
[null,0.52269568080000017,0.54344928240000023,{"$f":"IF($L$30<>\"\",IF(INPUT!$H$10=1,(_xlfn.NORM.DIST(C18,$L$30,$M$30,TRUE)-_xlfn.NORM.DIST(B18,$L$30,$M$30,TRUE))*BRLRWT!$H$10/100,(_xlfn.NORM.DIST(C18,$L$30,$M$30,TRUE)-_xlfn.NORM.DIST(B18,$L$30,$M$30,TRUE))),\"\")","v":1.1348954982688825E-6},{"$f":"IF($L$31<>\"\",IF(INPUT!$H$10=1,(_xlfn.NORM.DIST(C18,$L$31,$M$31,TRUE)-_xlfn.NORM.DIST(B18,$L$31,$M$31,TRUE))*(1-BRLRWT!$H$10/100),(_xlfn.NORM.DIST(C18,$L$31,$M$31,TRUE)-_xlfn.NORM.DIST(B18,$L$31,$M$31,TRUE))),\"\")","v":2.1149741091869949E-3},2.1161090046852636E-3,{"$f":"IF(D18<>\"\",D18*BRLRWT!$H$9*1000,\"\")","v":0.11348954982688823},{"$f":"IF(E18<>\"\",E18*BRLRWT!$H$9*1000,\"\")","v":211.4974109186995},211.61090046852638]
[null,0.54344928240000023,0.56420288400000029,{"$f":"IF($L$30<>\"\",IF(INPUT!$H$10=1,(_xlfn.NORM.DIST(C19,$L$30,$M$30,TRUE)-_xlfn.NORM.DIST(B19,$L$30,$M$30,TRUE))*BRLRWT!$H$10/100,(_xlfn.NORM.DIST(C19,$L$30,$M$30,TRUE)-_xlfn.NORM.DIST(B19,$L$30,$M$30,TRUE))),\"\")","v":4.2798639204929993E-6},{"$f":"IF($L$31<>\"\",IF(INPUT!$H$10=1,(_xlfn.NORM.DIST(C19,$L$31,$M$31,TRUE)-_xlfn.NORM.DIST(B19,$L$31,$M$31,TRUE))*(1-BRLRWT!$H$10/100),(_xlfn.NORM.DIST(C19,$L$31,$M$31,TRUE)-_xlfn.NORM.DIST(B19,$L$31,$M$31,TRUE))),\"\")","v":5.4694695155538013E-3},5.473749379474294E-3,{"$f":"IF(D19<>\"\",D19*BRLRWT!$H$9*1000,\"\")","v":0.42798639204929989},{"$f":"IF(E19<>\"\",E19*BRLRWT!$H$9*1000,\"\")","v":546.94695155538011},547.37493794742943]
[null,0.56420288400000029,0.58495648560000035,{"$f":"IF($L$30<>\"\",IF(INPUT!$H$10=1,(_xlfn.NORM.DIST(C20,$L$30,$M$30,TRUE)-_xlfn.NORM.DIST(B20,$L$30,$M$30,TRUE))*BRLRWT!$H$10/100,(_xlfn.NORM.DIST(C20,$L$30,$M$30,TRUE)-_xlfn.NORM.DIST(B20,$L$30,$M$30,TRUE))),\"\")","v":1.4801509967822622E-5},{"$f":"IF($L$31<>\"\",IF(INPUT!$H$10=1,(_xlfn.NORM.DIST(C20,$L$31,$M$31,TRUE)-_xlfn.NORM.DIST(B20,$L$31,$M$31,TRUE))*(1-BRLRWT!$H$10/100),(_xlfn.NORM.DIST(C20,$L$31,$M$31,TRUE)-_xlfn.NORM.DIST(B20,$L$31,$M$31,TRUE))),\"\")","v":1.2222399375707595E-2},1.2237200885675419E-2,{"$f":"IF(D20<>\"\",D20*BRLRWT!$H$9*1000,\"\")","v":1.4801509967822621},{"$f":"IF(E20<>\"\",E20*BRLRWT!$H$9*1000,\"\")","v":1222.2399375707596},1223.7200885675418]
[null,0.58495648560000035,0.60571008720000041,{"$f":"IF($L$30<>\"\",IF(INPUT!$H$10=1,(_xlfn.NORM.DIST(C21,$L$30,$M$30,TRUE)-_xlfn.NORM.DIST(B21,$L$30,$M$30,TRUE))*BRLRWT!$H$10/100,(_xlfn.NORM.DIST(C21,$L$30,$M$30,TRUE)-_xlfn.NORM.DIST(B21,$L$30,$M$30,TRUE))),\"\")","v":4.6944712865085392E-5},{"$f":"IF($L$31<>\"\",IF(INPUT!$H$10=1,(_xlfn.NORM.DIST(C21,$L$31,$M$31,TRUE)-_xlfn.NORM.DIST(B21,$L$31,$M$31,TRUE))*(1-BRLRWT!$H$10/100),(_xlfn.NORM.DIST(C21,$L$31,$M$31,TRUE)-_xlfn.NORM.DIST(B21,$L$31,$M$31,TRUE))),\"\")","v":2.3601942150599291E-2},2.3648886863464377E-2,{"$f":"IF(D21<>\"\",D21*BRLRWT!$H$9*1000,\"\")","v":4.6944712865085396},{"$f":"IF(E21<>\"\",E21*BRLRWT!$H$9*1000,\"\")","v":2360.1942150599289},2364.8886863464372]
[null,0.60571008720000041,0.62646368880000047,{"$f":"IF($L$30<>\"\",IF(INPUT!$H$10=1,(_xlfn.NORM.DIST(C22,$L$30,$M$30,TRUE)-_xlfn.NORM.DIST(B22,$L$30,$M$30,TRUE))*BRLRWT!$H$10/100,(_xlfn.NORM.DIST(C22,$L$30,$M$30,TRUE)-_xlfn.NORM.DIST(B22,$L$30,$M$30,TRUE))),\"\")","v":1.3654457248519065E-4},{"$f":"IF($L$31<>\"\",IF(INPUT!$H$10=1,(_xlfn.NORM.DIST(C22,$L$31,$M$31,TRUE)-_xlfn.NORM.DIST(B22,$L$31,$M$31,TRUE))*(1-BRLRWT!$H$10/100),(_xlfn.NORM.DIST(C22,$L$31,$M$31,TRUE)-_xlfn.NORM.DIST(B22,$L$31,$M$31,TRUE))),\"\")","v":3.9384598464796021E-2},3.9521143037281214E-2,{"$f":"IF(D22<>\"\",D22*BRLRWT!$H$9*1000,\"\")","v":13.654457248519066},{"$f":"IF(E22<>\"\",E22*BRLRWT!$H$9*1000,\"\")","v":3938.4598464796018},3952.1143037281208]
[null,0.62646368880000047,0.64721729040000053,{"$f":"IF($L$30<>\"\",IF(INPUT!$H$10=1,(_xlfn.NORM.DIST(C23,$L$30,$M$30,TRUE)-_xlfn.NORM.DIST(B23,$L$30,$M$30,TRUE))*BRLRWT!$H$10/100,(_xlfn.NORM.DIST(C23,$L$30,$M$30,TRUE)-_xlfn.NORM.DIST(B23,$L$30,$M$30,TRUE))),\"\")","v":3.6422656754206845E-4},{"$f":"IF($L$31<>\"\",IF(INPUT!$H$10=1,(_xlfn.NORM.DIST(C23,$L$31,$M$31,TRUE)-_xlfn.NORM.DIST(B23,$L$31,$M$31,TRUE))*(1-BRLRWT!$H$10/100),(_xlfn.NORM.DIST(C23,$L$31,$M$31,TRUE)-_xlfn.NORM.DIST(B23,$L$31,$M$31,TRUE))),\"\")","v":5.67934631222166E-2},5.7157689689758671E-2,{"$f":"IF(D23<>\"\",D23*BRLRWT!$H$9*1000,\"\")","v":36.422656754206848},{"$f":"IF(E23<>\"\",E23*BRLRWT!$H$9*1000,\"\")","v":5679.3463122216599},5715.7689689758663]
[null,0.64721729040000053,0.66797089200000059,{"$f":"IF($L$30<>\"\",IF(INPUT!$H$10=1,(_xlfn.NORM.DIST(C24,$L$30,$M$30,TRUE)-_xlfn.NORM.DIST(B24,$L$30,$M$30,TRUE))*BRLRWT!$H$10/100,(_xlfn.NORM.DIST(C24,$L$30,$M$30,TRUE)-_xlfn.NORM.DIST(B24,$L$30,$M$30,TRUE))),\"\")","v":8.9100552913124538E-4},{"$f":"IF($L$31<>\"\",IF(INPUT!$H$10=1,(_xlfn.NORM.DIST(C24,$L$31,$M$31,TRUE)-_xlfn.NORM.DIST(B24,$L$31,$M$31,TRUE))*(1-BRLRWT!$H$10/100),(_xlfn.NORM.DIST(C24,$L$31,$M$31,TRUE)-_xlfn.NORM.DIST(B24,$L$31,$M$31,TRUE))),\"\")","v":7.0773023256787887E-2},7.1664028785919126E-2,{"$f":"IF(D24<>\"\",D24*BRLRWT!$H$9*1000,\"\")","v":89.100552913124531},{"$f":"IF(E24<>\"\",E24*BRLRWT!$H$9*1000,\"\")","v":7077.3023256787883},7166.4028785919127]
[null,0.66797089200000059,0.68872449360000065,{"$f":"IF($L$30<>\"\",IF(INPUT!$H$10=1,(_xlfn.NORM.DIST(C25,$L$30,$M$30,TRUE)-_xlfn.NORM.DIST(B25,$L$30,$M$30,TRUE))*BRLRWT!$H$10/100,(_xlfn.NORM.DIST(C25,$L$30,$M$30,TRUE)-_xlfn.NORM.DIST(B25,$L$30,$M$30,TRUE))),\"\")","v":1.9989539270887481E-3},{"$f":"IF($L$31<>\"\",IF(INPUT!$H$10=1,(_xlfn.NORM.DIST(C25,$L$31,$M$31,TRUE)-_xlfn.NORM.DIST(B25,$L$31,$M$31,TRUE))*(1-BRLRWT!$H$10/100),(_xlfn.NORM.DIST(C25,$L$31,$M$31,TRUE)-_xlfn.NORM.DIST(B25,$L$31,$M$31,TRUE))),\"\")","v":7.6214422696980783E-2},7.8213376624069533E-2,{"$f":"IF(D25<>\"\",D25*BRLRWT!$H$9*1000,\"\")","v":199.89539270887482},{"$f":"IF(E25<>\"\",E25*BRLRWT!$H$9*1000,\"\")","v":7621.4422696980782},7821.3376624069533]
[null,0.68872449360000065,0.70947809520000071,{"$f":"IF($L$30<>\"\",IF(INPUT!$H$10=1,(_xlfn.NORM.DIST(C26,$L$30,$M$30,TRUE)-_xlfn.NORM.DIST(B26,$L$30,$M$30,TRUE))*BRLRWT!$H$10/100,(_xlfn.NORM.DIST(C26,$L$30,$M$30,TRUE)-_xlfn.NORM.DIST(B26,$L$30,$M$30,TRUE))),\"\")","v":4.1128286138114676E-3},{"$f":"IF($L$31<>\"\",IF(INPUT!$H$10=1,(_xlfn.NORM.DIST(C26,$L$31,$M$31,TRUE)-_xlfn.NORM.DIST(B26,$L$31,$M$31,TRUE))*(1-BRLRWT!$H$10/100),(_xlfn.NORM.DIST(C26,$L$31,$M$31,TRUE)-_xlfn.NORM.DIST(B26,$L$31,$M$31,TRUE))),\"\")","v":7.0926325840763638E-2},7.503915445457511E-2,{"$f":"IF(D26<>\"\",D26*BRLRWT!$H$9*1000,\"\")","v":411.2828613811468},{"$f":"IF(E26<>\"\",E26*BRLRWT!$H$9*1000,\"\")","v":7092.6325840763639},7503.9154454575109]
[null,0.70947809520000071,0.73023169680000077,{"$f":"IF($L$30<>\"\",IF(INPUT!$H$10=1,(_xlfn.NORM.DIST(C27,$L$30,$M$30,TRUE)-_xlfn.NORM.DIST(B27,$L$30,$M$30,TRUE))*BRLRWT!$H$10/100,(_xlfn.NORM.DIST(C27,$L$30,$M$30,TRUE)-_xlfn.NORM.DIST(B27,$L$30,$M$30,TRUE))),\"\")","v":7.7606042783994545E-3},{"$f":"IF($L$31<>\"\",IF(INPUT!$H$10=1,(_xlfn.NORM.DIST(C27,$L$31,$M$31,TRUE)-_xlfn.NORM.DIST(B27,$L$31,$M$31,TRUE))*(1-BRLRWT!$H$10/100),(_xlfn.NORM.DIST(C27,$L$31,$M$31,TRUE)-_xlfn.NORM.DIST(B27,$L$31,$M$31,TRUE))),\"\")","v":5.7039775374167878E-2},6.4800379652567339E-2,{"$f":"IF(D27<>\"\",D27*BRLRWT!$H$9*1000,\"\")","v":776.06042783994542},{"$f":"IF(E27<>\"\",E27*BRLRWT!$H$9*1000,\"\")","v":5703.9775374167875},6480.0379652567326]
[null,0.73023169680000077,0.75098529840000083,{"$f":"IF($L$30<>\"\",IF(INPUT!$H$10=1,(_xlfn.NORM.DIST(C28,$L$30,$M$30,TRUE)-_xlfn.NORM.DIST(B28,$L$30,$M$30,TRUE))*BRLRWT!$H$10/100,(_xlfn.NORM.DIST(C28,$L$30,$M$30,TRUE)-_xlfn.NORM.DIST(B28,$L$30,$M$30,TRUE))),\"\")","v":1.3429784221730547E-2},{"$f":"IF($L$31<>\"\",IF(INPUT!$H$10=1,(_xlfn.NORM.DIST(C28,$L$31,$M$31,TRUE)-_xlfn.NORM.DIST(B28,$L$31,$M$31,TRUE))*(1-BRLRWT!$H$10/100),(_xlfn.NORM.DIST(C28,$L$31,$M$31,TRUE)-_xlfn.NORM.DIST(B28,$L$31,$M$31,TRUE))),\"\")","v":3.9641097252478108E-2},5.3070881474208659E-2,{"$f":"IF(D28<>\"\",D28*BRLRWT!$H$9*1000,\"\")","v":1342.9784221730547},{"$f":"IF(E28<>\"\",E28*BRLRWT!$H$9*1000,\"\")","v":3964.1097252478107},5307.0881474208654,null," - Summary"]
[null,0.75098529840000083,0.77173890000000089,{"$f":"IF($L$30<>\"\",IF(INPUT!$H$10=1,(_xlfn.NORM.DIST(C29,$L$30,$M$30,TRUE)-_xlfn.NORM.DIST(B29,$L$30,$M$30,TRUE))*BRLRWT!$H$10/100,(_xlfn.NORM.DIST(C29,$L$30,$M$30,TRUE)-_xlfn.NORM.DIST(B29,$L$30,$M$30,TRUE))),\"\")","v":2.131387336860734E-2},{"$f":"IF($L$31<>\"\",IF(INPUT!$H$10=1,(_xlfn.NORM.DIST(C29,$L$31,$M$31,TRUE)-_xlfn.NORM.DIST(B29,$L$31,$M$31,TRUE))*(1-BRLRWT!$H$10/100),(_xlfn.NORM.DIST(C29,$L$31,$M$31,TRUE)-_xlfn.NORM.DIST(B29,$L$31,$M$31,TRUE))),\"\")","v":2.38071194599766E-2},4.5120992828583936E-2,{"$f":"IF(D29<>\"\",D29*BRLRWT!$H$9*1000,\"\")","v":2131.3873368607342},{"$f":"IF(E29<>\"\",E29*BRLRWT!$H$9*1000,\"\")","v":2380.7119459976602},4512.0992828583949,null,"Unit (lbs)","Mean","Std. Dev.","C.V. (%)"]
[null,0.77173890000000089,0.79249250160000095,{"$f":"IF($L$30<>\"\",IF(INPUT!$H$10=1,(_xlfn.NORM.DIST(C30,$L$30,$M$30,TRUE)-_xlfn.NORM.DIST(B30,$L$30,$M$30,TRUE))*BRLRWT!$H$10/100,(_xlfn.NORM.DIST(C30,$L$30,$M$30,TRUE)-_xlfn.NORM.DIST(B30,$L$30,$M$30,TRUE))),\"\")","v":3.1022490779960221E-2},{"$f":"IF($L$31<>\"\",IF(INPUT!$H$10=1,(_xlfn.NORM.DIST(C30,$L$31,$M$31,TRUE)-_xlfn.NORM.DIST(B30,$L$31,$M$31,TRUE))*(1-BRLRWT!$H$10/100),(_xlfn.NORM.DIST(C30,$L$31,$M$31,TRUE)-_xlfn.NORM.DIST(B30,$L$31,$M$31,TRUE))),\"\")","v":1.235536394924186E-2},4.3377854729202081E-2,{"$f":"IF(D30<>\"\",D30*BRLRWT!$H$9*1000,\"\")","v":3102.2490779960222},{"$f":"IF(E30<>\"\",E30*BRLRWT!$H$9*1000,\"\")","v":1235.536394924186},4337.7854729202081,null,"Male",0.86177021810999666,7.0298878983341334E-2,{"$f":"IF(L30<>\"\",M30/L30*100,\"\")","v":8.1574969180901036}]
[null,0.79249250160000095,0.81324610320000101,{"$f":"IF($L$30<>\"\",IF(INPUT!$H$10=1,(_xlfn.NORM.DIST(C31,$L$30,$M$30,TRUE)-_xlfn.NORM.DIST(B31,$L$30,$M$30,TRUE))*BRLRWT!$H$10/100,(_xlfn.NORM.DIST(C31,$L$30,$M$30,TRUE)-_xlfn.NORM.DIST(B31,$L$30,$M$30,TRUE))),\"\")","v":4.1410719057050793E-2},{"$f":"IF($L$31<>\"\",IF(INPUT!$H$10=1,(_xlfn.NORM.DIST(C31,$L$31,$M$31,TRUE)-_xlfn.NORM.DIST(B31,$L$31,$M$31,TRUE))*(1-BRLRWT!$H$10/100),(_xlfn.NORM.DIST(C31,$L$31,$M$31,TRUE)-_xlfn.NORM.DIST(B31,$L$31,$M$31,TRUE))),\"\")","v":5.5409516682985993E-3},4.6951670725349393E-2,{"$f":"IF(D31<>\"\",D31*BRLRWT!$H$9*1000,\"\")","v":4141.0719057050792},{"$f":"IF(E31<>\"\",E31*BRLRWT!$H$9*1000,\"\")","v":554.09516682985998},4695.1670725349395,null,"Female",0.67850149954844208,5.3984218661908556E-2,{"$f":"IF(L31<>\"\",M31/L31*100,\"\")","v":7.9563889980841989}]
[null,0.81324610320000101,0.83399970480000107,{"$f":"IF($L$30<>\"\",IF(INPUT!$H$10=1,(_xlfn.NORM.DIST(C32,$L$30,$M$30,TRUE)-_xlfn.NORM.DIST(B32,$L$30,$M$30,TRUE))*BRLRWT!$H$10/100,(_xlfn.NORM.DIST(C32,$L$30,$M$30,TRUE)-_xlfn.NORM.DIST(B32,$L$30,$M$30,TRUE))),\"\")","v":5.0695731048402803E-2},{"$f":"IF($L$31<>\"\",IF(INPUT!$H$10=1,(_xlfn.NORM.DIST(C32,$L$31,$M$31,TRUE)-_xlfn.NORM.DIST(B32,$L$31,$M$31,TRUE))*(1-BRLRWT!$H$10/100),(_xlfn.NORM.DIST(C32,$L$31,$M$31,TRUE)-_xlfn.NORM.DIST(B32,$L$31,$M$31,TRUE))),\"\")","v":2.1472590259435376E-3},5.2842990074346341E-2,{"$f":"IF(D32<>\"\",D32*BRLRWT!$H$9*1000,\"\")","v":5069.5731048402804},{"$f":"IF(E32<>\"\",E32*BRLRWT!$H$9*1000,\"\")","v":214.72590259435376},5284.2990074346344,null,"S/Run",0.77013585882921931,0.11101788111031594,{"$f":"IF(L32<>\"\",M32/L32*100,\"\")","v":14.41536319047502}]
[null,0.83399970480000107,0.85475330640000113,{"$f":"IF($L$30<>\"\",IF(INPUT!$H$10=1,(_xlfn.NORM.DIST(C33,$L$30,$M$30,TRUE)-_xlfn.NORM.DIST(B33,$L$30,$M$30,TRUE))*BRLRWT!$H$10/100,(_xlfn.NORM.DIST(C33,$L$30,$M$30,TRUE)-_xlfn.NORM.DIST(B33,$L$30,$M$30,TRUE))),\"\")","v":5.6918441736242886E-2},{"$f":"IF($L$31<>\"\",IF(INPUT!$H$10=1,(_xlfn.NORM.DIST(C33,$L$31,$M$31,TRUE)-_xlfn.NORM.DIST(B33,$L$31,$M$31,TRUE))*(1-BRLRWT!$H$10/100),(_xlfn.NORM.DIST(C33,$L$31,$M$31,TRUE)-_xlfn.NORM.DIST(B33,$L$31,$M$31,TRUE))),\"\")","v":7.1902748278834805E-4},5.7637469219031234E-2,{"$f":"IF(D33<>\"\",D33*BRLRWT!$H$9*1000,\"\")","v":5691.8441736242885},{"$f":"IF(E33<>\"\",E33*BRLRWT!$H$9*1000,\"\")","v":71.902748278834807},5763.7469219031236]
[null,0.85475330640000113,0.87550690800000119,{"$f":"IF($L$30<>\"\",IF(INPUT!$H$10=1,(_xlfn.NORM.DIST(C34,$L$30,$M$30,TRUE)-_xlfn.NORM.DIST(B34,$L$30,$M$30,TRUE))*BRLRWT!$H$10/100,(_xlfn.NORM.DIST(C34,$L$30,$M$30,TRUE)-_xlfn.NORM.DIST(B34,$L$30,$M$30,TRUE))),\"\")","v":5.8608132554602482E-2},{"$f":"IF($L$31<>\"\",IF(INPUT!$H$10=1,(_xlfn.NORM.DIST(C34,$L$31,$M$31,TRUE)-_xlfn.NORM.DIST(B34,$L$31,$M$31,TRUE))*(1-BRLRWT!$H$10/100),(_xlfn.NORM.DIST(C34,$L$31,$M$31,TRUE)-_xlfn.NORM.DIST(B34,$L$31,$M$31,TRUE))),\"\")","v":2.0804435479904182E-4},5.8816176909401524E-2,{"$f":"IF(D34<>\"\",D34*BRLRWT!$H$9*1000,\"\")","v":5860.813255460248},{"$f":"IF(E34<>\"\",E34*BRLRWT!$H$9*1000,\"\")","v":20.804435479904182},5881.617690940152]
[null,0.87550690800000119,0.89626050960000125,{"$f":"IF($L$30<>\"\",IF(INPUT!$H$10=1,(_xlfn.NORM.DIST(C35,$L$30,$M$30,TRUE)-_xlfn.NORM.DIST(B35,$L$30,$M$30,TRUE))*BRLRWT!$H$10/100,(_xlfn.NORM.DIST(C35,$L$30,$M$30,TRUE)-_xlfn.NORM.DIST(B35,$L$30,$M$30,TRUE))),\"\")","v":5.5345982990248233E-2},{"$f":"IF($L$31<>\"\",IF(INPUT!$H$10=1,(_xlfn.NORM.DIST(C35,$L$31,$M$31,TRUE)-_xlfn.NORM.DIST(B35,$L$31,$M$31,TRUE))*(1-BRLRWT!$H$10/100),(_xlfn.NORM.DIST(C35,$L$31,$M$31,TRUE)-_xlfn.NORM.DIST(B35,$L$31,$M$31,TRUE))),\"\")","v":5.2011931775286513E-5},5.5397994922023519E-2,{"$f":"IF(D35<>\"\",D35*BRLRWT!$H$9*1000,\"\")","v":5534.5982990248231},{"$f":"IF(E35<>\"\",E35*BRLRWT!$H$9*1000,\"\")","v":5.2011931775286513},5539.7994922023518]
[null,0.89626050960000125,0.91701411120000131,{"$f":"IF($L$30<>\"\",IF(INPUT!$H$10=1,(_xlfn.NORM.DIST(C36,$L$30,$M$30,TRUE)-_xlfn.NORM.DIST(B36,$L$30,$M$30,TRUE))*BRLRWT!$H$10/100,(_xlfn.NORM.DIST(C36,$L$30,$M$30,TRUE)-_xlfn.NORM.DIST(B36,$L$30,$M$30,TRUE))),\"\")","v":4.793332214868995E-2},{"$f":"IF($L$31<>\"\",IF(INPUT!$H$10=1,(_xlfn.NORM.DIST(C36,$L$31,$M$31,TRUE)-_xlfn.NORM.DIST(B36,$L$31,$M$31,TRUE))*(1-BRLRWT!$H$10/100),(_xlfn.NORM.DIST(C36,$L$31,$M$31,TRUE)-_xlfn.NORM.DIST(B36,$L$31,$M$31,TRUE))),\"\")","v":1.1234991711073228E-5},4.7944557140401023E-2,{"$f":"IF(D36<>\"\",D36*BRLRWT!$H$9*1000,\"\")","v":4793.3322148689949},{"$f":"IF(E36<>\"\",E36*BRLRWT!$H$9*1000,\"\")","v":1.1234991711073228},4794.4557140401021]
[null,0.91701411120000131,0.93776771280000137,{"$f":"IF($L$30<>\"\",IF(INPUT!$H$10=1,(_xlfn.NORM.DIST(C37,$L$30,$M$30,TRUE)-_xlfn.NORM.DIST(B37,$L$30,$M$30,TRUE))*BRLRWT!$H$10/100,(_xlfn.NORM.DIST(C37,$L$30,$M$30,TRUE)-_xlfn.NORM.DIST(B37,$L$30,$M$30,TRUE))),\"\")","v":3.8072536724896633E-2},{"$f":"IF($L$31<>\"\",IF(INPUT!$H$10=1,(_xlfn.NORM.DIST(C37,$L$31,$M$31,TRUE)-_xlfn.NORM.DIST(B37,$L$31,$M$31,TRUE))*(1-BRLRWT!$H$10/100),(_xlfn.NORM.DIST(C37,$L$31,$M$31,TRUE)-_xlfn.NORM.DIST(B37,$L$31,$M$31,TRUE))),\"\")","v":2.0967681053640774E-6},3.8074633493001997E-2,{"$f":"IF(D37<>\"\",D37*BRLRWT!$H$9*1000,\"\")","v":3807.2536724896631},{"$f":"IF(E37<>\"\",E37*BRLRWT!$H$9*1000,\"\")","v":0.20967681053640774},3807.4633493001998]
[null,0.93776771280000137,0.95852131440000143,{"$f":"IF($L$30<>\"\",IF(INPUT!$H$10=1,(_xlfn.NORM.DIST(C38,$L$30,$M$30,TRUE)-_xlfn.NORM.DIST(B38,$L$30,$M$30,TRUE))*BRLRWT!$H$10/100,(_xlfn.NORM.DIST(C38,$L$30,$M$30,TRUE)-_xlfn.NORM.DIST(B38,$L$30,$M$30,TRUE))),\"\")","v":2.7733738063000946E-2},{"$f":"IF($L$31<>\"\",IF(INPUT!$H$10=1,(_xlfn.NORM.DIST(C38,$L$31,$M$31,TRUE)-_xlfn.NORM.DIST(B38,$L$31,$M$31,TRUE))*(1-BRLRWT!$H$10/100),(_xlfn.NORM.DIST(C38,$L$31,$M$31,TRUE)-_xlfn.NORM.DIST(B38,$L$31,$M$31,TRUE))),\"\")","v":3.3808057620099419E-7},2.7734076143577147E-2,{"$f":"IF(D38<>\"\",D38*BRLRWT!$H$9*1000,\"\")","v":2773.3738063000947},{"$f":"IF(E38<>\"\",E38*BRLRWT!$H$9*1000,\"\")","v":3.3808057620099419E-2},2773.4076143577149]
[null,0.95852131440000143,0.97927491600000149,{"$f":"IF($L$30<>\"\",IF(INPUT!$H$10=1,(_xlfn.NORM.DIST(C39,$L$30,$M$30,TRUE)-_xlfn.NORM.DIST(B39,$L$30,$M$30,TRUE))*BRLRWT!$H$10/100,(_xlfn.NORM.DIST(C39,$L$30,$M$30,TRUE)-_xlfn.NORM.DIST(B39,$L$30,$M$30,TRUE))),\"\")","v":1.8527915595377087E-2},{"$f":"IF($L$31<>\"\",IF(INPUT!$H$10=1,(_xlfn.NORM.DIST(C39,$L$31,$M$31,TRUE)-_xlfn.NORM.DIST(B39,$L$31,$M$31,TRUE))*(1-BRLRWT!$H$10/100),(_xlfn.NORM.DIST(C39,$L$31,$M$31,TRUE)-_xlfn.NORM.DIST(B39,$L$31,$M$31,TRUE))),\"\")","v":4.7094021959903642E-8},1.8527962689399047E-2,{"$f":"IF(D39<>\"\",D39*BRLRWT!$H$9*1000,\"\")","v":1852.7915595377087},{"$f":"IF(E39<>\"\",E39*BRLRWT!$H$9*1000,\"\")","v":4.7094021959903642E-3},1852.7962689399046]
[null,0.97927491600000149,1.0000285176000014,{"$f":"IF($L$30<>\"\",IF(INPUT!$H$10=1,(_xlfn.NORM.DIST(C40,$L$30,$M$30,TRUE)-_xlfn.NORM.DIST(B40,$L$30,$M$30,TRUE))*BRLRWT!$H$10/100,(_xlfn.NORM.DIST(C40,$L$30,$M$30,TRUE)-_xlfn.NORM.DIST(B40,$L$30,$M$30,TRUE))),\"\")","v":1.1351815506596086E-2},{"$f":"IF($L$31<>\"\",IF(INPUT!$H$10=1,(_xlfn.NORM.DIST(C40,$L$31,$M$31,TRUE)-_xlfn.NORM.DIST(B40,$L$31,$M$31,TRUE))*(1-BRLRWT!$H$10/100),(_xlfn.NORM.DIST(C40,$L$31,$M$31,TRUE)-_xlfn.NORM.DIST(B40,$L$31,$M$31,TRUE))),\"\")","v":5.6672197490392762E-9},1.1351821173815835E-2,{"$f":"IF(D40<>\"\",D40*BRLRWT!$H$9*1000,\"\")","v":1135.1815506596085},{"$f":"IF(E40<>\"\",E40*BRLRWT!$H$9*1000,\"\")","v":5.6672197490392762E-4},1135.1821173815833]
[null,1.0000285176000014,1.0207821192000015,{"$f":"IF($L$30<>\"\",IF(INPUT!$H$10=1,(_xlfn.NORM.DIST(C41,$L$30,$M$30,TRUE)-_xlfn.NORM.DIST(B41,$L$30,$M$30,TRUE))*BRLRWT!$H$10/100,(_xlfn.NORM.DIST(C41,$L$30,$M$30,TRUE)-_xlfn.NORM.DIST(B41,$L$30,$M$30,TRUE))),\"\")","v":6.3785731663088541E-3},{"$f":"IF($L$31<>\"\",IF(INPUT!$H$10=1,(_xlfn.NORM.DIST(C41,$L$31,$M$31,TRUE)-_xlfn.NORM.DIST(B41,$L$31,$M$31,TRUE))*(1-BRLRWT!$H$10/100),(_xlfn.NORM.DIST(C41,$L$31,$M$31,TRUE)-_xlfn.NORM.DIST(B41,$L$31,$M$31,TRUE))),\"\")","v":5.8913596223675313E-10},6.3785737554448163E-3,{"$f":"IF(D41<>\"\",D41*BRLRWT!$H$9*1000,\"\")","v":637.85731663088541},{"$f":"IF(E41<>\"\",E41*BRLRWT!$H$9*1000,\"\")","v":5.8913596223675313E-5},637.85737554448167]
[null,1.0207821192000015,1.0415357208000016,{"$f":"IF($L$30<>\"\",IF(INPUT!$H$10=1,(_xlfn.NORM.DIST(C42,$L$30,$M$30,TRUE)-_xlfn.NORM.DIST(B42,$L$30,$M$30,TRUE))*BRLRWT!$H$10/100,(_xlfn.NORM.DIST(C42,$L$30,$M$30,TRUE)-_xlfn.NORM.DIST(B42,$L$30,$M$30,TRUE))),\"\")","v":3.2870012757109657E-3},{"$f":"IF($L$31<>\"\",IF(INPUT!$H$10=1,(_xlfn.NORM.DIST(C42,$L$31,$M$31,TRUE)-_xlfn.NORM.DIST(B42,$L$31,$M$31,TRUE))*(1-BRLRWT!$H$10/100),(_xlfn.NORM.DIST(C42,$L$31,$M$31,TRUE)-_xlfn.NORM.DIST(B42,$L$31,$M$31,TRUE))),\"\")","v":5.2903459391018259E-11},3.2870013286144251E-3,{"$f":"IF(D42<>\"\",D42*BRLRWT!$H$9*1000,\"\")","v":328.70012757109657},{"$f":"IF(E42<>\"\",E42*BRLRWT!$H$9*1000,\"\")","v":5.2903459391018259E-6},328.70013286144251]
[null,1.0415357208000016,1.0622893224000016,{"$f":"IF($L$30<>\"\",IF(INPUT!$H$10=1,(_xlfn.NORM.DIST(C43,$L$30,$M$30,TRUE)-_xlfn.NORM.DIST(B43,$L$30,$M$30,TRUE))*BRLRWT!$H$10/100,(_xlfn.NORM.DIST(C43,$L$30,$M$30,TRUE)-_xlfn.NORM.DIST(B43,$L$30,$M$30,TRUE))),\"\")","v":1.5534339277156195E-3},{"$f":"IF($L$31<>\"\",IF(INPUT!$H$10=1,(_xlfn.NORM.DIST(C43,$L$31,$M$31,TRUE)-_xlfn.NORM.DIST(B43,$L$31,$M$31,TRUE))*(1-BRLRWT!$H$10/100),(_xlfn.NORM.DIST(C43,$L$31,$M$31,TRUE)-_xlfn.NORM.DIST(B43,$L$31,$M$31,TRUE))),\"\")","v":4.1035508324682723E-12},1.5534339318191703E-3,{"$f":"IF(D43<>\"\",D43*BRLRWT!$H$9*1000,\"\")","v":155.34339277156195},{"$f":"IF(E43<>\"\",E43*BRLRWT!$H$9*1000,\"\")","v":4.1035508324682723E-7},155.34339318191704]
[null,1.0622893224000016,1.0830429240000017,{"$f":"IF($L$30<>\"\",IF(INPUT!$H$10=1,(_xlfn.NORM.DIST(C44,$L$30,$M$30,TRUE)-_xlfn.NORM.DIST(B44,$L$30,$M$30,TRUE))*BRLRWT!$H$10/100,(_xlfn.NORM.DIST(C44,$L$30,$M$30,TRUE)-_xlfn.NORM.DIST(B44,$L$30,$M$30,TRUE))),\"\")","v":6.7328752437545436E-4},{"$f":"IF($L$31<>\"\",IF(INPUT!$H$10=1,(_xlfn.NORM.DIST(C44,$L$31,$M$31,TRUE)-_xlfn.NORM.DIST(B44,$L$31,$M$31,TRUE))*(1-BRLRWT!$H$10/100),(_xlfn.NORM.DIST(C44,$L$31,$M$31,TRUE)-_xlfn.NORM.DIST(B44,$L$31,$M$31,TRUE))),\"\")","v":2.7489122089718876E-13},6.7328752465034558E-4,{"$f":"IF(D44<>\"\",D44*BRLRWT!$H$9*1000,\"\")","v":67.328752437545432},{"$f":"IF(E44<>\"\",E44*BRLRWT!$H$9*1000,\"\")","v":2.7489122089718876E-8},67.328752465034555]
[null,1.0830429240000017,{"$f":"\"inf.\"","v":"inf."},{"$f":"IF($L$30<>\"\",IF(INPUT!$H$10=1,(1-_xlfn.NORM.DIST(B45,$L$30,$M$30,TRUE))*BRLRWT!$H$10/100,(1-_xlfn.NORM.DIST(B45,$L$30,$M$30,TRUE))),\"\")","v":4.1154288312705845E-4},{"$f":"IF($L$31<>\"\",IF(INPUT!$H$10=1,(1-_xlfn.NORM.DIST(B44,$L$31,$M$31,TRUE))*(1-BRLRWT!$H$10/100),(1-_xlfn.NORM.DIST(B44,$L$31,$M$31,TRUE))),\"\")","v":2.9165558856902862E-13},4.1154288341871403E-4,{"$f":"IF(D45<>\"\",D45*BRLRWT!$H$9*1000,\"\")","v":41.154288312705845},{"$f":"IF(E45<>\"\",E45*BRLRWT!$H$9*1000,\"\")","v":2.9165558856902862E-8},41.154288341871407]
[null,"Total",null,{"$f":"SUM(D12:D45)","v":0.5},0.50000000000027489,1.0000000000002749,49999.999999999993,50000.000000027496,100000.00000002747]

{"sheet":"WingWT","index":9,"n_rows":46,"n_cols":14,"rows_kept":46,"cut":false,"hidden":false,"merged":[[9,1,9,2],[9,3,9,5],[9,6,9,8],[45,1,45,2]]}
[]
[]
[]
[]
[]
[]
[]
["       3-5. Results - Wing Weight Distribution",null,null,null,null,null,null,null,null,null,"Breed"]
[]
[null,"Weight (lbs)",null,"Percentage",null,null,"Numbers"]
[null,"Min. (>)","Max. (≤)","Male","Female","S/Run","Male","Female","S/Run"]
[null,{"$f":"\"-inf.\"","v":"-inf."},{"$f":"$M$13","v":0.32142119819999998},{"$f":"IF($L$30<>\"\",IF(INPUT!$H$10=1,_xlfn.NORM.DIST(C12,$L$30,$M$30,TRUE)*BRLRWT!$H$10/100,_xlfn.NORM.DIST(C12,$L$30,$M$30,TRUE)),\"\")","v":7.4687750197373536E-11},{"$f":"IF($L$31<>\"\",IF(INPUT!$H$10=1,_xlfn.NORM.DIST(C12,$L$31,$M$31,TRUE)*(1-BRLRWT!$H$10/100),_xlfn.NORM.DIST(C12,$L$31,$M$31,TRUE)),\"\")","v":5.7758370161711208E-8},{"$f":"IF(D12<>\"\",IF(E12<>\"\",D12+E12,\"\"),\"\")","v":5.7833057911908584E-8},{"$f":"IF(D12<>\"\",D12*BRLRWT!$H$9*1000,\"\")","v":7.4687750197373537E-6},{"$f":"IF(E12<>\"\",E12*BRLRWT!$H$9*1000,\"\")","v":5.7758370161711207E-3},{"$f":"IF(G12<>\"\",IF(H12<>\"\",G12+H12,\"\"),\"\")","v":5.7833057911908584E-3},null,null,"Range"]
[null,{"$f":"C12","v":0.32142119819999998},{"$f":"C12+$M$14","v":0.33896561484374998},{"$f":"IF($L$30<>\"\",IF(INPUT!$H$10=1,(_xlfn.NORM.DIST(C13,$L$30,$M$30,TRUE)-_xlfn.NORM.DIST(B13,$L$30,$M$30,TRUE))*BRLRWT!$H$10/100,(_xlfn.NORM.DIST(C13,$L$30,$M$30,TRUE)-_xlfn.NORM.DIST(B13,$L$30,$M$30,TRUE))),\"\")","v":5.191979982887817E-10},{"$f":"IF($L$31<>\"\",IF(INPUT!$H$10=1,(_xlfn.NORM.DIST(C13,$L$31,$M$31,TRUE)-_xlfn.NORM.DIST(B13,$L$31,$M$31,TRUE))*(1-BRLRWT!$H$10/100),(_xlfn.NORM.DIST(C13,$L$31,$M$31,TRUE)-_xlfn.NORM.DIST(B13,$L$31,$M$31,TRUE))),\"\")","v":3.8785974119615175E-7},{"$f":"IF(D13<>\"\",IF(E13<>\"\",D13+E13,\"\"),\"\")","v":3.8837893919444055E-7},{"$f":"IF(D13<>\"\",D13*BRLRWT!$H$9*1000,\"\")","v":5.1919799828878166E-5},{"$f":"IF(E13<>\"\",E13*BRLRWT!$H$9*1000,\"\")","v":3.8785974119615173E-2},{"$f":"IF(G13<>\"\",IF(H13<>\"\",G13+H13,\"\"),\"\")","v":3.8837893919444054E-2},null,null,"min",0.32142119819999998]
[null,{"$f":"C13","v":0.33896561484374998},{"$f":"C13+$M$14","v":0.35651003148749999},{"$f":"IF($L$30<>\"\",IF(INPUT!$H$10=1,(_xlfn.NORM.DIST(C14,$L$30,$M$30,TRUE)-_xlfn.NORM.DIST(B14,$L$30,$M$30,TRUE))*BRLRWT!$H$10/100,(_xlfn.NORM.DIST(C14,$L$30,$M$30,TRUE)-_xlfn.NORM.DIST(B14,$L$30,$M$30,TRUE))),\"\")","v":3.6533889745548457E-9},{"$f":"IF($L$31<>\"\",IF(INPUT!$H$10=1,(_xlfn.NORM.DIST(C14,$L$31,$M$31,TRUE)-_xlfn.NORM.DIST(B14,$L$31,$M$31,TRUE))*(1-BRLRWT!$H$10/100),(_xlfn.NORM.DIST(C14,$L$31,$M$31,TRUE)-_xlfn.NORM.DIST(B14,$L$31,$M$31,TRUE))),\"\")","v":2.5101656710526924E-6},{"$f":"IF(D14<>\"\",IF(E14<>\"\",D14+E14,\"\"),\"\")","v":2.5138190600272474E-6},{"$f":"IF(D14<>\"\",D14*BRLRWT!$H$9*1000,\"\")","v":3.6533889745548459E-4},{"$f":"IF(E14<>\"\",E14*BRLRWT!$H$9*1000,\"\")","v":0.25101656710526921},{"$f":"IF(G14<>\"\",IF(H14<>\"\",G14+H14,\"\"),\"\")","v":0.2513819060027247},null,null,"step size",1.7544416643750019E-2]
[null,{"$f":"C14","v":0.35651003148749999},{"$f":"C14+$M$14","v":0.37405444813124999},{"$f":"IF($L$30<>\"\",IF(INPUT!$H$10=1,(_xlfn.NORM.DIST(C15,$L$30,$M$30,TRUE)-_xlfn.NORM.DIST(B15,$L$30,$M$30,TRUE))*BRLRWT!$H$10/100,(_xlfn.NORM.DIST(C15,$L$30,$M$30,TRUE)-_xlfn.NORM.DIST(B15,$L$30,$M$30,TRUE))),\"\")","v":2.307957269539263E-8},{"$f":"IF($L$31<>\"\",IF(INPUT!$H$10=1,(_xlfn.NORM.DIST(C15,$L$31,$M$31,TRUE)-_xlfn.NORM.DIST(B15,$L$31,$M$31,TRUE))*(1-BRLRWT!$H$10/100),(_xlfn.NORM.DIST(C15,$L$31,$M$31,TRUE)-_xlfn.NORM.DIST(B15,$L$31,$M$31,TRUE))),\"\")","v":1.3913779390060149E-5},1.3936858962755541E-5,{"$f":"IF(D15<>\"\",D15*BRLRWT!$H$9*1000,\"\")","v":2.3079572695392631E-3},{"$f":"IF(E15<>\"\",E15*BRLRWT!$H$9*1000,\"\")","v":1.391377939006015},1.3936858962755543]
[null,0.37405444813124999,0.391598864775,{"$f":"IF($L$30<>\"\",IF(INPUT!$H$10=1,(_xlfn.NORM.DIST(C16,$L$30,$M$30,TRUE)-_xlfn.NORM.DIST(B16,$L$30,$M$30,TRUE))*BRLRWT!$H$10/100,(_xlfn.NORM.DIST(C16,$L$30,$M$30,TRUE)-_xlfn.NORM.DIST(B16,$L$30,$M$30,TRUE))),\"\")","v":1.3089864010560662E-7},{"$f":"IF($L$31<>\"\",IF(INPUT!$H$10=1,(_xlfn.NORM.DIST(C16,$L$31,$M$31,TRUE)-_xlfn.NORM.DIST(B16,$L$31,$M$31,TRUE))*(1-BRLRWT!$H$10/100),(_xlfn.NORM.DIST(C16,$L$31,$M$31,TRUE)-_xlfn.NORM.DIST(B16,$L$31,$M$31,TRUE))),\"\")","v":6.6057448367262569E-5},6.6188347007368177E-5,{"$f":"IF(D16<>\"\",D16*BRLRWT!$H$9*1000,\"\")","v":1.3089864010560661E-2},{"$f":"IF(E16<>\"\",E16*BRLRWT!$H$9*1000,\"\")","v":6.6057448367262568},6.6188347007368176]
[null,0.391598864775,0.40914328141875,{"$f":"IF($L$30<>\"\",IF(INPUT!$H$10=1,(_xlfn.NORM.DIST(C17,$L$30,$M$30,TRUE)-_xlfn.NORM.DIST(B17,$L$30,$M$30,TRUE))*BRLRWT!$H$10/100,(_xlfn.NORM.DIST(C17,$L$30,$M$30,TRUE)-_xlfn.NORM.DIST(B17,$L$30,$M$30,TRUE))),\"\")","v":6.6653720571083922E-7},{"$f":"IF($L$31<>\"\",IF(INPUT!$H$10=1,(_xlfn.NORM.DIST(C17,$L$31,$M$31,TRUE)-_xlfn.NORM.DIST(B17,$L$31,$M$31,TRUE))*(1-BRLRWT!$H$10/100),(_xlfn.NORM.DIST(C17,$L$31,$M$31,TRUE)-_xlfn.NORM.DIST(B17,$L$31,$M$31,TRUE))),\"\")","v":2.6862739258461473E-4},2.6929392979032555E-4,{"$f":"IF(D17<>\"\",D17*BRLRWT!$H$9*1000,\"\")","v":6.6653720571083916E-2},{"$f":"IF(E17<>\"\",E17*BRLRWT!$H$9*1000,\"\")","v":26.862739258461474},26.929392979032556]
[null,0.40914328141875,0.42668769806250001,{"$f":"IF($L$30<>\"\",IF(INPUT!$H$10=1,(_xlfn.NORM.DIST(C18,$L$30,$M$30,TRUE)-_xlfn.NORM.DIST(B18,$L$30,$M$30,TRUE))*BRLRWT!$H$10/100,(_xlfn.NORM.DIST(C18,$L$30,$M$30,TRUE)-_xlfn.NORM.DIST(B18,$L$30,$M$30,TRUE))),\"\")","v":3.0472051082696709E-6},{"$f":"IF($L$31<>\"\",IF(INPUT!$H$10=1,(_xlfn.NORM.DIST(C18,$L$31,$M$31,TRUE)-_xlfn.NORM.DIST(B18,$L$31,$M$31,TRUE))*(1-BRLRWT!$H$10/100),(_xlfn.NORM.DIST(C18,$L$31,$M$31,TRUE)-_xlfn.NORM.DIST(B18,$L$31,$M$31,TRUE))),\"\")","v":9.357229600766518E-4},9.3877016518492153E-4,{"$f":"IF(D18<>\"\",D18*BRLRWT!$H$9*1000,\"\")","v":0.30472051082696705},{"$f":"IF(E18<>\"\",E18*BRLRWT!$H$9*1000,\"\")","v":93.572296007665173},93.877016518492141]
[null,0.42668769806250001,0.44423211470625001,{"$f":"IF($L$30<>\"\",IF(INPUT!$H$10=1,(_xlfn.NORM.DIST(C19,$L$30,$M$30,TRUE)-_xlfn.NORM.DIST(B19,$L$30,$M$30,TRUE))*BRLRWT!$H$10/100,(_xlfn.NORM.DIST(C19,$L$30,$M$30,TRUE)-_xlfn.NORM.DIST(B19,$L$30,$M$30,TRUE))),\"\")","v":1.2507568469673702E-5},{"$f":"IF($L$31<>\"\",IF(INPUT!$H$10=1,(_xlfn.NORM.DIST(C19,$L$31,$M$31,TRUE)-_xlfn.NORM.DIST(B19,$L$31,$M$31,TRUE))*(1-BRLRWT!$H$10/100),(_xlfn.NORM.DIST(C19,$L$31,$M$31,TRUE)-_xlfn.NORM.DIST(B19,$L$31,$M$31,TRUE))),\"\")","v":2.7920813318732043E-3},2.8045889003428782E-3,{"$f":"IF(D19<>\"\",D19*BRLRWT!$H$9*1000,\"\")","v":1.2507568469673702},{"$f":"IF(E19<>\"\",E19*BRLRWT!$H$9*1000,\"\")","v":279.20813318732041},280.45889003428778]
[null,0.44423211470625001,0.46177653135000002,{"$f":"IF($L$30<>\"\",IF(INPUT!$H$10=1,(_xlfn.NORM.DIST(C20,$L$30,$M$30,TRUE)-_xlfn.NORM.DIST(B20,$L$30,$M$30,TRUE))*BRLRWT!$H$10/100,(_xlfn.NORM.DIST(C20,$L$30,$M$30,TRUE)-_xlfn.NORM.DIST(B20,$L$30,$M$30,TRUE))),\"\")","v":4.609391503705121E-5},{"$f":"IF($L$31<>\"\",IF(INPUT!$H$10=1,(_xlfn.NORM.DIST(C20,$L$31,$M$31,TRUE)-_xlfn.NORM.DIST(B20,$L$31,$M$31,TRUE))*(1-BRLRWT!$H$10/100),(_xlfn.NORM.DIST(C20,$L$31,$M$31,TRUE)-_xlfn.NORM.DIST(B20,$L$31,$M$31,TRUE))),\"\")","v":7.1368475922715001E-3},7.182941507308551E-3,{"$f":"IF(D20<>\"\",D20*BRLRWT!$H$9*1000,\"\")","v":4.6093915037051207},{"$f":"IF(E20<>\"\",E20*BRLRWT!$H$9*1000,\"\")","v":713.68475922715004},718.29415073085511]
[null,0.46177653135000002,0.47932094799375002,{"$f":"IF($L$30<>\"\",IF(INPUT!$H$10=1,(_xlfn.NORM.DIST(C21,$L$30,$M$30,TRUE)-_xlfn.NORM.DIST(B21,$L$30,$M$30,TRUE))*BRLRWT!$H$10/100,(_xlfn.NORM.DIST(C21,$L$30,$M$30,TRUE)-_xlfn.NORM.DIST(B21,$L$30,$M$30,TRUE))),\"\")","v":1.5251729647752628E-4},{"$f":"IF($L$31<>\"\",IF(INPUT!$H$10=1,(_xlfn.NORM.DIST(C21,$L$31,$M$31,TRUE)-_xlfn.NORM.DIST(B21,$L$31,$M$31,TRUE))*(1-BRLRWT!$H$10/100),(_xlfn.NORM.DIST(C21,$L$31,$M$31,TRUE)-_xlfn.NORM.DIST(B21,$L$31,$M$31,TRUE))),\"\")","v":1.5627679372999765E-2},1.5780196669477293E-2,{"$f":"IF(D21<>\"\",D21*BRLRWT!$H$9*1000,\"\")","v":15.251729647752628},{"$f":"IF(E21<>\"\",E21*BRLRWT!$H$9*1000,\"\")","v":1562.7679372999764},1578.0196669477291]
[null,0.47932094799375002,0.49686536463750003,{"$f":"IF($L$30<>\"\",IF(INPUT!$H$10=1,(_xlfn.NORM.DIST(C22,$L$30,$M$30,TRUE)-_xlfn.NORM.DIST(B22,$L$30,$M$30,TRUE))*BRLRWT!$H$10/100,(_xlfn.NORM.DIST(C22,$L$30,$M$30,TRUE)-_xlfn.NORM.DIST(B22,$L$30,$M$30,TRUE))),\"\")","v":4.5311072840415487E-4},{"$f":"IF($L$31<>\"\",IF(INPUT!$H$10=1,(_xlfn.NORM.DIST(C22,$L$31,$M$31,TRUE)-_xlfn.NORM.DIST(B22,$L$31,$M$31,TRUE))*(1-BRLRWT!$H$10/100),(_xlfn.NORM.DIST(C22,$L$31,$M$31,TRUE)-_xlfn.NORM.DIST(B22,$L$31,$M$31,TRUE))),\"\")","v":2.9315859008916194E-2},2.976896973732035E-2,{"$f":"IF(D22<>\"\",D22*BRLRWT!$H$9*1000,\"\")","v":45.311072840415491},{"$f":"IF(E22<>\"\",E22*BRLRWT!$H$9*1000,\"\")","v":2931.5859008916191},2976.8969737320344]
[null,0.49686536463750003,0.51440978128125003,{"$f":"IF($L$30<>\"\",IF(INPUT!$H$10=1,(_xlfn.NORM.DIST(C23,$L$30,$M$30,TRUE)-_xlfn.NORM.DIST(B23,$L$30,$M$30,TRUE))*BRLRWT!$H$10/100,(_xlfn.NORM.DIST(C23,$L$30,$M$30,TRUE)-_xlfn.NORM.DIST(B23,$L$30,$M$30,TRUE))),\"\")","v":1.208659390650392E-3},{"$f":"IF($L$31<>\"\",IF(INPUT!$H$10=1,(_xlfn.NORM.DIST(C23,$L$31,$M$31,TRUE)-_xlfn.NORM.DIST(B23,$L$31,$M$31,TRUE))*(1-BRLRWT!$H$10/100),(_xlfn.NORM.DIST(C23,$L$31,$M$31,TRUE)-_xlfn.NORM.DIST(B23,$L$31,$M$31,TRUE))),\"\")","v":4.7112838566392284E-2},4.8321497957042679E-2,{"$f":"IF(D23<>\"\",D23*BRLRWT!$H$9*1000,\"\")","v":120.8659390650392},{"$f":"IF(E23<>\"\",E23*BRLRWT!$H$9*1000,\"\")","v":4711.2838566392284},4832.1497957042675]
[null,0.51440978128125003,0.53195419792500009,{"$f":"IF($L$30<>\"\",IF(INPUT!$H$10=1,(_xlfn.NORM.DIST(C24,$L$30,$M$30,TRUE)-_xlfn.NORM.DIST(B24,$L$30,$M$30,TRUE))*BRLRWT!$H$10/100,(_xlfn.NORM.DIST(C24,$L$30,$M$30,TRUE)-_xlfn.NORM.DIST(B24,$L$30,$M$30,TRUE))),\"\")","v":2.8948233447672715E-3},{"$f":"IF($L$31<>\"\",IF(INPUT!$H$10=1,(_xlfn.NORM.DIST(C24,$L$31,$M$31,TRUE)-_xlfn.NORM.DIST(B24,$L$31,$M$31,TRUE))*(1-BRLRWT!$H$10/100),(_xlfn.NORM.DIST(C24,$L$31,$M$31,TRUE)-_xlfn.NORM.DIST(B24,$L$31,$M$31,TRUE))),\"\")","v":6.4865070782216566E-2},6.7759894126983841E-2,{"$f":"IF(D24<>\"\",D24*BRLRWT!$H$9*1000,\"\")","v":289.48233447672715},{"$f":"IF(E24<>\"\",E24*BRLRWT!$H$9*1000,\"\")","v":6486.5070782216562},6775.9894126983836]
[null,0.53195419792500009,0.54949861456875015,{"$f":"IF($L$30<>\"\",IF(INPUT!$H$10=1,(_xlfn.NORM.DIST(C25,$L$30,$M$30,TRUE)-_xlfn.NORM.DIST(B25,$L$30,$M$30,TRUE))*BRLRWT!$H$10/100,(_xlfn.NORM.DIST(C25,$L$30,$M$30,TRUE)-_xlfn.NORM.DIST(B25,$L$30,$M$30,TRUE))),\"\")","v":6.2253326169216597E-3},{"$f":"IF($L$31<>\"\",IF(INPUT!$H$10=1,(_xlfn.NORM.DIST(C25,$L$31,$M$31,TRUE)-_xlfn.NORM.DIST(B25,$L$31,$M$31,TRUE))*(1-BRLRWT!$H$10/100),(_xlfn.NORM.DIST(C25,$L$31,$M$31,TRUE)-_xlfn.NORM.DIST(B25,$L$31,$M$31,TRUE))),\"\")","v":7.6510651180189598E-2},8.2735983797111251E-2,{"$f":"IF(D25<>\"\",D25*BRLRWT!$H$9*1000,\"\")","v":622.53326169216598},{"$f":"IF(E25<>\"\",E25*BRLRWT!$H$9*1000,\"\")","v":7651.0651180189598},8273.5983797111257]
[null,0.54949861456875015,0.56704303121250021,{"$f":"IF($L$30<>\"\",IF(INPUT!$H$10=1,(_xlfn.NORM.DIST(C26,$L$30,$M$30,TRUE)-_xlfn.NORM.DIST(B26,$L$30,$M$30,TRUE))*BRLRWT!$H$10/100,(_xlfn.NORM.DIST(C26,$L$30,$M$30,TRUE)-_xlfn.NORM.DIST(B26,$L$30,$M$30,TRUE))),\"\")","v":1.2020673447025853E-2},{"$f":"IF($L$31<>\"\",IF(INPUT!$H$10=1,(_xlfn.NORM.DIST(C26,$L$31,$M$31,TRUE)-_xlfn.NORM.DIST(B26,$L$31,$M$31,TRUE))*(1-BRLRWT!$H$10/100),(_xlfn.NORM.DIST(C26,$L$31,$M$31,TRUE)-_xlfn.NORM.DIST(B26,$L$31,$M$31,TRUE))),\"\")","v":7.7316923117226877E-2},8.9337596564252733E-2,{"$f":"IF(D26<>\"\",D26*BRLRWT!$H$9*1000,\"\")","v":1202.0673447025854},{"$f":"IF(E26<>\"\",E26*BRLRWT!$H$9*1000,\"\")","v":7731.692311722687},8933.7596564252726]
[null,0.56704303121250021,0.58458744785625028,{"$f":"IF($L$30<>\"\",IF(INPUT!$H$10=1,(_xlfn.NORM.DIST(C27,$L$30,$M$30,TRUE)-_xlfn.NORM.DIST(B27,$L$30,$M$30,TRUE))*BRLRWT!$H$10/100,(_xlfn.NORM.DIST(C27,$L$30,$M$30,TRUE)-_xlfn.NORM.DIST(B27,$L$30,$M$30,TRUE))),\"\")","v":2.0841248291507432E-2},{"$f":"IF($L$31<>\"\",IF(INPUT!$H$10=1,(_xlfn.NORM.DIST(C27,$L$31,$M$31,TRUE)-_xlfn.NORM.DIST(B27,$L$31,$M$31,TRUE))*(1-BRLRWT!$H$10/100),(_xlfn.NORM.DIST(C27,$L$31,$M$31,TRUE)-_xlfn.NORM.DIST(B27,$L$31,$M$31,TRUE))),\"\")","v":6.693743013966208E-2},8.7778678431169516E-2,{"$f":"IF(D27<>\"\",D27*BRLRWT!$H$9*1000,\"\")","v":2084.1248291507432},{"$f":"IF(E27<>\"\",E27*BRLRWT!$H$9*1000,\"\")","v":6693.7430139662083},8777.8678431169519]
[null,0.58458744785625028,0.60213186450000034,{"$f":"IF($L$30<>\"\",IF(INPUT!$H$10=1,(_xlfn.NORM.DIST(C28,$L$30,$M$30,TRUE)-_xlfn.NORM.DIST(B28,$L$30,$M$30,TRUE))*BRLRWT!$H$10/100,(_xlfn.NORM.DIST(C28,$L$30,$M$30,TRUE)-_xlfn.NORM.DIST(B28,$L$30,$M$30,TRUE))),\"\")","v":3.2445153574933994E-2},{"$f":"IF($L$31<>\"\",IF(INPUT!$H$10=1,(_xlfn.NORM.DIST(C28,$L$31,$M$31,TRUE)-_xlfn.NORM.DIST(B28,$L$31,$M$31,TRUE))*(1-BRLRWT!$H$10/100),(_xlfn.NORM.DIST(C28,$L$31,$M$31,TRUE)-_xlfn.NORM.DIST(B28,$L$31,$M$31,TRUE))),\"\")","v":4.9648178398479459E-2},8.2093331973413453E-2,{"$f":"IF(D28<>\"\",D28*BRLRWT!$H$9*1000,\"\")","v":3244.5153574933993},{"$f":"IF(E28<>\"\",E28*BRLRWT!$H$9*1000,\"\")","v":4964.8178398479458},8209.3331973413442,null," - Summary"]
[null,0.60213186450000034,0.6196762811437504,{"$f":"IF($L$30<>\"\",IF(INPUT!$H$10=1,(_xlfn.NORM.DIST(C29,$L$30,$M$30,TRUE)-_xlfn.NORM.DIST(B29,$L$30,$M$30,TRUE))*BRLRWT!$H$10/100,(_xlfn.NORM.DIST(C29,$L$30,$M$30,TRUE)-_xlfn.NORM.DIST(B29,$L$30,$M$30,TRUE))),\"\")","v":4.53533256151058E-2},{"$f":"IF($L$31<>\"\",IF(INPUT!$H$10=1,(_xlfn.NORM.DIST(C29,$L$31,$M$31,TRUE)-_xlfn.NORM.DIST(B29,$L$31,$M$31,TRUE))*(1-BRLRWT!$H$10/100),(_xlfn.NORM.DIST(C29,$L$31,$M$31,TRUE)-_xlfn.NORM.DIST(B29,$L$31,$M$31,TRUE))),\"\")","v":3.1548106566205547E-2},7.6901432181311347E-2,{"$f":"IF(D29<>\"\",D29*BRLRWT!$H$9*1000,\"\")","v":4535.3325615105796},{"$f":"IF(E29<>\"\",E29*BRLRWT!$H$9*1000,\"\")","v":3154.8106566205547},7690.1432181311338,null,"Unit (lbs)","Mean","Std. Dev.","C.V. (%)"]
[null,0.6196762811437504,0.63722069778750046,{"$f":"IF($L$30<>\"\",IF(INPUT!$H$10=1,(_xlfn.NORM.DIST(C30,$L$30,$M$30,TRUE)-_xlfn.NORM.DIST(B30,$L$30,$M$30,TRUE))*BRLRWT!$H$10/100,(_xlfn.NORM.DIST(C30,$L$30,$M$30,TRUE)-_xlfn.NORM.DIST(B30,$L$30,$M$30,TRUE))),\"\")","v":5.6925018056577403E-2},{"$f":"IF($L$31<>\"\",IF(INPUT!$H$10=1,(_xlfn.NORM.DIST(C30,$L$31,$M$31,TRUE)-_xlfn.NORM.DIST(B30,$L$31,$M$31,TRUE))*(1-BRLRWT!$H$10/100),(_xlfn.NORM.DIST(C30,$L$31,$M$31,TRUE)-_xlfn.NORM.DIST(B30,$L$31,$M$31,TRUE))),\"\")","v":1.7174052627065228E-2},7.4099070683642632E-2,{"$f":"IF(D30<>\"\",D30*BRLRWT!$H$9*1000,\"\")","v":5692.501805657741},{"$f":"IF(E30<>\"\",E30*BRLRWT!$H$9*1000,\"\")","v":1717.4052627065228},7409.907068364264,null,"Male",0.6567033177146413,5.3224238264050795E-2,{"$f":"IF(L30<>\"\",M30/L30*100,\"\")","v":8.1047615914708135}]
[null,0.63722069778750046,0.65476511443125052,{"$f":"IF($L$30<>\"\",IF(INPUT!$H$10=1,(_xlfn.NORM.DIST(C31,$L$30,$M$30,TRUE)-_xlfn.NORM.DIST(B31,$L$30,$M$30,TRUE))*BRLRWT!$H$10/100,(_xlfn.NORM.DIST(C31,$L$30,$M$30,TRUE)-_xlfn.NORM.DIST(B31,$L$30,$M$30,TRUE))),\"\")","v":6.4155367922380246E-2},{"$f":"IF($L$31<>\"\",IF(INPUT!$H$10=1,(_xlfn.NORM.DIST(C31,$L$31,$M$31,TRUE)-_xlfn.NORM.DIST(B31,$L$31,$M$31,TRUE))*(1-BRLRWT!$H$10/100),(_xlfn.NORM.DIST(C31,$L$31,$M$31,TRUE)-_xlfn.NORM.DIST(B31,$L$31,$M$31,TRUE))),\"\")","v":8.0092822965872057E-3},7.2164650218967452E-2,{"$f":"IF(D31<>\"\",D31*BRLRWT!$H$9*1000,\"\")","v":6415.5367922380246},{"$f":"IF(E31<>\"\",E31*BRLRWT!$H$9*1000,\"\")","v":800.92822965872062},7216.4650218967454,null,"Female",0.55068795843237917,4.4324521496298751E-2,{"$f":"IF(L31<>\"\",M31/L31*100,\"\")","v":8.0489360294849277}]
[null,0.65476511443125052,0.67230953107500058,{"$f":"IF($L$30<>\"\",IF(INPUT!$H$10=1,(_xlfn.NORM.DIST(C32,$L$30,$M$30,TRUE)-_xlfn.NORM.DIST(B32,$L$30,$M$30,TRUE))*BRLRWT!$H$10/100,(_xlfn.NORM.DIST(C32,$L$30,$M$30,TRUE)-_xlfn.NORM.DIST(B32,$L$30,$M$30,TRUE))),\"\")","v":6.4923086755334536E-2},{"$f":"IF($L$31<>\"\",IF(INPUT!$H$10=1,(_xlfn.NORM.DIST(C32,$L$31,$M$31,TRUE)-_xlfn.NORM.DIST(B32,$L$31,$M$31,TRUE))*(1-BRLRWT!$H$10/100),(_xlfn.NORM.DIST(C32,$L$31,$M$31,TRUE)-_xlfn.NORM.DIST(B32,$L$31,$M$31,TRUE))),\"\")","v":3.1998206419833197E-3},6.8122907397317856E-2,{"$f":"IF(D32<>\"\",D32*BRLRWT!$H$9*1000,\"\")","v":6492.3086755334534},{"$f":"IF(E32<>\"\",E32*BRLRWT!$H$9*1000,\"\")","v":319.98206419833195},6812.2907397317849,null,"S/Run",0.60369563807351023,7.2170322662912692E-2,{"$f":"IF(L32<>\"\",M32/L32*100,\"\")","v":11.954753042977051}]
[null,0.67230953107500058,0.68985394771875064,{"$f":"IF($L$30<>\"\",IF(INPUT!$H$10=1,(_xlfn.NORM.DIST(C33,$L$30,$M$30,TRUE)-_xlfn.NORM.DIST(B33,$L$30,$M$30,TRUE))*BRLRWT!$H$10/100,(_xlfn.NORM.DIST(C33,$L$30,$M$30,TRUE)-_xlfn.NORM.DIST(B33,$L$30,$M$30,TRUE))),\"\")","v":5.8993167146005776E-2},{"$f":"IF($L$31<>\"\",IF(INPUT!$H$10=1,(_xlfn.NORM.DIST(C33,$L$31,$M$31,TRUE)-_xlfn.NORM.DIST(B33,$L$31,$M$31,TRUE))*(1-BRLRWT!$H$10/100),(_xlfn.NORM.DIST(C33,$L$31,$M$31,TRUE)-_xlfn.NORM.DIST(B33,$L$31,$M$31,TRUE))),\"\")","v":1.0951081069908719E-3},6.0088275252996648E-2,{"$f":"IF(D33<>\"\",D33*BRLRWT!$H$9*1000,\"\")","v":5899.3167146005781},{"$f":"IF(E33<>\"\",E33*BRLRWT!$H$9*1000,\"\")","v":109.51081069908719},6008.8275252996655]
[null,0.68985394771875064,0.7073983643625007,{"$f":"IF($L$30<>\"\",IF(INPUT!$H$10=1,(_xlfn.NORM.DIST(C34,$L$30,$M$30,TRUE)-_xlfn.NORM.DIST(B34,$L$30,$M$30,TRUE))*BRLRWT!$H$10/100,(_xlfn.NORM.DIST(C34,$L$30,$M$30,TRUE)-_xlfn.NORM.DIST(B34,$L$30,$M$30,TRUE))),\"\")","v":4.8132698886777847E-2},{"$f":"IF($L$31<>\"\",IF(INPUT!$H$10=1,(_xlfn.NORM.DIST(C34,$L$31,$M$31,TRUE)-_xlfn.NORM.DIST(B34,$L$31,$M$31,TRUE))*(1-BRLRWT!$H$10/100),(_xlfn.NORM.DIST(C34,$L$31,$M$31,TRUE)-_xlfn.NORM.DIST(B34,$L$31,$M$31,TRUE))),\"\")","v":3.2105105648433385E-4},4.8453749943262181E-2,{"$f":"IF(D34<>\"\",D34*BRLRWT!$H$9*1000,\"\")","v":4813.2698886777844},{"$f":"IF(E34<>\"\",E34*BRLRWT!$H$9*1000,\"\")","v":32.105105648433387},4845.3749943262173]
[null,0.7073983643625007,0.72494278100625076,{"$f":"IF($L$30<>\"\",IF(INPUT!$H$10=1,(_xlfn.NORM.DIST(C35,$L$30,$M$30,TRUE)-_xlfn.NORM.DIST(B35,$L$30,$M$30,TRUE))*BRLRWT!$H$10/100,(_xlfn.NORM.DIST(C35,$L$30,$M$30,TRUE)-_xlfn.NORM.DIST(B35,$L$30,$M$30,TRUE))),\"\")","v":3.5262550792922842E-2},{"$f":"IF($L$31<>\"\",IF(INPUT!$H$10=1,(_xlfn.NORM.DIST(C35,$L$31,$M$31,TRUE)-_xlfn.NORM.DIST(B35,$L$31,$M$31,TRUE))*(1-BRLRWT!$H$10/100),(_xlfn.NORM.DIST(C35,$L$31,$M$31,TRUE)-_xlfn.NORM.DIST(B35,$L$31,$M$31,TRUE))),\"\")","v":8.0623538950608253E-5},3.534317433187345E-2,{"$f":"IF(D35<>\"\",D35*BRLRWT!$H$9*1000,\"\")","v":3526.2550792922843},{"$f":"IF(E35<>\"\",E35*BRLRWT!$H$9*1000,\"\")","v":8.0623538950608253},3534.3174331873452]
[null,0.72494278100625076,0.74248719765000082,{"$f":"IF($L$30<>\"\",IF(INPUT!$H$10=1,(_xlfn.NORM.DIST(C36,$L$30,$M$30,TRUE)-_xlfn.NORM.DIST(B36,$L$30,$M$30,TRUE))*BRLRWT!$H$10/100,(_xlfn.NORM.DIST(C36,$L$30,$M$30,TRUE)-_xlfn.NORM.DIST(B36,$L$30,$M$30,TRUE))),\"\")","v":2.3196412020841883E-2},{"$f":"IF($L$31<>\"\",IF(INPUT!$H$10=1,(_xlfn.NORM.DIST(C36,$L$31,$M$31,TRUE)-_xlfn.NORM.DIST(B36,$L$31,$M$31,TRUE))*(1-BRLRWT!$H$10/100),(_xlfn.NORM.DIST(C36,$L$31,$M$31,TRUE)-_xlfn.NORM.DIST(B36,$L$31,$M$31,TRUE))),\"\")","v":1.7342183087853957E-5},2.3213754203929737E-2,{"$f":"IF(D36<>\"\",D36*BRLRWT!$H$9*1000,\"\")","v":2319.6412020841885},{"$f":"IF(E36<>\"\",E36*BRLRWT!$H$9*1000,\"\")","v":1.7342183087853957},2321.3754203929739]
[null,0.74248719765000082,0.76003161429375088,{"$f":"IF($L$30<>\"\",IF(INPUT!$H$10=1,(_xlfn.NORM.DIST(C37,$L$30,$M$30,TRUE)-_xlfn.NORM.DIST(B37,$L$30,$M$30,TRUE))*BRLRWT!$H$10/100,(_xlfn.NORM.DIST(C37,$L$30,$M$30,TRUE)-_xlfn.NORM.DIST(B37,$L$30,$M$30,TRUE))),\"\")","v":1.3701230382026197E-2},{"$f":"IF($L$31<>\"\",IF(INPUT!$H$10=1,(_xlfn.NORM.DIST(C37,$L$31,$M$31,TRUE)-_xlfn.NORM.DIST(B37,$L$31,$M$31,TRUE))*(1-BRLRWT!$H$10/100),(_xlfn.NORM.DIST(C37,$L$31,$M$31,TRUE)-_xlfn.NORM.DIST(B37,$L$31,$M$31,TRUE))),\"\")","v":3.1950827990012698E-6},1.3704425464825198E-2,{"$f":"IF(D37<>\"\",D37*BRLRWT!$H$9*1000,\"\")","v":1370.1230382026197},{"$f":"IF(E37<>\"\",E37*BRLRWT!$H$9*1000,\"\")","v":0.31950827990012698},1370.4425464825199]
[null,0.76003161429375088,0.77757603093750094,{"$f":"IF($L$30<>\"\",IF(INPUT!$H$10=1,(_xlfn.NORM.DIST(C38,$L$30,$M$30,TRUE)-_xlfn.NORM.DIST(B38,$L$30,$M$30,TRUE))*BRLRWT!$H$10/100,(_xlfn.NORM.DIST(C38,$L$30,$M$30,TRUE)-_xlfn.NORM.DIST(B38,$L$30,$M$30,TRUE))),\"\")","v":7.2665389009834991E-3},{"$f":"IF($L$31<>\"\",IF(INPUT!$H$10=1,(_xlfn.NORM.DIST(C38,$L$31,$M$31,TRUE)-_xlfn.NORM.DIST(B38,$L$31,$M$31,TRUE))*(1-BRLRWT!$H$10/100),(_xlfn.NORM.DIST(C38,$L$31,$M$31,TRUE)-_xlfn.NORM.DIST(B38,$L$31,$M$31,TRUE))),\"\")","v":5.0417131286506489E-7},7.2670430722963641E-3,{"$f":"IF(D38<>\"\",D38*BRLRWT!$H$9*1000,\"\")","v":726.65389009834996},{"$f":"IF(E38<>\"\",E38*BRLRWT!$H$9*1000,\"\")","v":5.0417131286506489E-2},726.70430722963647]
[null,0.77757603093750094,0.795120447581251,{"$f":"IF($L$30<>\"\",IF(INPUT!$H$10=1,(_xlfn.NORM.DIST(C39,$L$30,$M$30,TRUE)-_xlfn.NORM.DIST(B39,$L$30,$M$30,TRUE))*BRLRWT!$H$10/100,(_xlfn.NORM.DIST(C39,$L$30,$M$30,TRUE)-_xlfn.NORM.DIST(B39,$L$30,$M$30,TRUE))),\"\")","v":3.4603662731382268E-3},{"$f":"IF($L$31<>\"\",IF(INPUT!$H$10=1,(_xlfn.NORM.DIST(C39,$L$31,$M$31,TRUE)-_xlfn.NORM.DIST(B39,$L$31,$M$31,TRUE))*(1-BRLRWT!$H$10/100),(_xlfn.NORM.DIST(C39,$L$31,$M$31,TRUE)-_xlfn.NORM.DIST(B39,$L$31,$M$31,TRUE))),\"\")","v":6.8135293518345463E-8},3.4604344084317451E-3,{"$f":"IF(D39<>\"\",D39*BRLRWT!$H$9*1000,\"\")","v":346.03662731382269},{"$f":"IF(E39<>\"\",E39*BRLRWT!$H$9*1000,\"\")","v":6.8135293518345463E-3},346.04344084317455]
[null,0.795120447581251,0.81266486422500106,{"$f":"IF($L$30<>\"\",IF(INPUT!$H$10=1,(_xlfn.NORM.DIST(C40,$L$30,$M$30,TRUE)-_xlfn.NORM.DIST(B40,$L$30,$M$30,TRUE))*BRLRWT!$H$10/100,(_xlfn.NORM.DIST(C40,$L$30,$M$30,TRUE)-_xlfn.NORM.DIST(B40,$L$30,$M$30,TRUE))),\"\")","v":1.479584189392813E-3},{"$f":"IF($L$31<>\"\",IF(INPUT!$H$10=1,(_xlfn.NORM.DIST(C40,$L$31,$M$31,TRUE)-_xlfn.NORM.DIST(B40,$L$31,$M$31,TRUE))*(1-BRLRWT!$H$10/100),(_xlfn.NORM.DIST(C40,$L$31,$M$31,TRUE)-_xlfn.NORM.DIST(B40,$L$31,$M$31,TRUE))),\"\")","v":7.885762709491928E-9},1.4795920751555225E-3,{"$f":"IF(D40<>\"\",D40*BRLRWT!$H$9*1000,\"\")","v":147.9584189392813},{"$f":"IF(E40<>\"\",E40*BRLRWT!$H$9*1000,\"\")","v":7.885762709491928E-4},147.95920751555224]
[null,0.81266486422500106,0.83020928086875112,{"$f":"IF($L$30<>\"\",IF(INPUT!$H$10=1,(_xlfn.NORM.DIST(C41,$L$30,$M$30,TRUE)-_xlfn.NORM.DIST(B41,$L$30,$M$30,TRUE))*BRLRWT!$H$10/100,(_xlfn.NORM.DIST(C41,$L$30,$M$30,TRUE)-_xlfn.NORM.DIST(B41,$L$30,$M$30,TRUE))),\"\")","v":5.6803712455461008E-4},{"$f":"IF($L$31<>\"\",IF(INPUT!$H$10=1,(_xlfn.NORM.DIST(C41,$L$31,$M$31,TRUE)-_xlfn.NORM.DIST(B41,$L$31,$M$31,TRUE))*(1-BRLRWT!$H$10/100),(_xlfn.NORM.DIST(C41,$L$31,$M$31,TRUE)-_xlfn.NORM.DIST(B41,$L$31,$M$31,TRUE))),\"\")","v":7.8157713634396941E-10},5.6803790613174643E-4,{"$f":"IF(D41<>\"\",D41*BRLRWT!$H$9*1000,\"\")","v":56.80371245546101},{"$f":"IF(E41<>\"\",E41*BRLRWT!$H$9*1000,\"\")","v":7.8157713634396941E-5},56.803790613174641]
[null,0.83020928086875112,0.84775369751250118,{"$f":"IF($L$30<>\"\",IF(INPUT!$H$10=1,(_xlfn.NORM.DIST(C42,$L$30,$M$30,TRUE)-_xlfn.NORM.DIST(B42,$L$30,$M$30,TRUE))*BRLRWT!$H$10/100,(_xlfn.NORM.DIST(C42,$L$30,$M$30,TRUE)-_xlfn.NORM.DIST(B42,$L$30,$M$30,TRUE))),\"\")","v":1.9580738233915262E-4},{"$f":"IF($L$31<>\"\",IF(INPUT!$H$10=1,(_xlfn.NORM.DIST(C42,$L$31,$M$31,TRUE)-_xlfn.NORM.DIST(B42,$L$31,$M$31,TRUE))*(1-BRLRWT!$H$10/100),(_xlfn.NORM.DIST(C42,$L$31,$M$31,TRUE)-_xlfn.NORM.DIST(B42,$L$31,$M$31,TRUE))),\"\")","v":6.6333827319908778E-11},1.9580744867297994E-4,{"$f":"IF(D42<>\"\",D42*BRLRWT!$H$9*1000,\"\")","v":19.580738233915262},{"$f":"IF(E42<>\"\",E42*BRLRWT!$H$9*1000,\"\")","v":6.6333827319908778E-6},19.580744867297994]
[null,0.84775369751250118,0.86529811415625124,{"$f":"IF($L$30<>\"\",IF(INPUT!$H$10=1,(_xlfn.NORM.DIST(C43,$L$30,$M$30,TRUE)-_xlfn.NORM.DIST(B43,$L$30,$M$30,TRUE))*BRLRWT!$H$10/100,(_xlfn.NORM.DIST(C43,$L$30,$M$30,TRUE)-_xlfn.NORM.DIST(B43,$L$30,$M$30,TRUE))),\"\")","v":6.0602730881431643E-5},{"$f":"IF($L$31<>\"\",IF(INPUT!$H$10=1,(_xlfn.NORM.DIST(C43,$L$31,$M$31,TRUE)-_xlfn.NORM.DIST(B43,$L$31,$M$31,TRUE))*(1-BRLRWT!$H$10/100),(_xlfn.NORM.DIST(C43,$L$31,$M$31,TRUE)-_xlfn.NORM.DIST(B43,$L$31,$M$31,TRUE))),\"\")","v":4.8207549063761235E-12},6.060273570218655E-5,{"$f":"IF(D43<>\"\",D43*BRLRWT!$H$9*1000,\"\")","v":6.0602730881431643},{"$f":"IF(E43<>\"\",E43*BRLRWT!$H$9*1000,\"\")","v":4.8207549063761235E-7},6.060273570218655]
[null,0.86529811415625124,0.8828425308000013,{"$f":"IF($L$30<>\"\",IF(INPUT!$H$10=1,(_xlfn.NORM.DIST(C44,$L$30,$M$30,TRUE)-_xlfn.NORM.DIST(B44,$L$30,$M$30,TRUE))*BRLRWT!$H$10/100,(_xlfn.NORM.DIST(C44,$L$30,$M$30,TRUE)-_xlfn.NORM.DIST(B44,$L$30,$M$30,TRUE))),\"\")","v":1.684074288166304E-5},{"$f":"IF($L$31<>\"\",IF(INPUT!$H$10=1,(_xlfn.NORM.DIST(C44,$L$31,$M$31,TRUE)-_xlfn.NORM.DIST(B44,$L$31,$M$31,TRUE))*(1-BRLRWT!$H$10/100),(_xlfn.NORM.DIST(C44,$L$31,$M$31,TRUE)-_xlfn.NORM.DIST(B44,$L$31,$M$31,TRUE))),\"\")","v":2.9992675010248604E-13},1.684074318158979E-5,{"$f":"IF(D44<>\"\",D44*BRLRWT!$H$9*1000,\"\")","v":1.684074288166304},{"$f":"IF(E44<>\"\",E44*BRLRWT!$H$9*1000,\"\")","v":2.9992675010248604E-8},1.684074318158979]
[null,0.8828425308000013,{"$f":"\"inf.\"","v":"inf."},{"$f":"IF($L$30<>\"\",IF(INPUT!$H$10=1,(1-_xlfn.NORM.DIST(B45,$L$30,$M$30,TRUE))*BRLRWT!$H$10/100,(1-_xlfn.NORM.DIST(B45,$L$30,$M$30,TRUE))),\"\")","v":5.3729358595600019E-6},{"$f":"IF($L$31<>\"\",IF(INPUT!$H$10=1,(1-_xlfn.NORM.DIST(B44,$L$31,$M$31,TRUE))*(1-BRLRWT!$H$10/100),(1-_xlfn.NORM.DIST(B44,$L$31,$M$31,TRUE))),\"\")","v":3.166911177743259E-13},5.3729361762511196E-6,{"$f":"IF(D45<>\"\",D45*BRLRWT!$H$9*1000,\"\")","v":0.53729358595600019},{"$f":"IF(E45<>\"\",E45*BRLRWT!$H$9*1000,\"\")","v":3.166911177743259E-8},0.53729361762511196]
[null,"Total",null,{"$f":"SUM(D12:D45)","v":0.5},0.50000000000029998,1.0000000000002998,50000.000000000007,50000.000000029984,100000.00000003001]

{"sheet":"Breed","index":10,"n_rows":13,"n_cols":1,"rows_kept":13,"cut":false,"hidden":true,"merged":[]}
[1]
["Efficiency Pro x Ross 308"]
["Efficiency Pro x Ross 308AP"]
["Efficiency Pro x Ross 308FF"]
["Efficiency Pro x Ross 708"]
["Ross x Ross 308"]
["Ross x Ross 308AP"]
["Ross x Ross 308FF"]
["Ross x Ross 708"]
["Yield Plus x Ross 308"]
["Yield Plus x Ross 308AP"]
["Yield Plus x Ross 308FF"]
["Yield Plus x Ross 708"]

{"sheet":"Historical_Data","index":11,"n_rows":73,"n_cols":3,"rows_kept":73,"cut":false,"hidden":true,"merged":[[0,0,0,2]]}
[308]
["Age","AH Wt","Male Ratio"]
[0,43,1]
[1,57.330275,0.99988653464508936]
[2,72.92043000000001,0.99948724932093769]
[3,90.712415000000021,0.99945062646606864]
[4,110.98648500000002,0.99975713259141408]
[5,133.94364000000002,1.0003751577902464]
[6,159.74865,1.0012726868114379]
[7,188.539965,1.0024197257064305]
[8,220.43239500000001,1.0037885311730155]
[9,255.51776999999998,1.0053535611241442]
[10,293.86507500000005,1.0070915027925655]
[11,335.52050000000003,1.0089807925298155]
[12,380.50773500000003,1.0110016028977704]
[13,428.82841000000008,1.013135626904943]
[14,480.46292,1.0153659516534594]
[15,535.37136499999997,1.0176768606217854]
[16,593.49482999999998,1.0200538225413016]
[17,654.75675000000001,1.022483326823282]
[18,719.0644850000001,1.0249528455017494]
[19,786.31097,1.0274507552654391]
[20,856.37644499999988,1.0299662550854023]
[21,929.13020000000006,1.0324893432588889]
[22,1004.43233,1.0350107507989115]
[23,1082.135475,1.0375219147122037]
[24,1162.0864299999998,1.0400149582677771]
[25,1244.12779,1.0424826214998382]
[26,1328.0993800000001,1.044918272606979]
[27,1413.8396549999998,1.0473158641175615]
[28,1501.1869550000001,1.0496699126991813]
[29,1589.98062,1.0519755014372438]
[30,1680.0619999999999,1.0542282308629087]
[31,1771.27531,1.0564242269034958]
[32,1863.4683500000001,1.0585601306295327]
[33,1956.4931649999999,1.0606330689634687]
[34,2050.2064799999998,1.0626406614420614]
[35,2144.4700750000002,1.0645810014392483]
[36,2239.1510900000003,1.066452648356123]
[37,2334.122155,1.068254626116601]
[38,2429.2614650000005,1.0699864166330073]
[39,2524.4527699999999,1.0716479358019444]
[40,2619.5853050000001,1.0732395561365389]
[41,2714.5536250000005,1.074762072530433]
[42,2809.257415,1.0762167125934239]
[43,2903.6012350000001,1.0776051209387227]
[44,2997.4942350000001,1.0789293511351825]
[45,3090.849835,1.0801918625076137]
[46,3183.5854300000001,1.0813955038109344]
[47,3275.621995,1.0825434941555276]
[48,3366.8837899999999,1.0836394267115468]
[49,3457.297975,1.084687228904532]
[50,3546.7943450000002,1.0856911609291517]
[51,3635.3049599999999,1.0866557808674187]
[52,3722.7639200000003,1.0875859299721591]
[53,3809.10709,1.0884866904595218]
[54,3894.2719200000001,1.0893633642306109]
[55,3978.1972749999995,1.0902214269904451]
[56,4060.8233099999998,1.0910664985322889]
[57,4142.0914300000004,1.0919042846912725]
[58,4221.9442950000002,1.0927405426603336]
[59,4300.325855,1.0935810235245533]
[60,4377.1814650000006,1.0944314208366959]
[61,4452.4580549999991,1.0952973076351644]
[62,4526.1043500000005,1.0961840904087861]
[63,4598.0711449999999,1.0970969349801132]
[64,4668.3115750000006,1.0980407172158386]
[65,4736.7815449999998,1.0990199570202048]
[66,4803.4400100000003,1.1000387615957754]
[67,4868.2494500000003,1.1011007745299495]
[68,4931.1762250000002,1.1022091164466548]
[69,4992.190990000001,1.1033663437624208]
[70,5051.2690849999999,1.1045744061761857]